Workbook

Sheet Rekapitulace stavby
A1: Export Komplet | AZ1: VZ | BA1: 2.0 | BB1: ZAMOK | BT1: False | BU1: False | BV1: {9f89d916-43e9-4840-afde-b3596946cf68}
BS2: 0,01 | BT2: 21
BS3: 0,01 | BT3: 12
D4: REKAPITULACE STAVBY | AS4: v --- níže se nacházejí doplnkové a pomocné údaje k sestavám --- v | BE4: Návod na vyplnění | BS4: 0,001
D5: Kód: | K5: 24-SO051 | BE5: Měnit lze pouze buňky se žlutým podbarvením!_x000D_ _x000D_ 1) v Rekapitulaci stavby vyplňte údaje o Uchazeči (přenesou se do ostatních sestav i v jiných listech)_x000D_ _x000D_ 2) na vybraných listech vyplňte v sestavě Soupis prací ceny u položek | BS5: 0,01
D6: Stavba: | K6: Regenerace veřejného prostranství Holasice | BS6: 0,01
D7: KSO: | AK7: CC-CZ: | BS7: 0,01
D8: Místo: | K8: Holasice | AK8: Datum: | AN8: 4. 6. 2024 | BS8: 0,01
BS9: 0,01
D10: Zadavatel: | AK10: IČ: | BS10: 0,01
E11: Obec Holasice | AK11: DIČ: | BS11: 0,01
BS12: 0,01
D13: Uchazeč: | AK13: IČ: | AN13: Vyplň údaj | BS13: 0,01
E14: Vyplň údaj | AK14: DIČ: | AN14: Vyplň údaj | BS14: 0,01
BS15: False
D16: Projektant: | AK16: IČ: | BS16: False
E17: ARCHITEKTI A90 S.R.O. | AK17: DIČ: | BS17: True
BS18: 0,01
D19: Zpracovatel: | AK19: IČ: | BS19: 0,01
AK20: DIČ: | BS20: True
D22: Poznámka:
E23: Soupis prací je sestaven s využitím Cenové soustavy ÚRS. Položky, které pochází z této cenové soustavy, jsou ve sloupci 'Cenová soustava' označeny popisem 'CS ÚRS' a úrovní příslušného kalendářního pololetí. Veškeré další informace vymezující popis a podmínky použití těchto položek z Cenové soustavy, které nejsou uvedeny přímo v soupisu prací, jsou neomezeně dálkově k dispozici na webu podminky.urs.cz.
D26: Cena bez DPH | AK26: =ROUND(AG54,2) -> 0
L28: Sazba daně | W28: Základ daně | AK28: Výše daně
D29: DPH | F29: základní | L29: 0.21 | W29: =ROUND(AZ54, 2) -> 0 | AK29: =ROUND(AV54, 2) -> 0
F30: snížená | L30: 0.12 | W30: =ROUND(BA54, 2) -> 0 | AK30: =ROUND(AW54, 2) -> 0
F31: zákl. přenesená | L31: 0.21 | W31: =ROUND(BB54, 2) -> 0 | AK31: 0
F32: sníž. přenesená | L32: 0.12 | W32: =ROUND(BC54, 2) -> 0 | AK32: 0
F33: nulová | L33: 0 | W33: =ROUND(BD54, 2) -> 0 | AK33: 0
D35: Cena s DPH | T35: v | X35: CZK | AK35: =SUM(AK26:AK33) -> 0
C42: REKAPITULACE OBJEKTŮ STAVBY A SOUPISŮ PRACÍ
C44: Kód: | L44: =K5 -> 24-SO051
C45: Stavba: | L45: =K6 -> Regenerace veřejného prostranství Holasice
C47: Místo: | L47: =IF(K8="","",K8) -> Holasice | AI47: Datum: | AM47: =IF(AN8= "","",AN8) -> 4. 6. 2024
C49: Zadavatel: | L49: =IF(E11= "","",E11) -> Obec Holasice | AI49: Projektant: | AM49: =IF(E17="","",E17) -> ARCHITEKTI A90 S.R.O. | AS49: Informatívní údaje z listů zakázek
C50: Uchazeč: | L50: =IF(E14= "Vyplň údaj","",E14) | AI50: Zpracovatel: | AM50: =IF(E20="","",E20)
C52: Kód | I52: Popis | AG52: Cena bez DPH [CZK] | AN52: Cena s DPH [CZK] | AQ52: Typ | AS52: z toho Ostat._x000D_ náklady [CZK] | AT52: DPH [CZK] | AU52: Normohodiny [h] | AV52: DPH základní [CZK] | AW52: DPH snížená [CZK] | AX52: DPH základní přenesená_x000D_ [CZK] | AY52: DPH snížená přenesená_x000D_ [CZK] | AZ52: Základna_x000D_ DPH základní | BA52: Základna_x000D_ DPH snížená | BB52: Základna_x000D_ DPH zákl. přenesená | BC52: Základna_x000D_ DPH sníž. přenesená | BD52: Základna_x000D_ DPH nulová
C54: Náklady stavby celkem | AG54: =ROUND(AG55,2) -> 0 | AN54: =SUM(AG54,AT54) -> 0 | AS54: =ROUND(AS55,2) -> 0 | AT54: =ROUND(SUM(AV54:AW54),2) -> 0 | AU54: =ROUND(AU55,5) -> 0 | AV54: =ROUND(AZ54*L29,2) -> 0 | AW54: =ROUND(BA54*L30,2) -> 0 | AX54: =ROUND(BB54*L29,2) -> 0 | AY54: =ROUND(BC54*L30,2) -> 0 | AZ54: =ROUND(AZ55,2) -> 0 | BA54: =ROUND(BA55,2) -> 0 | BB54: =ROUND(BB55,2) -> 0 | BC54: =ROUND(BC55,2) -> 0 | BD54: =ROUND(BD55,2) -> 0 | BS54: D | BT54: 0 | BU54: ###NOIMPORT### | BV54: IMPORT | BW54: {9f89d916-43e9-4840-afde-b3596946cf68} | BX54: {00000000-0000-0000-0000-000000000000}
D55: 22-SO003-02 | J55: Etapa 2 | AG55: =ROUND(SUM(AG56:AG60),2) -> 0 | AN55: =SUM(AG55,AT55) -> 0 | AQ55: STA | AS55: =ROUND(SUM(AS56:AS60),2) -> 0 | AT55: =ROUND(SUM(AV55:AW55),2) -> 0 | AU55: =ROUND(SUM(AU56:AU60),5) -> 0 | AV55: =ROUND(AZ55*L29,2) -> 0 | AW55: =ROUND(BA55*L30,2) -> 0 | AX55: =ROUND(BB55*L29,2) -> 0 | AY55: =ROUND(BC55*L30,2) -> 0 | AZ55: =ROUND(SUM(AZ56:AZ60),2) -> 0 | BA55: =ROUND(SUM(BA56:BA60),2) -> 0 | BB55: =ROUND(SUM(BB56:BB60),2) -> 0 | BC55: =ROUND(SUM(BC56:BC60),2) -> 0 | BD55: =ROUND(SUM(BD56:BD60),2) -> 0 | BS55: D | BT55: 1 | BU55: ###NOIMPORT### | BV55: IMPORT | BW55: {23c76370-a0e7-4739-ae82-4129fd3d6629} | BX55: {9f89d916-43e9-4840-afde-b3596946cf68} | CM55: 2
A56: / | E56: 22-SO051-02.1 | K56: D.2.1-D.2.3 Architektonicko-stavební a konstrukční řešení, PBŘ | AG56: ='22-SO051-02.1 - D.2.1-D.2...'!J32 -> 0 | AN56: =SUM(AG56,AT56) -> 0 | AQ56: Soupis | AS56: 0 | AT56: =ROUND(SUM(AV56:AW56),2) -> 0 | AU56: ='22-SO051-02.1 - D.2.1-D.2...'!P93 -> 0 | AV56: ='22-SO051-02.1 - D.2.1-D.2...'!J35 -> 0 | AW56: ='22-SO051-02.1 - D.2.1-D.2...'!J36 -> 0 | AX56: ='22-SO051-02.1 - D.2.1-D.2...'!J37 -> 0 | AY56: ='22-SO051-02.1 - D.2.1-D.2...'!J38 -> 0 | AZ56: ='22-SO051-02.1 - D.2.1-D.2...'!F35 -> 0 | BA56: ='22-SO051-02.1 - D.2.1-D.2...'!F36 -> 0 | BB56: ='22-SO051-02.1 - D.2.1-D.2...'!F37 -> 0 | BC56: ='22-SO051-02.1 - D.2.1-D.2...'!F38 -> 0 | BD56: ='22-SO051-02.1 - D.2.1-D.2...'!F39 -> 0 | BT56: 2 | BV56: IMPORT | BW56: {df0c69f9-1ffe-45bc-a349-5e5ee2ce1f7d} | BX56: {23c76370-a0e7-4739-ae82-4129fd3d6629}
...

Sheet 22-SO051-02.1 - D.2.1-D.2...
AT2: {df0c69f9-1ffe-45bc-a349-5e5ee2ce1f7d}
AT3: 2
D4: KRYCÍ LIST SOUPISU PRACÍ | M4: v --- níže se nacházejí doplnkové a pomocné údaje k sestavám --- v | AT4: False
D6: Stavba:
E7: ='Rekapitulace stavby'!K6 -> Regenerace veřejného prostranství Holasice
D8: Objekt:
E9: 22-SO003-02 - Etapa 2
D10: Soupis:
E11: 22-SO051-02.1 - D.2.1-D.2.3 Architektonicko-stavební a konstrukční řešení, PBŘ
D13: KSO: | I13: CC-CZ:
D14: Místo: | F14: Holasice | I14: Datum: | J14: ='Rekapitulace stavby'!AN8 -> 4. 6. 2024
D16: Zadavatel: | I16: IČ:
E17: Obec Holasice | I17: DIČ:
D19: Uchazeč: | I19: IČ: | J19: ='Rekapitulace stavby'!AN13 -> Vyplň údaj
E20: ='Rekapitulace stavby'!E14 -> Vyplň údaj | I20: DIČ: | J20: ='Rekapitulace stavby'!AN14 -> Vyplň údaj
D22: Projektant: | I22: IČ:
E23: ARCHITEKTI A90 S.R.O. | I23: DIČ:
D25: Zpracovatel: | I25: IČ:
E26: Votavová | I26: DIČ:
D28: Poznámka:
D32: Cena bez DPH | J32: =ROUND(J93, 2) -> 0
F34: Základ daně | I34: Sazba daně | J34: Výše daně
D35: DPH | E35: základní | F35: =ROUND((SUM(BE93:BE443)), 2) -> 0 | I35: 0.21 | J35: =ROUND(((SUM(BE93:BE443))*I35), 2) -> 0
E36: snížená | F36: =ROUND((SUM(BF93:BF443)), 2) -> 0 | I36: 0.12 | J36: =ROUND(((SUM(BF93:BF443))*I36), 2) -> 0
E37: zákl. přenesená | F37: =ROUND((SUM(BG93:BG443)), 2) -> 0 | I37: 0.21 | J37: =0 -> 0
E38: sníž. přenesená | F38: =ROUND((SUM(BH93:BH443)), 2) -> 0 | I38: 0.12 | J38: =0 -> 0
E39: nulová | F39: =ROUND((SUM(BI93:BI443)), 2) -> 0 | I39: 0 | J39: =0 -> 0
D41: Cena s DPH | G41: v | H41: CZK | J41: =SUM(J32:J39) -> 0
C47: REKAPITULACE ČLENĚNÍ SOUPISU PRACÍ
C49: Stavba:
E50: =E7 -> Regenerace veřejného prostranství Holasice
C51: Objekt:
E52: 22-SO003-02 - Etapa 2
C53: Soupis:
E54: =E11 -> 22-SO051-02.1 - D.2.1-D.2.3 Architektonicko-stavební a konstrukční řešení, PBŘ
C56: Místo: | F56: =F14 -> Holasice | I56: Datum: | J56: =IF(J14="","",J14) -> 4. 6. 2024
C58: Zadavatel: | F58: =E17 -> Obec Holasice | I58: Projektant: | J58: =E23 -> ARCHITEKTI A90 S.R.O.
C59: Uchazeč: | F59: =IF(E20="","",E20) -> Vyplň údaj | I59: Zpracovatel: | J59: =E26 -> Votavová
C61: Kód dílu - Popis | J61: Cena celkem [CZK]
C63: Náklady stavby celkem | J63: =J93 -> 0 | AU63: -1
...

Sheet 22-SO051-02.2 - D.2.4.1. ...
AT2: {f19495fd-da14-4805-b349-7d52fd1a0ae2}
AT3: 2
D4: KRYCÍ LIST SOUPISU PRACÍ | M4: v --- níže se nacházejí doplnkové a pomocné údaje k sestavám --- v | AT4: False
D6: Stavba:
E7: ='Rekapitulace stavby'!K6 -> Regenerace veřejného prostranství Holasice
D8: Objekt:
E9: 22-SO003-02 - Etapa 2
D10: Soupis:
E11: 22-SO051-02.2 - D.2.4.1. - El. rozvody NN+VO - část NN
D13: KSO: | I13: CC-CZ:
D14: Místo: | F14: Holasice | I14: Datum: | J14: ='Rekapitulace stavby'!AN8 -> 4. 6. 2024
D16: Zadavatel: | I16: IČ:
E17: Obec Holasice | I17: DIČ:
D19: Uchazeč: | I19: IČ: | J19: ='Rekapitulace stavby'!AN13 -> Vyplň údaj
E20: ='Rekapitulace stavby'!E14 -> Vyplň údaj | I20: DIČ: | J20: ='Rekapitulace stavby'!AN14 -> Vyplň údaj
D22: Projektant: | I22: IČ:
E23: ARCHITEKTI A90 S.R.O. | I23: DIČ:
D25: Zpracovatel: | I25: IČ:
E26: Ing. Müller | I26: DIČ:
D28: Poznámka:
D32: Cena bez DPH | J32: =ROUND(J92, 2) -> 0
F34: Základ daně | I34: Sazba daně | J34: Výše daně
D35: DPH | E35: základní | F35: =ROUND((SUM(BE92:BE265)), 2) -> 0 | I35: 0.21 | J35: =ROUND(((SUM(BE92:BE265))*I35), 2) -> 0
E36: snížená | F36: =ROUND((SUM(BF92:BF265)), 2) -> 0 | I36: 0.12 | J36: =ROUND(((SUM(BF92:BF265))*I36), 2) -> 0
E37: zákl. přenesená | F37: =ROUND((SUM(BG92:BG265)), 2) -> 0 | I37: 0.21 | J37: =0 -> 0
E38: sníž. přenesená | F38: =ROUND((SUM(BH92:BH265)), 2) -> 0 | I38: 0.12 | J38: =0 -> 0
E39: nulová | F39: =ROUND((SUM(BI92:BI265)), 2) -> 0 | I39: 0 | J39: =0 -> 0
D41: Cena s DPH | G41: v | H41: CZK | J41: =SUM(J32:J39) -> 0
C47: REKAPITULACE ČLENĚNÍ SOUPISU PRACÍ
C49: Stavba:
E50: =E7 -> Regenerace veřejného prostranství Holasice
C51: Objekt:
E52: 22-SO003-02 - Etapa 2
C53: Soupis:
E54: =E11 -> 22-SO051-02.2 - D.2.4.1. - El. rozvody NN+VO - část NN
C56: Místo: | F56: =F14 -> Holasice | I56: Datum: | J56: =IF(J14="","",J14) -> 4. 6. 2024
C58: Zadavatel: | F58: =E17 -> Obec Holasice | I58: Projektant: | J58: =E23 -> ARCHITEKTI A90 S.R.O.
C59: Uchazeč: | F59: =IF(E20="","",E20) -> Vyplň údaj | I59: Zpracovatel: | J59: =E26 -> Ing. Müller
C61: Kód dílu - Popis | J61: Cena celkem [CZK]
C63: Náklady stavby celkem | J63: =J92 -> 0 | AU63: -1
...

Sheet 22-SO051-02.3 - D.2.4.1. ...
AT2: {90611d13-fbe5-459b-9ddd-9f164c0e831d}
AT3: 2
D4: KRYCÍ LIST SOUPISU PRACÍ | M4: v --- níže se nacházejí doplnkové a pomocné údaje k sestavám --- v | AT4: False
D6: Stavba:
E7: ='Rekapitulace stavby'!K6 -> Regenerace veřejného prostranství Holasice
D8: Objekt:
E9: 22-SO003-02 - Etapa 2
D10: Soupis:
E11: 22-SO051-02.3 - D.2.4.1. - El. rozvody NN+VO - část VO
D13: KSO: | I13: CC-CZ:
D14: Místo: | F14: Holasice | I14: Datum: | J14: ='Rekapitulace stavby'!AN8 -> 4. 6. 2024
D16: Zadavatel: | I16: IČ:
E17: Obec Holasice | I17: DIČ:
D19: Uchazeč: | I19: IČ: | J19: ='Rekapitulace stavby'!AN13 -> Vyplň údaj
E20: ='Rekapitulace stavby'!E14 -> Vyplň údaj | I20: DIČ: | J20: ='Rekapitulace stavby'!AN14 -> Vyplň údaj
D22: Projektant: | I22: IČ:
E23: ARCHITEKTI A90 S.R.O. | I23: DIČ:
D25: Zpracovatel: | I25: IČ:
E26: Ing. Müller | I26: DIČ:
D28: Poznámka:
D32: Cena bez DPH | J32: =ROUND(J91, 2) -> 0
F34: Základ daně | I34: Sazba daně | J34: Výše daně
D35: DPH | E35: základní | F35: =ROUND((SUM(BE91:BE269)), 2) -> 0 | I35: 0.21 | J35: =ROUND(((SUM(BE91:BE269))*I35), 2) -> 0
E36: snížená | F36: =ROUND((SUM(BF91:BF269)), 2) -> 0 | I36: 0.12 | J36: =ROUND(((SUM(BF91:BF269))*I36), 2) -> 0
E37: zákl. přenesená | F37: =ROUND((SUM(BG91:BG269)), 2) -> 0 | I37: 0.21 | J37: =0 -> 0
E38: sníž. přenesená | F38: =ROUND((SUM(BH91:BH269)), 2) -> 0 | I38: 0.12 | J38: =0 -> 0
E39: nulová | F39: =ROUND((SUM(BI91:BI269)), 2) -> 0 | I39: 0 | J39: =0 -> 0
D41: Cena s DPH | G41: v | H41: CZK | J41: =SUM(J32:J39) -> 0
C47: REKAPITULACE ČLENĚNÍ SOUPISU PRACÍ
C49: Stavba:
E50: =E7 -> Regenerace veřejného prostranství Holasice
C51: Objekt:
E52: 22-SO003-02 - Etapa 2
C53: Soupis:
E54: =E11 -> 22-SO051-02.3 - D.2.4.1. - El. rozvody NN+VO - část VO
C56: Místo: | F56: =F14 -> Holasice | I56: Datum: | J56: =IF(J14="","",J14) -> 4. 6. 2024
C58: Zadavatel: | F58: =E17 -> Obec Holasice | I58: Projektant: | J58: =E23 -> ARCHITEKTI A90 S.R.O.
C59: Uchazeč: | F59: =IF(E20="","",E20) -> Vyplň údaj | I59: Zpracovatel: | J59: =E26 -> Ing. Müller
C61: Kód dílu - Popis | J61: Cena celkem [CZK]
C63: Náklady stavby celkem | J63: =J91 -> 0 | AU63: -1
...

Sheet 22-SO051-02.4 - D.2.5 Zah...
AT2: {4d8dfc58-5e94-4e4d-9524-9cc1c677da6f} | AZ2: cibuloviny | BA2: počet vysazených cibulovin | BB2: ks | BC2: 1020 | BD2: 3
AT3: 2 | AZ3: keře | BA3: počet keřů celkem | BB3: ks | BC3: 119 | BD3: 3
D4: KRYCÍ LIST SOUPISU PRACÍ | M4: v --- níže se nacházejí doplnkové a pomocné údaje k sestavám --- v | AT4: False | AZ4: obrubník_ocel | BA4: délky ocelových obrubníků u štěrkových ploch kolem záhonů | BB4: m | BC4: 30 | BD4: 3
AZ5: pl_keře_skup | BA5: plocha navržených keřů ve skupinách | BB5: m2 | BC5: 70 | BD5: 3
D6: Stavba: | AZ6: pl_trv_mulc | BA6: plocha trvalkových záhonů mulčovaných borkou - A, B, C | BB6: m2 | BC6: 15 | BD6: 3
E7: ='Rekapitulace stavby'!K6 -> Regenerace veřejného prostranství Holasice | AZ7: pl_trv_štěrk | BA7: plocha trvalkových záhonů mulčovaných štěrkem - D | BB7: m2 | BC7: 40 | BD7: 3
D8: Objekt: | AZ8: stromy | BA8: navržené stromy | BB8: ks | BC8: 7 | BD8: 3
E9: 22-SO003-02 - Etapa 2 | AZ9: stromy_jehl | BA9: navržené jehličnaté stromy | BB9: ks | BC9: 1 | BD9: 3
D10: Soupis: | AZ10: stromy_list | BA10: navržené listnaté stromy | BB10: ks | BC10: 6 | BD10: 3
E11: 22-SO051-02.4 - D.2.5 Zahradní a sadové úpravy | AZ11: trávník | BA11: plocha založeného parkového trávníku celkem | BB11: m2 | BC11: 500 | BD11: 3
AZ12: trvalky | BA12: počet trvalek včetně trav | BB12: ks | BC12: 495 | BD12: 3
D13: KSO: | I13: CC-CZ:
D14: Místo: | F14: Holasice | I14: Datum: | J14: ='Rekapitulace stavby'!AN8 -> 4. 6. 2024
D16: Zadavatel: | I16: IČ:
E17: Obec Holasice | I17: DIČ:
D19: Uchazeč: | I19: IČ: | J19: ='Rekapitulace stavby'!AN13 -> Vyplň údaj
E20: ='Rekapitulace stavby'!E14 -> Vyplň údaj | I20: DIČ: | J20: ='Rekapitulace stavby'!AN14 -> Vyplň údaj
D22: Projektant: | I22: IČ:
E23: ARCHITEKTI A90 S.R.O. | I23: DIČ:
D25: Zpracovatel: | I25: IČ:
E26: Ing. Lenka Požárová | I26: DIČ:
D28: Poznámka:
D32: Cena bez DPH | J32: =ROUND(J105, 2) -> 0
F34: Základ daně | I34: Sazba daně | J34: Výše daně
D35: DPH | E35: základní | F35: =ROUND((SUM(BE105:BE770)), 2) -> 0 | I35: 0.21 | J35: =ROUND(((SUM(BE105:BE770))*I35), 2) -> 0
E36: snížená | F36: =ROUND((SUM(BF105:BF770)), 2) -> 0 | I36: 0.12 | J36: =ROUND(((SUM(BF105:BF770))*I36), 2) -> 0
E37: zákl. přenesená | F37: =ROUND((SUM(BG105:BG770)), 2) -> 0 | I37: 0.21 | J37: =0 -> 0
E38: sníž. přenesená | F38: =ROUND((SUM(BH105:BH770)), 2) -> 0 | I38: 0.12 | J38: =0 -> 0
E39: nulová | F39: =ROUND((SUM(BI105:BI770)), 2) -> 0 | I39: 0 | J39: =0 -> 0
D41: Cena s DPH | G41: v | H41: CZK | J41: =SUM(J32:J39) -> 0
C47: REKAPITULACE ČLENĚNÍ SOUPISU PRACÍ
C49: Stavba:
E50: =E7 -> Regenerace veřejného prostranství Holasice
C51: Objekt:
E52: 22-SO003-02 - Etapa 2
C53: Soupis:
E54: =E11 -> 22-SO051-02.4 - D.2.5 Zahradní a sadové úpravy
C56: Místo: | F56: =F14 -> Holasice | I56: Datum: | J56: =IF(J14="","",J14) -> 4. 6. 2024
C58: Zadavatel: | F58: =E17 -> Obec Holasice | I58: Projektant: | J58: =E23 -> ARCHITEKTI A90 S.R.O.
C59: Uchazeč: | F59: =IF(E20="","",E20) -> Vyplň údaj | I59: Zpracovatel: | J59: =E26 -> Ing. Lenka Požárová
...

Sheet 22-SO051-02.5 - Vedlejší ...
AT2: {cb88a8fc-6f1a-4cc0-b95c-a1899d85d155}
AT3: 2
D4: KRYCÍ LIST SOUPISU PRACÍ | M4: v --- níže se nacházejí doplnkové a pomocné údaje k sestavám --- v | AT4: False
D6: Stavba:
E7: ='Rekapitulace stavby'!K6 -> Regenerace veřejného prostranství Holasice
D8: Objekt:
E9: 22-SO003-02 - Etapa 2
D10: Soupis:
E11: 22-SO051-02.5 - Vedlejší a ostatní náklady
D13: KSO: | I13: CC-CZ:
D14: Místo: | F14: Holasice | I14: Datum: | J14: ='Rekapitulace stavby'!AN8 -> 4. 6. 2024
D16: Zadavatel: | I16: IČ:
E17: Obec Holasice | I17: DIČ:
D19: Uchazeč: | I19: IČ: | J19: ='Rekapitulace stavby'!AN13 -> Vyplň údaj
E20: ='Rekapitulace stavby'!E14 -> Vyplň údaj | I20: DIČ: | J20: ='Rekapitulace stavby'!AN14 -> Vyplň údaj
D22: Projektant: | I22: IČ:
E23: ARCHITEKTI A90 S.R.O. | I23: DIČ:
D25: Zpracovatel: | I25: IČ:
E26: Votavová | I26: DIČ:
D28: Poznámka:
D32: Cena bez DPH | J32: =ROUND(J89, 2) -> 0
F34: Základ daně | I34: Sazba daně | J34: Výše daně
D35: DPH | E35: základní | F35: =ROUND((SUM(BE89:BE114)), 2) -> 0 | I35: 0.21 | J35: =ROUND(((SUM(BE89:BE114))*I35), 2) -> 0
E36: snížená | F36: =ROUND((SUM(BF89:BF114)), 2) -> 0 | I36: 0.12 | J36: =ROUND(((SUM(BF89:BF114))*I36), 2) -> 0
E37: zákl. přenesená | F37: =ROUND((SUM(BG89:BG114)), 2) -> 0 | I37: 0.21 | J37: =0 -> 0
E38: sníž. přenesená | F38: =ROUND((SUM(BH89:BH114)), 2) -> 0 | I38: 0.12 | J38: =0 -> 0
E39: nulová | F39: =ROUND((SUM(BI89:BI114)), 2) -> 0 | I39: 0 | J39: =0 -> 0
D41: Cena s DPH | G41: v | H41: CZK | J41: =SUM(J32:J39) -> 0
C47: REKAPITULACE ČLENĚNÍ SOUPISU PRACÍ
C49: Stavba:
E50: =E7 -> Regenerace veřejného prostranství Holasice
C51: Objekt:
E52: 22-SO003-02 - Etapa 2
C53: Soupis:
E54: =E11 -> 22-SO051-02.5 - Vedlejší a ostatní náklady
C56: Místo: | F56: =F14 -> Holasice | I56: Datum: | J56: =IF(J14="","",J14) -> 4. 6. 2024
C58: Zadavatel: | F58: =E17 -> Obec Holasice | I58: Projektant: | J58: =E23 -> ARCHITEKTI A90 S.R.O.
C59: Uchazeč: | F59: =IF(E20="","",E20) -> Vyplň údaj | I59: Zpracovatel: | J59: =E26 -> Votavová
C61: Kód dílu - Popis | J61: Cena celkem [CZK]
C63: Náklady stavby celkem | J63: =J89 -> 0 | AU63: -1
...

Sheet Seznam figur
C4: SEZNAM FIGUR
C5: Kód: | D5: 24-SO051
C6: Stavba: | D6: Regenerace veřejného prostranství Holasice
C7: Datum: | D7: ='Rekapitulace stavby'!AN8 -> 4. 6. 2024
C9: Kód | D9: Popis | E9: MJ | F9: Výměra
C10: 22-SO003-02/ 22-SO051-02.4 | D10: D.2.5 Zahradní a sadové úpravy
C11: bioodpad_drn | D11: bioodpad_drn | F11: 36
C12: bioodpad_drn | D12: "plocha keřů a trvalek"11+25 | F12: 36
C13: Použití figury:
C14: 111301111 | D14: Sejmutí drnu tl do 100 mm s přemístěním do 50 m nebo naložením na dopravní prostředek | E14: m2 | F14: 36
C15: 997221658 | D15: Poplatek za uložení na skládce (skládkovné) z rostlinných pletiv kód odpadu 02 01 03 | E15: t | F15: 1.98
C16: bioodpad_kaceni | D16: bioodpad_kaceni | F16: 0
C17: bioodpad_kaceni | D17: "objem nadrcených korun, přepočteno na 1prmskácení_objem_korun*0,35" | F17: 0
C18: bioodpad_pokos | D18: bioodpad_pokos | F18: 90
C19: bioodpad_pokos | D19: "množství pokosené trávy v m3"pokos_park*0,3*0,1 | F19: 90
C20: Použití figury:
C21: 997221658 | D21: Poplatek za uložení na skládce (skládkovné) z rostlinných pletiv kód odpadu 02 01 03 | E21: t | F21: 9
C22: 997221658 | D22: Poplatek za uložení na skládce (skládkovné) z rostlinných pletiv kód odpadu 02 01 03 | E22: t | F22: 9
C23: 997221658 | D23: Poplatek za uložení na skládce (skládkovné) z rostlinných pletiv kód odpadu 02 01 03 | E23: t | F23: 9
C24: 997221658 | D24: Poplatek za uložení na skládce (skládkovné) z rostlinných pletiv kód odpadu 02 01 03 | E24: t | F24: 9
C25: cibuloviny | D25: počet vysazených cibulovin | E25: ks | F25: 1020
C26: Použití figury:
C27: 183111111 | D27: Hloubení jamek bez výměny půdy zeminy skupiny 1 až 4 obj do 0,002 m3 v rovině a svahu do 1:5 | E27: kus | F27: 1515
C28: 183211313 | D28: Výsadba cibulí nebo hlíz | E28: kus | F28: 1020
C29: keře | D29: počet keřů celkem | E29: ks | F29: 119
C30: Použití figury:
C31: 183111113 | D31: Hloubení jamek bez výměny půdy zeminy skupiny 1 až 4 obj přes 0,005 do 0,01 m3 v rovině a svahu do 1:5 | E31: kus | F31: 119
C32: 184102111 | D32: Výsadba dřeviny s balem D přes 0,1 do 0,2 m do jamky se zalitím v rovině a svahu do 1:5 | E32: kus | F32: 119
C33: obrubník_ocel | D33: délky ocelových obrubníků u štěrkových ploch kolem záhonů | E33: m | F33: 30
C34: Použití figury:
C35: R-1018 | D35: Ocelová samofixační obruba, ocelový pozink. plech 2000x200x2mm, s vrchním lemem | E35: m | F35: 31.5
C36: R-916371214 | D36: Osazení ocelové pásoviny zarytím včetně začištění | E36: m | F36: 30
C37: pl_keře_skup | D37: plocha navržených keřů ve skupinách | E37: m2 | F37: 70
C38: Použití figury:
C39: 181351003 | D39: Rozprostření ornice tl vrstvy do 200 mm pl do 100 m2 v rovině nebo ve svahu do 1:5 strojně | E39: m2 | F39: 70
C40: 183403114 | D40: Obdělání půdy kultivátorováním v rovině a svahu do 1:5 | E40: m2 | F40: 70
C41: 183403153 | D41: Obdělání půdy hrabáním v rovině a svahu do 1:5 | E41: m2 | F41: 70
C42: 184802111 | D42: Chemické odplevelení před založením kultury nad 20 m2 postřikem na široko v rovině a svahu do 1:5 | E42: m2 | F42: 140
C43: 184911421 | D43: Mulčování rostlin kůrou tl do 0,1 m v rovině a svahu do 1:5 | E43: m2 | F43: 77
C44: 184911421 | D44: Mulčování rostlin kůrou tl do 0,1 m v rovině a svahu do 1:5 | E44: m2 | F44: 92
...

Sheet Pokyny pro vyplnění
C3: Struktura údajů, formát souboru a metodika pro zpracování
C4: Struktura
C6: Soubor je složen ze záložky Rekapitulace stavby a záložek s názvem soupisu prací pro jednotlivé objekty ve formátu XLSX. Každá ze záložek přitom obsahuje
C7: ještě samostatné sestavy vymezené orámovaním a nadpisem sestavy.
C9: Rekapitulace stavby obsahuje sestavu Rekapitulace stavby a Rekapitulace objektů stavby a soupisů prací.
D10: V sestavě Rekapitulace stavby jsou uvedeny informace identifikující předmět veřejné zakázky na stavební práce, KSO, CC-CZ, CZ-CPV, CZ-CPA a rekapitulaci
D11: celkové nabídkové ceny uchazeče.
D13: Termínem "uchazeč" (resp. zhotovitel) se myslí "účastník zadávacího řízení" ve smyslu zákona o zadávání veřejných zakázek.
D15: V sestavě Rekapitulace objektů stavby a soupisů prací je uvedena rekapitulace stavebních objektů, inženýrských objektů, provozních souborů,
D16: vedlejších a ostatních nákladů a ostatních nákladů s rekapitulací nabídkové ceny za jednotlivé soupisy prací. Na základě údaje Typ je možné
D17: identifikovat, zda se jedná o objekt nebo soupis prací pro daný objekt:
E18: STA | F18: Stavební objekt pozemní
E19: ING | F19: Stavební objekt inženýrský
E20: PRO | F20: Provozní soubor
E21: VON | F21: Vedlejší a ostatní náklady
E22: OST | F22: Ostatní
E23: Soupis | F23: Soupis prací pro daný typ objektu
C25: Soupis prací pro jednotlivé objekty obsahuje sestavy Krycí list soupisu prací, Rekapitulace členění soupisu prací, Soupis prací. Za soupis prací může být považován
C26: i objekt stavby v případě, že neobsahuje podřízenou zakázku.
D27: Krycí list soupisu obsahuje rekapitulaci informací o předmětu veřejné zakázky ze sestavy Rekapitulace stavby, informaci o zařazení objektu do KSO,
D28: CC-CZ, CZ-CPV, CZ-CPA a rekapitulaci celkové nabídkové ceny uchazeče za aktuální soupis prací.
D30: Rekapitulace členění soupisu prací obsahuje rekapitulaci soupisu prací ve všech úrovních členění soupisu tak, jak byla tato členění použita (např.
D31: stavební díly, funkční díly, případně jiné členění) s rekapitulací nabídkové ceny.
D33: Soupis prací obsahuje položky veškerých stavebních nebo montážních prací, dodávek materiálů a služeb nezbytných pro zhotovení stavebního objektu,
D34: inženýrského objektu, provozního souboru, vedlejších a ostatních nákladů.
D35: Pro položky soupisu prací se zobrazují následující informace:
E36: PČ | G36: Pořadové číslo položky v aktuálním soupisu
E37: TYP | G37: Typ položky: K - konstrukce, M - materiál, PP - plný popis, PSC - poznámka k souboru cen, P - poznámka k položce, VV - výkaz výměr, FIG - rozpad figur
E38: Kód | G38: Kód položky
E39: Popis | G39: Zkrácený popis položky
E40: MJ | G40: Měrná jednotka položky
E41: Množství | G41: Množství v měrné jednotce
E42: J.cena | G42: Jednotková cena položky. Zadaní může obsahovat namísto J.ceny sloupce J.materiál a J.montáž, jejichž součet definuje
G43: J.cenu položky.
E44: Cena celkem | G44: Celková cena položky daná jako součin množství a j.ceny
E45: Cenová soustava | G45: Příslušnost položky do cenové soustavy
D47: Ke každé položce soupisu prací se na samostatných řádcích může zobrazovat:
E48: Plný popis položky
E49: Poznámka k souboru cen a poznámka zadavatele
E50: Výkaz výměr
...
