Workbook

Sheet Rekapitulace stavby
A1: Export Komplet | AZ1: VZ | BA1: 2.0 | BB1: ZAMOK | BT1: False | BU1: False | BV1: {9f89d916-43e9-4840-afde-b3596946cf68}
BS2: 0,01 | BT2: 21
BS3: 0,01 | BT3: 12
D4: REKAPITULACE STAVBY | AS4: v --- níže se nacházejí doplnkové a pomocné údaje k sestavám --- v | BE4: Návod na vyplnění | BS4: 0,001
D5: Kód: | K5: 24-SO051 | BE5: Měnit lze pouze buňky se žlutým podbarvením!_x000D_ _x000D_ 1) v Rekapitulaci stavby vyplňte údaje o Uchazeči (přenesou se do ostatních sestav i v jiných listech)_x000D_ _x000D_ 2) na vybraných listech vyplňte v sestavě Soupis prací ceny u položek | BS5: 0,01
D6: Stavba: | K6: Regenerace veřejného prostranství Holasice | BS6: 0,01
D7: KSO: | AK7: CC-CZ: | BS7: 0,01
D8: Místo: | K8: Holasice | AK8: Datum: | AN8: 4. 6. 2024 | BS8: 0,01
BS9: 0,01
D10: Zadavatel: | AK10: IČ: | BS10: 0,01
E11: Obec Holasice | AK11: DIČ: | BS11: 0,01
BS12: 0,01
D13: Uchazeč: | AK13: IČ: | AN13: Vyplň údaj | BS13: 0,01
E14: Vyplň údaj | AK14: DIČ: | AN14: Vyplň údaj | BS14: 0,01
BS15: False
D16: Projektant: | AK16: IČ: | BS16: False
E17: ARCHITEKTI A90 S.R.O. | AK17: DIČ: | BS17: True
BS18: 0,01
D19: Zpracovatel: | AK19: IČ: | BS19: 0,01
AK20: DIČ: | BS20: True
D22: Poznámka:
E23: Soupis prací je sestaven s využitím Cenové soustavy ÚRS. Položky, které pochází z této cenové soustavy, jsou ve sloupci 'Cenová soustava' označeny popisem 'CS ÚRS' a úrovní příslušného kalendářního pololetí. Veškeré další informace vymezující popis a podmínky použití těchto položek z Cenové soustavy, které nejsou uvedeny přímo v soupisu prací, jsou neomezeně dálkově k dispozici na webu podminky.urs.cz.
D26: Cena bez DPH | AK26: =ROUND(AG54,2) -> 0
L28: Sazba daně | W28: Základ daně | AK28: Výše daně
D29: DPH | F29: základní | L29: 0.21 | W29: =ROUND(AZ54, 2) -> 0 | AK29: =ROUND(AV54, 2) -> 0
F30: snížená | L30: 0.12 | W30: =ROUND(BA54, 2) -> 0 | AK30: =ROUND(AW54, 2) -> 0
F31: zákl. přenesená | L31: 0.21 | W31: =ROUND(BB54, 2) -> 0 | AK31: 0
F32: sníž. přenesená | L32: 0.12 | W32: =ROUND(BC54, 2) -> 0 | AK32: 0
F33: nulová | L33: 0 | W33: =ROUND(BD54, 2) -> 0 | AK33: 0
D35: Cena s DPH | T35: v | X35: CZK | AK35: =SUM(AK26:AK33) -> 0
C42: REKAPITULACE OBJEKTŮ STAVBY A SOUPISŮ PRACÍ
C44: Kód: | L44: =K5 -> 24-SO051
C45: Stavba: | L45: =K6 -> Regenerace veřejného prostranství Holasice
C47: Místo: | L47: =IF(K8="","",K8) -> Holasice | AI47: Datum: | AM47: =IF(AN8= "","",AN8) -> 4. 6. 2024
C49: Zadavatel: | L49: =IF(E11= "","",E11) -> Obec Holasice | AI49: Projektant: | AM49: =IF(E17="","",E17) -> ARCHITEKTI A90 S.R.O. | AS49: Informatívní údaje z listů zakázek
C50: Uchazeč: | L50: =IF(E14= "Vyplň údaj","",E14) | AI50: Zpracovatel: | AM50: =IF(E20="","",E20)
C52: Kód | I52: Popis | AG52: Cena bez DPH [CZK] | AN52: Cena s DPH [CZK] | AQ52: Typ | AS52: z toho Ostat._x000D_ náklady [CZK] | AT52: DPH [CZK] | AU52: Normohodiny [h] | AV52: DPH základní [CZK] | AW52: DPH snížená [CZK] | AX52: DPH základní přenesená_x000D_ [CZK] | AY52: DPH snížená přenesená_x000D_ [CZK] | AZ52: Základna_x000D_ DPH základní | BA52: Základna_x000D_ DPH snížená | BB52: Základna_x000D_ DPH zákl. přenesená | BC52: Základna_x000D_ DPH sníž. přenesená | BD52: Základna_x000D_ DPH nulová
C54: Náklady stavby celkem | AG54: =ROUND(AG55,2) -> 0 | AN54: =SUM(AG54,AT54) -> 0 | AS54: =ROUND(AS55,2) -> 0 | AT54: =ROUND(SUM(AV54:AW54),2) -> 0 | AU54: =ROUND(AU55,5) -> 0 | AV54: =ROUND(AZ54*L29,2) -> 0 | AW54: =ROUND(BA54*L30,2) -> 0 | AX54: =ROUND(BB54*L29,2) -> 0 | AY54: =ROUND(BC54*L30,2) -> 0 | AZ54: =ROUND(AZ55,2) -> 0 | BA54: =ROUND(BA55,2) -> 0 | BB54: =ROUND(BB55,2) -> 0 | BC54: =ROUND(BC55,2) -> 0 | BD54: =ROUND(BD55,2) -> 0 | BS54: D | BT54: 0 | BU54: ###NOIMPORT### | BV54: IMPORT | BW54: {9f89d916-43e9-4840-afde-b3596946cf68} | BX54: {00000000-0000-0000-0000-000000000000}
D55: 22-SO003-02 | J55: Etapa 2 | AG55: =ROUND(SUM(AG56:AG60),2) -> 0 | AN55: =SUM(AG55,AT55) -> 0 | AQ55: STA | AS55: =ROUND(SUM(AS56:AS60),2) -> 0 | AT55: =ROUND(SUM(AV55:AW55),2) -> 0 | AU55: =ROUND(SUM(AU56:AU60),5) -> 0 | AV55: =ROUND(AZ55*L29,2) -> 0 | AW55: =ROUND(BA55*L30,2) -> 0 | AX55: =ROUND(BB55*L29,2) -> 0 | AY55: =ROUND(BC55*L30,2) -> 0 | AZ55: =ROUND(SUM(AZ56:AZ60),2) -> 0 | BA55: =ROUND(SUM(BA56:BA60),2) -> 0 | BB55: =ROUND(SUM(BB56:BB60),2) -> 0 | BC55: =ROUND(SUM(BC56:BC60),2) -> 0 | BD55: =ROUND(SUM(BD56:BD60),2) -> 0 | BS55: D | BT55: 1 | BU55: ###NOIMPORT### | BV55: IMPORT | BW55: {23c76370-a0e7-4739-ae82-4129fd3d6629} | BX55: {9f89d916-43e9-4840-afde-b3596946cf68} | CM55: 2
A56: / | E56: 22-SO051-02.1 | K56: D.2.1-D.2.3 Architektonicko-stavební a konstrukční řešení, PBŘ | AG56: ='22-SO051-02.1 - D.2.1-D.2...'!J32 -> 0 | AN56: =SUM(AG56,AT56) -> 0 | AQ56: Soupis | AS56: 0 | AT56: =ROUND(SUM(AV56:AW56),2) -> 0 | AU56: ='22-SO051-02.1 - D.2.1-D.2...'!P93 -> 0 | AV56: ='22-SO051-02.1 - D.2.1-D.2...'!J35 -> 0 | AW56: ='22-SO051-02.1 - D.2.1-D.2...'!J36 -> 0 | AX56: ='22-SO051-02.1 - D.2.1-D.2...'!J37 -> 0 | AY56: ='22-SO051-02.1 - D.2.1-D.2...'!J38 -> 0 | AZ56: ='22-SO051-02.1 - D.2.1-D.2...'!F35 -> 0 | BA56: ='22-SO051-02.1 - D.2.1-D.2...'!F36 -> 0 | BB56: ='22-SO051-02.1 - D.2.1-D.2...'!F37 -> 0 | BC56: ='22-SO051-02.1 - D.2.1-D.2...'!F38 -> 0 | BD56: ='22-SO051-02.1 - D.2.1-D.2...'!F39 -> 0 | BT56: 2 | BV56: IMPORT | BW56: {df0c69f9-1ffe-45bc-a349-5e5ee2ce1f7d} | BX56: {23c76370-a0e7-4739-ae82-4129fd3d6629}
A57: / | E57: 22-SO051-02.2 | K57: D.2.4.1. - El. rozvody NN+VO - část NN | AG57: ='22-SO051-02.2 - D.2.4.1. ...'!J32 -> 0 | AN57: =SUM(AG57,AT57) -> 0 | AQ57: Soupis | AS57: 0 | AT57: =ROUND(SUM(AV57:AW57),2) -> 0 | AU57: ='22-SO051-02.2 - D.2.4.1. ...'!P92 -> 0 | AV57: ='22-SO051-02.2 - D.2.4.1. ...'!J35 -> 0 | AW57: ='22-SO051-02.2 - D.2.4.1. ...'!J36 -> 0 | AX57: ='22-SO051-02.2 - D.2.4.1. ...'!J37 -> 0 | AY57: ='22-SO051-02.2 - D.2.4.1. ...'!J38 -> 0 | AZ57: ='22-SO051-02.2 - D.2.4.1. ...'!F35 -> 0 | BA57: ='22-SO051-02.2 - D.2.4.1. ...'!F36 -> 0 | BB57: ='22-SO051-02.2 - D.2.4.1. ...'!F37 -> 0 | BC57: ='22-SO051-02.2 - D.2.4.1. ...'!F38 -> 0 | BD57: ='22-SO051-02.2 - D.2.4.1. ...'!F39 -> 0 | BT57: 2 | BV57: IMPORT | BW57: {f19495fd-da14-4805-b349-7d52fd1a0ae2} | BX57: {23c76370-a0e7-4739-ae82-4129fd3d6629}
A58: / | E58: 22-SO051-02.3 | K58: D.2.4.1. - El. rozvody NN+VO - část VO | AG58: ='22-SO051-02.3 - D.2.4.1. ...'!J32 -> 0 | AN58: =SUM(AG58,AT58) -> 0 | AQ58: Soupis | AS58: 0 | AT58: =ROUND(SUM(AV58:AW58),2) -> 0 | AU58: ='22-SO051-02.3 - D.2.4.1. ...'!P91 -> 0 | AV58: ='22-SO051-02.3 - D.2.4.1. ...'!J35 -> 0 | AW58: ='22-SO051-02.3 - D.2.4.1. ...'!J36 -> 0 | AX58: ='22-SO051-02.3 - D.2.4.1. ...'!J37 -> 0 | AY58: ='22-SO051-02.3 - D.2.4.1. ...'!J38 -> 0 | AZ58: ='22-SO051-02.3 - D.2.4.1. ...'!F35 -> 0 | BA58: ='22-SO051-02.3 - D.2.4.1. ...'!F36 -> 0 | BB58: ='22-SO051-02.3 - D.2.4.1. ...'!F37 -> 0 | BC58: ='22-SO051-02.3 - D.2.4.1. ...'!F38 -> 0 | BD58: ='22-SO051-02.3 - D.2.4.1. ...'!F39 -> 0 | BT58: 2 | BV58: IMPORT | BW58: {90611d13-fbe5-459b-9ddd-9f164c0e831d} | BX58: {23c76370-a0e7-4739-ae82-4129fd3d6629}
A59: / | E59: 22-SO051-02.4 | K59: D.2.5 Zahradní a sadové úpravy | AG59: ='22-SO051-02.4 - D.2.5 Zah...'!J32 -> 0 | AN59: =SUM(AG59,AT59) -> 0 | AQ59: Soupis | AS59: 0 | AT59: =ROUND(SUM(AV59:AW59),2) -> 0 | AU59: ='22-SO051-02.4 - D.2.5 Zah...'!P105 -> 0 | AV59: ='22-SO051-02.4 - D.2.5 Zah...'!J35 -> 0 | AW59: ='22-SO051-02.4 - D.2.5 Zah...'!J36 -> 0 | AX59: ='22-SO051-02.4 - D.2.5 Zah...'!J37 -> 0 | AY59: ='22-SO051-02.4 - D.2.5 Zah...'!J38 -> 0 | AZ59: ='22-SO051-02.4 - D.2.5 Zah...'!F35 -> 0 | BA59: ='22-SO051-02.4 - D.2.5 Zah...'!F36 -> 0 | BB59: ='22-SO051-02.4 - D.2.5 Zah...'!F37 -> 0 | BC59: ='22-SO051-02.4 - D.2.5 Zah...'!F38 -> 0 | BD59: ='22-SO051-02.4 - D.2.5 Zah...'!F39 -> 0 | BT59: 2 | BV59: IMPORT | BW59: {4d8dfc58-5e94-4e4d-9524-9cc1c677da6f} | BX59: {23c76370-a0e7-4739-ae82-4129fd3d6629}
A60: / | E60: 22-SO051-02.5 | K60: Vedlejší a ostatní náklady | AG60: ='22-SO051-02.5 - Vedlejší ...'!J32 -> 0 | AN60: =SUM(AG60,AT60) -> 0 | AQ60: Soupis | AS60: 0 | AT60: =ROUND(SUM(AV60:AW60),2) -> 0 | AU60: ='22-SO051-02.5 - Vedlejší ...'!P89 -> 0 | AV60: ='22-SO051-02.5 - Vedlejší ...'!J35 -> 0 | AW60: ='22-SO051-02.5 - Vedlejší ...'!J36 -> 0 | AX60: ='22-SO051-02.5 - Vedlejší ...'!J37 -> 0 | AY60: ='22-SO051-02.5 - Vedlejší ...'!J38 -> 0 | AZ60: ='22-SO051-02.5 - Vedlejší ...'!F35 -> 0 | BA60: ='22-SO051-02.5 - Vedlejší ...'!F36 -> 0 | BB60: ='22-SO051-02.5 - Vedlejší ...'!F37 -> 0 | BC60: ='22-SO051-02.5 - Vedlejší ...'!F38 -> 0 | BD60: ='22-SO051-02.5 - Vedlejší ...'!F39 -> 0 | BT60: 2 | BV60: IMPORT | BW60: {cb88a8fc-6f1a-4cc0-b95c-a1899d85d155} | BX60: {23c76370-a0e7-4739-ae82-4129fd3d6629}

Sheet 22-SO051-02.1 - D.2.1-D.2...
AT2: {df0c69f9-1ffe-45bc-a349-5e5ee2ce1f7d}
AT3: 2
D4: KRYCÍ LIST SOUPISU PRACÍ | M4: v --- níže se nacházejí doplnkové a pomocné údaje k sestavám --- v | AT4: False
D6: Stavba:
E7: ='Rekapitulace stavby'!K6 -> Regenerace veřejného prostranství Holasice
D8: Objekt:
E9: 22-SO003-02 - Etapa 2
D10: Soupis:
E11: 22-SO051-02.1 - D.2.1-D.2.3 Architektonicko-stavební a konstrukční řešení, PBŘ
D13: KSO: | I13: CC-CZ:
D14: Místo: | F14: Holasice | I14: Datum: | J14: ='Rekapitulace stavby'!AN8 -> 4. 6. 2024
D16: Zadavatel: | I16: IČ:
E17: Obec Holasice | I17: DIČ:
D19: Uchazeč: | I19: IČ: | J19: ='Rekapitulace stavby'!AN13 -> Vyplň údaj
E20: ='Rekapitulace stavby'!E14 -> Vyplň údaj | I20: DIČ: | J20: ='Rekapitulace stavby'!AN14 -> Vyplň údaj
D22: Projektant: | I22: IČ:
E23: ARCHITEKTI A90 S.R.O. | I23: DIČ:
D25: Zpracovatel: | I25: IČ:
E26: Votavová | I26: DIČ:
D28: Poznámka:
D32: Cena bez DPH | J32: =ROUND(J93, 2) -> 0
F34: Základ daně | I34: Sazba daně | J34: Výše daně
D35: DPH | E35: základní | F35: =ROUND((SUM(BE93:BE443)), 2) -> 0 | I35: 0.21 | J35: =ROUND(((SUM(BE93:BE443))*I35), 2) -> 0
E36: snížená | F36: =ROUND((SUM(BF93:BF443)), 2) -> 0 | I36: 0.12 | J36: =ROUND(((SUM(BF93:BF443))*I36), 2) -> 0
E37: zákl. přenesená | F37: =ROUND((SUM(BG93:BG443)), 2) -> 0 | I37: 0.21 | J37: =0 -> 0
E38: sníž. přenesená | F38: =ROUND((SUM(BH93:BH443)), 2) -> 0 | I38: 0.12 | J38: =0 -> 0
E39: nulová | F39: =ROUND((SUM(BI93:BI443)), 2) -> 0 | I39: 0 | J39: =0 -> 0
D41: Cena s DPH | G41: v | H41: CZK | J41: =SUM(J32:J39) -> 0
C47: REKAPITULACE ČLENĚNÍ SOUPISU PRACÍ
C49: Stavba:
E50: =E7 -> Regenerace veřejného prostranství Holasice
C51: Objekt:
E52: 22-SO003-02 - Etapa 2
C53: Soupis:
E54: =E11 -> 22-SO051-02.1 - D.2.1-D.2.3 Architektonicko-stavební a konstrukční řešení, PBŘ
C56: Místo: | F56: =F14 -> Holasice | I56: Datum: | J56: =IF(J14="","",J14) -> 4. 6. 2024
C58: Zadavatel: | F58: =E17 -> Obec Holasice | I58: Projektant: | J58: =E23 -> ARCHITEKTI A90 S.R.O.
C59: Uchazeč: | F59: =IF(E20="","",E20) -> Vyplň údaj | I59: Zpracovatel: | J59: =E26 -> Votavová
C61: Kód dílu - Popis | J61: Cena celkem [CZK]
C63: Náklady stavby celkem | J63: =J93 -> 0 | AU63: -1
D64: HSV - Práce a dodávky HSV | J64: =J94 -> 0
D65: 1 - Zemní práce | J65: =J95 -> 0
D66: 2 - Zakládání | J66: =J194 -> 0
D67: 5 - Komunikace pozemní | J67: =J230 -> 0
D68: 8 - Trubní vedení | J68: =J335 -> 0
D69: 9 - Ostatní konstrukce a práce, bourání | J69: =J340 -> 0
D70: 997 - Přesun sutě | J70: =J414 -> 0
D71: 998 - Přesun hmot | J71: =J440 -> 0
C78: SOUPIS PRACÍ
C80: Stavba:
E81: =E7 -> Regenerace veřejného prostranství Holasice
C82: Objekt:
E83: 22-SO003-02 - Etapa 2
C84: Soupis:
E85: =E11 -> 22-SO051-02.1 - D.2.1-D.2.3 Architektonicko-stavební a konstrukční řešení, PBŘ
C87: Místo: | F87: =F14 -> Holasice | I87: Datum: | J87: =IF(J14="","",J14) -> 4. 6. 2024
C89: Zadavatel: | F89: =E17 -> Obec Holasice | I89: Projektant: | J89: =E23 -> ARCHITEKTI A90 S.R.O.
C90: Uchazeč: | F90: =IF(E20="","",E20) -> Vyplň údaj | I90: Zpracovatel: | J90: =E26 -> Votavová
C92: PČ | D92: Typ | E92: Kód | F92: Popis | G92: MJ | H92: Množství | I92: J.cena [CZK] | J92: Cena celkem [CZK] | K92: Cenová soustava | N92: DPH | O92: J. Nh [h] | P92: Nh celkem [h] | Q92: J. hmotnost [t] | R92: Hmotnost celkem [t] | S92: J. suť [t] | T92: Suť Celkem [t]
C93: Náklady soupisu celkem | J93: =BK93 -> 0 | P93: =P94 -> 0 | R93: =R94 -> 475.94095 | T93: =T94 -> 251.173 | AT93: D | AU93: -1 | BK93: =BK94 -> 0
D94: D | E94: HSV | F94: Práce a dodávky HSV | J94: =BK94 -> 0 | P94: =P95+P194+P230+P335+P340+P414+P440 -> 0 | R94: =R95+R194+R230+R335+R340+R414+R440 -> 475.94095 | T94: =T95+T194+T230+T335+T340+T414+T440 -> 251.173 | AR94: 1 | AT94: D | AU94: 0 | AY94: ROZPOCET | BK94: =BK95+BK194+BK230+BK335+BK340+BK414+BK440 -> 0
D95: D | E95: 1 | F95: Zemní práce | J95: =BK95 -> 0 | P95: =SUM(P96:P193) -> 0 | R95: =SUM(R96:R193) -> 0 | T95: =SUM(T96:T193) -> 213.518 | AR95: 1 | AT95: D | AU95: 1 | AY95: ROZPOCET | BK95: =SUM(BK96:BK193) -> 0
C96: 1 | D96: K | E96: 113106134 | F96: Rozebrání dlažeb ze zámkových dlaždic komunikací pro pěší strojně pl do 50 m2 | G96: m2 | H96: 33 | J96: =ROUND(I96*H96,2) -> 0 | K96: CS ÚRS 2024 01 | N96: základní | P96: =O96*H96 -> 0 | Q96: 0 | R96: =Q96*H96 -> 0 | S96: 0.26 | T96: =S96*H96 -> 8.58 | AR96: 4 | AT96: K | AU96: 2 | AY96: ROZPOCET | BE96: =IF(N96="základní",J96,0) -> 0 | BF96: =IF(N96="snížená",J96,0) -> 0 | BG96: =IF(N96="zákl. přenesená",J96,0) -> 0 | BH96: =IF(N96="sníž. přenesená",J96,0) -> 0 | BI96: =IF(N96="nulová",J96,0) -> 0 | BJ96: 1 | BK96: =ROUND(I96*H96,2) -> 0 | BL96: 4 | BM96: -956974261
D97: PP | F97: Rozebrání dlažeb komunikací pro pěší s přemístěním hmot na skládku na vzdálenost do 3 m nebo s naložením na dopravní prostředek s ložem z kameniva nebo živice a s jakoukoliv výplní spár strojně plochy jednotlivě do 50 m2 ze zámkové dlažby | AT97: PP | AU97: 2
D98: Online PSC | F98: https://podminky.urs.cz/item/CS_URS_2024_01/113106134 | AT98: Online PSC | AU98: 2
D99: VV | F99: situace - bourané konstrukce | AT99: VV | AU99: 2 | AV99: 1 | AW99: True | AX99: 0 | AY99: ROZPOCET
D100: VV | F100: 3,00+8,00+22,00 "na skládku | H100: 33 | AT100: VV | AU100: 2 | AV100: 2 | AW100: True | AX100: 1 | AY100: ROZPOCET
C101: 2 | D101: K | E101: 113106136 | F101: Rozebrání dlažeb z vegetačních dlaždic betonových komunikací pro pěší strojně pl do 50 m2 | G101: m2 | H101: 45 | J101: =ROUND(I101*H101,2) -> 0 | K101: CS ÚRS 2024 01 | N101: základní | P101: =O101*H101 -> 0 | Q101: 0 | R101: =Q101*H101 -> 0 | S101: 0.225 | T101: =S101*H101 -> 10.125 | AR101: 4 | AT101: K | AU101: 2 | AY101: ROZPOCET | BE101: =IF(N101="základní",J101,0) -> 0 | BF101: =IF(N101="snížená",J101,0) -> 0 | BG101: =IF(N101="zákl. přenesená",J101,0) -> 0 | BH101: =IF(N101="sníž. přenesená",J101,0) -> 0 | BI101: =IF(N101="nulová",J101,0) -> 0 | BJ101: 1 | BK101: =ROUND(I101*H101,2) -> 0 | BL101: 4 | BM101: 739814080
D102: PP | F102: Rozebrání dlažeb komunikací pro pěší s přemístěním hmot na skládku na vzdálenost do 3 m nebo s naložením na dopravní prostředek s ložem z kameniva nebo živice a s jakoukoliv výplní spár strojně plochy jednotlivě do 50 m2 z vegetační dlažby betonové | AT102: PP | AU102: 2
D103: Online PSC | F103: https://podminky.urs.cz/item/CS_URS_2024_01/113106136 | AT103: Online PSC | AU103: 2
D104: VV | F104: situace - bourané konstrukce | AT104: VV | AU104: 2 | AV104: 1 | AW104: True | AX104: 0 | AY104: ROZPOCET
D105: VV | F105: 19,00+26,00 | H105: 45 | AT105: VV | AU105: 2 | AV105: 2 | AW105: True | AX105: 1 | AY105: ROZPOCET
C106: 3 | D106: K | E106: 113106144 | F106: Rozebrání dlažeb ze zámkových dlaždic komunikací pro pěší strojně pl přes 50 m2 | G106: m2 | H106: 258 | J106: =ROUND(I106*H106,2) -> 0 | K106: CS ÚRS 2024 01 | N106: základní | P106: =O106*H106 -> 0 | Q106: 0 | R106: =Q106*H106 -> 0 | S106: 0.26 | T106: =S106*H106 -> 67.08 | AR106: 4 | AT106: K | AU106: 2 | AY106: ROZPOCET | BE106: =IF(N106="základní",J106,0) -> 0 | BF106: =IF(N106="snížená",J106,0) -> 0 | BG106: =IF(N106="zákl. přenesená",J106,0) -> 0 | BH106: =IF(N106="sníž. přenesená",J106,0) -> 0 | BI106: =IF(N106="nulová",J106,0) -> 0 | BJ106: 1 | BK106: =ROUND(I106*H106,2) -> 0 | BL106: 4 | BM106: 375020722
D107: PP | F107: Rozebrání dlažeb komunikací pro pěší s přemístěním hmot na skládku na vzdálenost do 3 m nebo s naložením na dopravní prostředek s ložem z kameniva nebo živice a s jakoukoliv výplní spár strojně plochy jednotlivě přes 50 m2 ze zámkové dlažby | AT107: PP | AU107: 2
D108: Online PSC | F108: https://podminky.urs.cz/item/CS_URS_2024_01/113106144 | AT108: Online PSC | AU108: 2
D109: VV | F109: situace - bourané konstrukce | AT109: VV | AU109: 2 | AV109: 1 | AW109: True | AX109: 0 | AY109: ROZPOCET
D110: VV | F110: 123,00 "viz výkr. č. D.2.1.3 - pozn. | H110: 123 | AT110: VV | AU110: 2 | AV110: 2 | AW110: True | AX110: 0 | AY110: ROZPOCET
D111: VV | F111: 135,00 "na skládku | H111: 135 | AT111: VV | AU111: 2 | AV111: 2 | AW111: True | AX111: 0 | AY111: ROZPOCET
D112: VV | F112: Součet | H112: 258 | AT112: VV | AU112: 2 | AV112: 4 | AW112: True | AX112: 1 | AY112: ROZPOCET
C113: 4 | D113: K | E113: 113106161 | F113: Rozebrání dlažeb vozovek z drobných kostek s ložem z kameniva ručně | G113: m2 | H113: 20 | J113: =ROUND(I113*H113,2) -> 0 | K113: CS ÚRS 2024 01 | N113: základní | P113: =O113*H113 -> 0 | Q113: 0 | R113: =Q113*H113 -> 0 | S113: 0.32 | T113: =S113*H113 -> 6.4 | AR113: 4 | AT113: K | AU113: 2 | AY113: ROZPOCET | BE113: =IF(N113="základní",J113,0) -> 0 | BF113: =IF(N113="snížená",J113,0) -> 0 | BG113: =IF(N113="zákl. přenesená",J113,0) -> 0 | BH113: =IF(N113="sníž. přenesená",J113,0) -> 0 | BI113: =IF(N113="nulová",J113,0) -> 0 | BJ113: 1 | BK113: =ROUND(I113*H113,2) -> 0 | BL113: 4 | BM113: 75494700
D114: PP | F114: Rozebrání dlažeb vozovek a ploch s přemístěním hmot na skládku na vzdálenost do 3 m nebo s naložením na dopravní prostředek, s jakoukoliv výplní spár ručně z drobných kostek nebo odseků s ložem z kameniva | AT114: PP | AU114: 2
D115: Online PSC | F115: https://podminky.urs.cz/item/CS_URS_2024_01/113106161 | AT115: Online PSC | AU115: 2
D116: VV | F116: situace - bourané konstrukce | AT116: VV | AU116: 2 | AV116: 1 | AW116: True | AX116: 0 | AY116: ROZPOCET
D117: VV | F117: 20,00 "žulová kostka | H117: 20 | AT117: VV | AU117: 2 | AV117: 2 | AW117: True | AX117: 1 | AY117: ROZPOCET
C118: 5 | D118: K | E118: 113107131 | F118: Odstranění podkladu z betonu prostého tl přes 100 do 150 mm ručně | G118: m2 | H118: 6 | J118: =ROUND(I118*H118,2) -> 0 | K118: CS ÚRS 2024 01 | N118: základní | P118: =O118*H118 -> 0 | Q118: 0 | R118: =Q118*H118 -> 0 | S118: 0.325 | T118: =S118*H118 -> 1.95 | AR118: 4 | AT118: K | AU118: 2 | AY118: ROZPOCET | BE118: =IF(N118="základní",J118,0) -> 0 | BF118: =IF(N118="snížená",J118,0) -> 0 | BG118: =IF(N118="zákl. přenesená",J118,0) -> 0 | BH118: =IF(N118="sníž. přenesená",J118,0) -> 0 | BI118: =IF(N118="nulová",J118,0) -> 0 | BJ118: 1 | BK118: =ROUND(I118*H118,2) -> 0 | BL118: 4 | BM118: 275727927
D119: PP | F119: Odstranění podkladů nebo krytů ručně s přemístěním hmot na skládku na vzdálenost do 3 m nebo s naložením na dopravní prostředek z betonu prostého, o tl. vrstvy přes 100 do 150 mm | AT119: PP | AU119: 2
D120: Online PSC | F120: https://podminky.urs.cz/item/CS_URS_2024_01/113107131 | AT120: Online PSC | AU120: 2
D121: VV | F121: situace - bourané konstrukce | AT121: VV | AU121: 2 | AV121: 1 | AW121: True | AX121: 0 | AY121: ROZPOCET
D122: VV | F122: 6,00 | H122: 6 | AT122: VV | AU122: 2 | AV122: 2 | AW122: True | AX122: 1 | AY122: ROZPOCET
C123: 6 | D123: K | E123: 113107152 | F123: Odstranění podkladu z kameniva těženého tl přes 100 do 200 mm strojně pl přes 50 do 200 m2 | G123: m2 | H123: 135 | J123: =ROUND(I123*H123,2) -> 0 | K123: CS ÚRS 2024 01 | N123: základní | P123: =O123*H123 -> 0 | Q123: 0 | R123: =Q123*H123 -> 0 | S123: 0.3 | T123: =S123*H123 -> 40.5 | AR123: 4 | AT123: K | AU123: 2 | AY123: ROZPOCET | BE123: =IF(N123="základní",J123,0) -> 0 | BF123: =IF(N123="snížená",J123,0) -> 0 | BG123: =IF(N123="zákl. přenesená",J123,0) -> 0 | BH123: =IF(N123="sníž. přenesená",J123,0) -> 0 | BI123: =IF(N123="nulová",J123,0) -> 0 | BJ123: 1 | BK123: =ROUND(I123*H123,2) -> 0 | BL123: 4 | BM123: -368187720
D124: PP | F124: Odstranění podkladů nebo krytů strojně plochy jednotlivě přes 50 m2 do 200 m2 s přemístěním hmot na skládku na vzdálenost do 20 m nebo s naložením na dopravní prostředek z kameniva těženého, o tl. vrstvy přes 100 do 200 mm | AT124: PP | AU124: 2
D125: Online PSC | F125: https://podminky.urs.cz/item/CS_URS_2024_01/113107152 | AT125: Online PSC | AU125: 2
D126: VV | F126: situace - bourané konstrukce | AT126: VV | AU126: 2 | AV126: 1 | AW126: True | AX126: 0 | AY126: ROZPOCET
D127: VV | F127: 135,00 "pod ZD | H127: 135 | AT127: VV | AU127: 2 | AV127: 2 | AW127: True | AX127: 1 | AY127: ROZPOCET
C128: 7 | D128: K | E128: 113107312 | F128: Odstranění podkladu z kameniva těženého tl přes 100 do 200 mm strojně pl do 50 m2 | G128: m2 | H128: 104 | J128: =ROUND(I128*H128,2) -> 0 | K128: CS ÚRS 2024 01 | N128: základní | P128: =O128*H128 -> 0 | Q128: 0 | R128: =Q128*H128 -> 0 | S128: 0.3 | T128: =S128*H128 -> 31.2 | AR128: 4 | AT128: K | AU128: 2 | AY128: ROZPOCET | BE128: =IF(N128="základní",J128,0) -> 0 | BF128: =IF(N128="snížená",J128,0) -> 0 | BG128: =IF(N128="zákl. přenesená",J128,0) -> 0 | BH128: =IF(N128="sníž. přenesená",J128,0) -> 0 | BI128: =IF(N128="nulová",J128,0) -> 0 | BJ128: 1 | BK128: =ROUND(I128*H128,2) -> 0 | BL128: 4 | BM128: -1028223785
D129: PP | F129: Odstranění podkladů nebo krytů strojně plochy jednotlivě do 50 m2 s přemístěním hmot na skládku na vzdálenost do 3 m nebo s naložením na dopravní prostředek z kameniva těženého, o tl. vrstvy přes 100 do 200 mm | AT129: PP | AU129: 2
D130: Online PSC | F130: https://podminky.urs.cz/item/CS_URS_2024_01/113107312 | AT130: Online PSC | AU130: 2
D131: VV | F131: situace - bourané konstrukce | AT131: VV | AU131: 2 | AV131: 1 | AW131: True | AX131: 0 | AY131: ROZPOCET
D132: VV | F132: 3,00+8,00+22,00 "pod ZD | H132: 33 | AT132: VV | AU132: 2 | AV132: 2 | AW132: True | AX132: 0 | AY132: ROZPOCET
D133: VV | F133: 19,00+26,00 "pod veg. dlažbou | H133: 45 | AT133: VV | AU133: 2 | AV133: 2 | AW133: True | AX133: 0 | AY133: ROZPOCET
...

Sheet 22-SO051-02.2 - D.2.4.1. ...
AT2: {f19495fd-da14-4805-b349-7d52fd1a0ae2}
AT3: 2
D4: KRYCÍ LIST SOUPISU PRACÍ | M4: v --- níže se nacházejí doplnkové a pomocné údaje k sestavám --- v | AT4: False
D6: Stavba:
E7: ='Rekapitulace stavby'!K6 -> Regenerace veřejného prostranství Holasice
D8: Objekt:
E9: 22-SO003-02 - Etapa 2
D10: Soupis:
E11: 22-SO051-02.2 - D.2.4.1. - El. rozvody NN+VO - část NN
D13: KSO: | I13: CC-CZ:
D14: Místo: | F14: Holasice | I14: Datum: | J14: ='Rekapitulace stavby'!AN8 -> 4. 6. 2024
D16: Zadavatel: | I16: IČ:
E17: Obec Holasice | I17: DIČ:
D19: Uchazeč: | I19: IČ: | J19: ='Rekapitulace stavby'!AN13 -> Vyplň údaj
E20: ='Rekapitulace stavby'!E14 -> Vyplň údaj | I20: DIČ: | J20: ='Rekapitulace stavby'!AN14 -> Vyplň údaj
D22: Projektant: | I22: IČ:
E23: ARCHITEKTI A90 S.R.O. | I23: DIČ:
D25: Zpracovatel: | I25: IČ:
E26: Ing. Müller | I26: DIČ:
D28: Poznámka:
D32: Cena bez DPH | J32: =ROUND(J92, 2) -> 0
F34: Základ daně | I34: Sazba daně | J34: Výše daně
D35: DPH | E35: základní | F35: =ROUND((SUM(BE92:BE265)), 2) -> 0 | I35: 0.21 | J35: =ROUND(((SUM(BE92:BE265))*I35), 2) -> 0
E36: snížená | F36: =ROUND((SUM(BF92:BF265)), 2) -> 0 | I36: 0.12 | J36: =ROUND(((SUM(BF92:BF265))*I36), 2) -> 0
E37: zákl. přenesená | F37: =ROUND((SUM(BG92:BG265)), 2) -> 0 | I37: 0.21 | J37: =0 -> 0
E38: sníž. přenesená | F38: =ROUND((SUM(BH92:BH265)), 2) -> 0 | I38: 0.12 | J38: =0 -> 0
E39: nulová | F39: =ROUND((SUM(BI92:BI265)), 2) -> 0 | I39: 0 | J39: =0 -> 0
D41: Cena s DPH | G41: v | H41: CZK | J41: =SUM(J32:J39) -> 0
C47: REKAPITULACE ČLENĚNÍ SOUPISU PRACÍ
C49: Stavba:
E50: =E7 -> Regenerace veřejného prostranství Holasice
C51: Objekt:
E52: 22-SO003-02 - Etapa 2
C53: Soupis:
E54: =E11 -> 22-SO051-02.2 - D.2.4.1. - El. rozvody NN+VO - část NN
C56: Místo: | F56: =F14 -> Holasice | I56: Datum: | J56: =IF(J14="","",J14) -> 4. 6. 2024
C58: Zadavatel: | F58: =E17 -> Obec Holasice | I58: Projektant: | J58: =E23 -> ARCHITEKTI A90 S.R.O.
C59: Uchazeč: | F59: =IF(E20="","",E20) -> Vyplň údaj | I59: Zpracovatel: | J59: =E26 -> Ing. Müller
C61: Kód dílu - Popis | J61: Cena celkem [CZK]
C63: Náklady stavby celkem | J63: =J92 -> 0 | AU63: -1
D64: 741 - Elektroinstalace - silnoproud | J64: =J93 -> 0
D65: 741.1 - Specifikace dodávky RE | J65: =J94 -> 0
D66: 741.2 - Specifikace dodávky RMS | J66: =J97 -> 0
D67: M - Práce a dodávky M | J67: =J148 -> 0
D68: 21-M - Elektromontáže | J68: =J149 -> 0
D69: 46-M - Zemní práce při extr.mont.pracích | J69: =J206 -> 0
D70: VRN - Vedlejší rozpočtové náklady | J70: =J255 -> 0
C77: SOUPIS PRACÍ
C79: Stavba:
E80: =E7 -> Regenerace veřejného prostranství Holasice
C81: Objekt:
E82: 22-SO003-02 - Etapa 2
C83: Soupis:
E84: =E11 -> 22-SO051-02.2 - D.2.4.1. - El. rozvody NN+VO - část NN
C86: Místo: | F86: =F14 -> Holasice | I86: Datum: | J86: =IF(J14="","",J14) -> 4. 6. 2024
C88: Zadavatel: | F88: =E17 -> Obec Holasice | I88: Projektant: | J88: =E23 -> ARCHITEKTI A90 S.R.O.
C89: Uchazeč: | F89: =IF(E20="","",E20) -> Vyplň údaj | I89: Zpracovatel: | J89: =E26 -> Ing. Müller
C91: PČ | D91: Typ | E91: Kód | F91: Popis | G91: MJ | H91: Množství | I91: J.cena [CZK] | J91: Cena celkem [CZK] | K91: Cenová soustava | N91: DPH | O91: J. Nh [h] | P91: Nh celkem [h] | Q91: J. hmotnost [t] | R91: Hmotnost celkem [t] | S91: J. suť [t] | T91: Suť Celkem [t]
C92: Náklady soupisu celkem | J92: =BK92 -> 0 | P92: =P93+P148+P255 -> 0 | R92: =R93+R148+R255 -> 12.321734 | T92: =T93+T148+T255 -> 0 | AT92: D | AU92: -1 | BK92: =BK93+BK148+BK255 -> 0
D93: D | E93: 741 | F93: Elektroinstalace - silnoproud | J93: =BK93 -> 0 | P93: =P94+P97 -> 0 | R93: =R94+R97 -> 0 | T93: =T94+T97 -> 0 | AR93: 2 | AT93: D | AU93: 0 | AY93: ROZPOCET | BK93: =BK94+BK97 -> 0
D94: D | E94: 741.1 | F94: Specifikace dodávky RE | J94: =BK94 -> 0 | P94: =SUM(P95:P96) -> 0 | R94: =SUM(R95:R96) -> 0 | T94: =SUM(T95:T96) -> 0 | AR94: 2 | AT94: D | AU94: 1 | AY94: ROZPOCET | BK94: =SUM(BK95:BK96) -> 0
C95: 1 | D95: M | E95: M022 | F95: PER1/3/40, vč. hlavního jističe 3x25A v kompaktním pilíři, provedení EG.D dle v.č. 2.4.1.10. | G95: ks | H95: 1 | J95: =ROUND(I95*H95,2) -> 0 | N95: základní | P95: =O95*H95 -> 0 | Q95: 0 | R95: =Q95*H95 -> 0 | S95: 0 | T95: =S95*H95 -> 0 | AR95: 32 | AT95: M | AU95: 2 | AY95: ROZPOCET | BE95: =IF(N95="základní",J95,0) -> 0 | BF95: =IF(N95="snížená",J95,0) -> 0 | BG95: =IF(N95="zákl. přenesená",J95,0) -> 0 | BH95: =IF(N95="sníž. přenesená",J95,0) -> 0 | BI95: =IF(N95="nulová",J95,0) -> 0 | BJ95: 1 | BK95: =ROUND(I95*H95,2) -> 0 | BL95: 16 | BM95: 610029510
D96: PP | F96: PER1/3/40, vč. hlavního jističe 3x25A v kompaktním pilíři, provedení EG.D dle v.č. 2.4.1.10. | AT96: PP | AU96: 2
D97: D | E97: 741.2 | F97: Specifikace dodávky RMS | J97: =BK97 -> 0 | P97: =SUM(P98:P147) -> 0 | R97: =SUM(R98:R147) -> 0 | T97: =SUM(T98:T147) -> 0 | AR97: 2 | AT97: D | AU97: 1 | AY97: ROZPOCET | BK97: =SUM(BK98:BK147) -> 0
C98: 2 | D98: M | E98: M049 | F98: Skříň 1060x800x240, vložkový zámek, tříbodové uzavírání, v kompaktním pilíři vč. základové rohože, IP44/20 | G98: kus | H98: 1 | J98: =ROUND(I98*H98,2) -> 0 | N98: základní | P98: =O98*H98 -> 0 | Q98: 0 | R98: =Q98*H98 -> 0 | S98: 0 | T98: =S98*H98 -> 0 | AR98: 256 | AT98: M | AU98: 2 | AY98: ROZPOCET | BE98: =IF(N98="základní",J98,0) -> 0 | BF98: =IF(N98="snížená",J98,0) -> 0 | BG98: =IF(N98="zákl. přenesená",J98,0) -> 0 | BH98: =IF(N98="sníž. přenesená",J98,0) -> 0 | BI98: =IF(N98="nulová",J98,0) -> 0 | BJ98: 1 | BK98: =ROUND(I98*H98,2) -> 0 | BL98: 64 | BM98: 1139629755
D99: PP | F99: Skříň 1060x800x240, vložkový zámek, tříbodové uzavírání, v kompaktním pilíři vč. základové rohože, IP44/20 | AT99: PP | AU99: 2
C100: 3 | D100: M | E100: M050 | F100: Zaslepovací pás max. délka 1m, pro výřezy 45mm, bílý | G100: kus | H100: 1 | J100: =ROUND(I100*H100,2) -> 0 | N100: základní | P100: =O100*H100 -> 0 | Q100: 0 | R100: =Q100*H100 -> 0 | S100: 0 | T100: =S100*H100 -> 0 | AR100: 256 | AT100: M | AU100: 2 | AY100: ROZPOCET | BE100: =IF(N100="základní",J100,0) -> 0 | BF100: =IF(N100="snížená",J100,0) -> 0 | BG100: =IF(N100="zákl. přenesená",J100,0) -> 0 | BH100: =IF(N100="sníž. přenesená",J100,0) -> 0 | BI100: =IF(N100="nulová",J100,0) -> 0 | BJ100: 1 | BK100: =ROUND(I100*H100,2) -> 0 | BL100: 64 | BM100: -1003411404
D101: PP | F101: Zaslepovací pás max. délka 1m, pro výřezy 45mm, bílý | AT101: PP | AU101: 2
C102: 4 | D102: M | E102: M051 | F102: Hlavní vypínač, 3-pól, In=40A | G102: kus | H102: 1 | J102: =ROUND(I102*H102,2) -> 0 | N102: základní | P102: =O102*H102 -> 0 | Q102: 0 | R102: =Q102*H102 -> 0 | S102: 0 | T102: =S102*H102 -> 0 | AR102: 256 | AT102: M | AU102: 2 | AY102: ROZPOCET | BE102: =IF(N102="základní",J102,0) -> 0 | BF102: =IF(N102="snížená",J102,0) -> 0 | BG102: =IF(N102="zákl. přenesená",J102,0) -> 0 | BH102: =IF(N102="sníž. přenesená",J102,0) -> 0 | BI102: =IF(N102="nulová",J102,0) -> 0 | BJ102: 1 | BK102: =ROUND(I102*H102,2) -> 0 | BL102: 64 | BM102: -1385530127
D103: PP | F103: Hlavní vypínač, 3-pól, In=40A | AT103: PP | AU103: 2
C104: 5 | D104: M | E104: M052 | F104: Chránič s nadproudovou ochranou, Ir=250A, AC, 1+N, 10kA, char.B, Idn=0.03A, In=10A | G104: kus | H104: 1 | J104: =ROUND(I104*H104,2) -> 0 | N104: základní | P104: =O104*H104 -> 0 | Q104: 0 | R104: =Q104*H104 -> 0 | S104: 0 | T104: =S104*H104 -> 0 | AR104: 256 | AT104: M | AU104: 2 | AY104: ROZPOCET | BE104: =IF(N104="základní",J104,0) -> 0 | BF104: =IF(N104="snížená",J104,0) -> 0 | BG104: =IF(N104="zákl. přenesená",J104,0) -> 0 | BH104: =IF(N104="sníž. přenesená",J104,0) -> 0 | BI104: =IF(N104="nulová",J104,0) -> 0 | BJ104: 1 | BK104: =ROUND(I104*H104,2) -> 0 | BL104: 64 | BM104: 1397615502
D105: PP | F105: Chránič s nadproudovou ochranou, Ir=250A, AC, 1+N, 10kA, char.B, Idn=0.03A, In=10A | AT105: PP | AU105: 2
C106: 6 | D106: M | E106: M053 | F106: Chránič Ir=3kA, 4-pól, Idn=0.03A, In=40A | G106: kus | H106: 1 | J106: =ROUND(I106*H106,2) -> 0 | N106: základní | P106: =O106*H106 -> 0 | Q106: 0 | R106: =Q106*H106 -> 0 | S106: 0 | T106: =S106*H106 -> 0 | AR106: 256 | AT106: M | AU106: 2 | AY106: ROZPOCET | BE106: =IF(N106="základní",J106,0) -> 0 | BF106: =IF(N106="snížená",J106,0) -> 0 | BG106: =IF(N106="zákl. přenesená",J106,0) -> 0 | BH106: =IF(N106="sníž. přenesená",J106,0) -> 0 | BI106: =IF(N106="nulová",J106,0) -> 0 | BJ106: 1 | BK106: =ROUND(I106*H106,2) -> 0 | BL106: 64 | BM106: -255139375
D107: PP | F107: Chránič Ir=3kA, 4-pól, Idn=0.03A, In=40A | AT107: PP | AU107: 2
C108: 7 | D108: M | E108: M054 | F108: Jistič, char B, 1-pólový, Icn=10kA, In=16A | G108: kus | H108: 3 | J108: =ROUND(I108*H108,2) -> 0 | N108: základní | P108: =O108*H108 -> 0 | Q108: 0 | R108: =Q108*H108 -> 0 | S108: 0 | T108: =S108*H108 -> 0 | AR108: 256 | AT108: M | AU108: 2 | AY108: ROZPOCET | BE108: =IF(N108="základní",J108,0) -> 0 | BF108: =IF(N108="snížená",J108,0) -> 0 | BG108: =IF(N108="zákl. přenesená",J108,0) -> 0 | BH108: =IF(N108="sníž. přenesená",J108,0) -> 0 | BI108: =IF(N108="nulová",J108,0) -> 0 | BJ108: 1 | BK108: =ROUND(I108*H108,2) -> 0 | BL108: 64 | BM108: -1731476104
D109: PP | F109: Jistič, char B, 1-pólový, Icn=10kA, In=16A | AT109: PP | AU109: 2
C110: 8 | D110: M | E110: M055 | F110: Jistič, char B, 3-pólový, Icn=10kA, In=16A | G110: kus | H110: 1 | J110: =ROUND(I110*H110,2) -> 0 | N110: základní | P110: =O110*H110 -> 0 | Q110: 0 | R110: =Q110*H110 -> 0 | S110: 0 | T110: =S110*H110 -> 0 | AR110: 256 | AT110: M | AU110: 2 | AY110: ROZPOCET | BE110: =IF(N110="základní",J110,0) -> 0 | BF110: =IF(N110="snížená",J110,0) -> 0 | BG110: =IF(N110="zákl. přenesená",J110,0) -> 0 | BH110: =IF(N110="sníž. přenesená",J110,0) -> 0 | BI110: =IF(N110="nulová",J110,0) -> 0 | BJ110: 1 | BK110: =ROUND(I110*H110,2) -> 0 | BL110: 64 | BM110: -692440029
D111: PP | F111: Jistič, char B, 3-pólový, Icn=10kA, In=16A | AT111: PP | AU111: 2
C112: 9 | D112: M | E112: M056 | F112: Jistič, char B, 3-pólový, Icn=10kA, In=20A | G112: kus | H112: 1 | J112: =ROUND(I112*H112,2) -> 0 | N112: základní | P112: =O112*H112 -> 0 | Q112: 0 | R112: =Q112*H112 -> 0 | S112: 0 | T112: =S112*H112 -> 0 | AR112: 256 | AT112: M | AU112: 2 | AY112: ROZPOCET | BE112: =IF(N112="základní",J112,0) -> 0 | BF112: =IF(N112="snížená",J112,0) -> 0 | BG112: =IF(N112="zákl. přenesená",J112,0) -> 0 | BH112: =IF(N112="sníž. přenesená",J112,0) -> 0 | BI112: =IF(N112="nulová",J112,0) -> 0 | BJ112: 1 | BK112: =ROUND(I112*H112,2) -> 0 | BL112: 64 | BM112: -284941796
D113: PP | F113: Jistič, char B, 3-pólový, Icn=10kA, In=20A | AT113: PP | AU113: 2
C114: 10 | D114: M | E114: M057 | F114: Zásuvka 230V/16A, nástěnná | G114: kus | H114: 3 | J114: =ROUND(I114*H114,2) -> 0 | N114: základní | P114: =O114*H114 -> 0 | Q114: 0 | R114: =Q114*H114 -> 0 | S114: 0 | T114: =S114*H114 -> 0 | AR114: 256 | AT114: M | AU114: 2 | AY114: ROZPOCET | BE114: =IF(N114="základní",J114,0) -> 0 | BF114: =IF(N114="snížená",J114,0) -> 0 | BG114: =IF(N114="zákl. přenesená",J114,0) -> 0 | BH114: =IF(N114="sníž. přenesená",J114,0) -> 0 | BI114: =IF(N114="nulová",J114,0) -> 0 | BJ114: 1 | BK114: =ROUND(I114*H114,2) -> 0 | BL114: 64 | BM114: -156874885
D115: PP | F115: Zásuvka 230V/16A, nástěnná | AT115: PP | AU115: 2
C116: 11 | D116: M | E116: M058 | F116: Zásuvka 400V/16A, 3+N+PE, nástěnná | G116: kus | H116: 1 | J116: =ROUND(I116*H116,2) -> 0 | N116: základní | P116: =O116*H116 -> 0 | Q116: 0 | R116: =Q116*H116 -> 0 | S116: 0 | T116: =S116*H116 -> 0 | AR116: 256 | AT116: M | AU116: 2 | AY116: ROZPOCET | BE116: =IF(N116="základní",J116,0) -> 0 | BF116: =IF(N116="snížená",J116,0) -> 0 | BG116: =IF(N116="zákl. přenesená",J116,0) -> 0 | BH116: =IF(N116="sníž. přenesená",J116,0) -> 0 | BI116: =IF(N116="nulová",J116,0) -> 0 | BJ116: 1 | BK116: =ROUND(I116*H116,2) -> 0 | BL116: 64 | BM116: 224456697
D117: PP | F117: Zásuvka 400V/16A, 3+N+PE, nástěnná | AT117: PP | AU117: 2
C118: 12 | D118: M | E118: M059 | F118: Zásuvka 400V/32A, 3+N+PE, nástěnná | G118: kus | H118: 1 | J118: =ROUND(I118*H118,2) -> 0 | N118: základní | P118: =O118*H118 -> 0 | Q118: 0 | R118: =Q118*H118 -> 0 | S118: 0 | T118: =S118*H118 -> 0 | AR118: 256 | AT118: M | AU118: 2 | AY118: ROZPOCET | BE118: =IF(N118="základní",J118,0) -> 0 | BF118: =IF(N118="snížená",J118,0) -> 0 | BG118: =IF(N118="zákl. přenesená",J118,0) -> 0 | BH118: =IF(N118="sníž. přenesená",J118,0) -> 0 | BI118: =IF(N118="nulová",J118,0) -> 0 | BJ118: 1 | BK118: =ROUND(I118*H118,2) -> 0 | BL118: 64 | BM118: 783202586
D119: PP | F119: Zásuvka 400V/32A, 3+N+PE, nástěnná | AT119: PP | AU119: 2
C120: 13 | D120: M | E120: M060 | F120: DIN Lišta | G120: kus | H120: 2 | J120: =ROUND(I120*H120,2) -> 0 | N120: základní | P120: =O120*H120 -> 0 | Q120: 0 | R120: =Q120*H120 -> 0 | S120: 0 | T120: =S120*H120 -> 0 | AR120: 256 | AT120: M | AU120: 2 | AY120: ROZPOCET | BE120: =IF(N120="základní",J120,0) -> 0 | BF120: =IF(N120="snížená",J120,0) -> 0 | BG120: =IF(N120="zákl. přenesená",J120,0) -> 0 | BH120: =IF(N120="sníž. přenesená",J120,0) -> 0 | BI120: =IF(N120="nulová",J120,0) -> 0 | BJ120: 1 | BK120: =ROUND(I120*H120,2) -> 0 | BL120: 64 | BM120: 1165126208
D121: PP | F121: DIN Lišta | AT121: PP | AU121: 2
C122: 14 | D122: M | E122: M061 | F122: Nosič svorkovnice na lištu | G122: kus | H122: 4 | J122: =ROUND(I122*H122,2) -> 0 | N122: základní | P122: =O122*H122 -> 0 | Q122: 0 | R122: =Q122*H122 -> 0 | S122: 0 | T122: =S122*H122 -> 0 | AR122: 256 | AT122: M | AU122: 2 | AY122: ROZPOCET | BE122: =IF(N122="základní",J122,0) -> 0 | BF122: =IF(N122="snížená",J122,0) -> 0 | BG122: =IF(N122="zákl. přenesená",J122,0) -> 0 | BH122: =IF(N122="sníž. přenesená",J122,0) -> 0 | BI122: =IF(N122="nulová",J122,0) -> 0 | BJ122: 1 | BK122: =ROUND(I122*H122,2) -> 0 | BL122: 64 | BM122: -461702811
D123: PP | F123: Nosič svorkovnice na lištu | AT123: PP | AU123: 2
C124: 15 | D124: M | E124: M062 | F124: Přípojnice Cu 20x5 | G124: kus | H124: 2 | J124: =ROUND(I124*H124,2) -> 0 | N124: základní | P124: =O124*H124 -> 0 | Q124: 0 | R124: =Q124*H124 -> 0 | S124: 0 | T124: =S124*H124 -> 0 | AR124: 256 | AT124: M | AU124: 2 | AY124: ROZPOCET | BE124: =IF(N124="základní",J124,0) -> 0 | BF124: =IF(N124="snížená",J124,0) -> 0 | BG124: =IF(N124="zákl. přenesená",J124,0) -> 0 | BH124: =IF(N124="sníž. přenesená",J124,0) -> 0 | BI124: =IF(N124="nulová",J124,0) -> 0 | BJ124: 1 | BK124: =ROUND(I124*H124,2) -> 0 | BL124: 64 | BM124: 1025507403
D125: PP | F125: Přípojnice Cu 20x5 | AT125: PP | AU125: 2
C126: 16 | D126: M | E126: M063 | F126: Přípojnice Cu 32x5 | G126: kus | H126: 3 | J126: =ROUND(I126*H126,2) -> 0 | N126: základní | P126: =O126*H126 -> 0 | Q126: 0 | R126: =Q126*H126 -> 0 | S126: 0 | T126: =S126*H126 -> 0 | AR126: 256 | AT126: M | AU126: 2 | AY126: ROZPOCET | BE126: =IF(N126="základní",J126,0) -> 0 | BF126: =IF(N126="snížená",J126,0) -> 0 | BG126: =IF(N126="zákl. přenesená",J126,0) -> 0 | BH126: =IF(N126="sníž. přenesená",J126,0) -> 0 | BI126: =IF(N126="nulová",J126,0) -> 0 | BJ126: 1 | BK126: =ROUND(I126*H126,2) -> 0 | BL126: 64 | BM126: -911052583
D127: PP | F127: Přípojnice Cu 32x5 | AT127: PP | AU127: 2
C128: 17 | D128: M | E128: M064 | F128: Svorkovice nulová | G128: kus | H128: 2 | J128: =ROUND(I128*H128,2) -> 0 | N128: základní | P128: =O128*H128 -> 0 | Q128: 0 | R128: =Q128*H128 -> 0 | S128: 0 | T128: =S128*H128 -> 0 | AR128: 256 | AT128: M | AU128: 2 | AY128: ROZPOCET | BE128: =IF(N128="základní",J128,0) -> 0 | BF128: =IF(N128="snížená",J128,0) -> 0 | BG128: =IF(N128="zákl. přenesená",J128,0) -> 0 | BH128: =IF(N128="sníž. přenesená",J128,0) -> 0 | BI128: =IF(N128="nulová",J128,0) -> 0 | BJ128: 1 | BK128: =ROUND(I128*H128,2) -> 0 | BL128: 64 | BM128: 499884614
D129: PP | F129: Svorkovice nulová | AT129: PP | AU129: 2
C130: 18 | D130: M | E130: M065 | F130: Svorkovnice ochranná | G130: kus | H130: 2 | J130: =ROUND(I130*H130,2) -> 0 | N130: základní | P130: =O130*H130 -> 0 | Q130: 0 | R130: =Q130*H130 -> 0 | S130: 0 | T130: =S130*H130 -> 0 | AR130: 256 | AT130: M | AU130: 2 | AY130: ROZPOCET | BE130: =IF(N130="základní",J130,0) -> 0 | BF130: =IF(N130="snížená",J130,0) -> 0 | BG130: =IF(N130="zákl. přenesená",J130,0) -> 0 | BH130: =IF(N130="sníž. přenesená",J130,0) -> 0 | BI130: =IF(N130="nulová",J130,0) -> 0 | BJ130: 1 | BK130: =ROUND(I130*H130,2) -> 0 | BL130: 64 | BM130: -1511387037
D131: PP | F131: Svorkovnice ochranná | AT131: PP | AU131: 2
C132: 19 | D132: M | E132: M066 | F132: Svorkovnice řadová do 6mm2 | H132: 9 | J132: =ROUND(I132*H132,2) -> 0 | N132: základní | P132: =O132*H132 -> 0 | Q132: 0 | R132: =Q132*H132 -> 0 | S132: 0 | T132: =S132*H132 -> 0 | AR132: 256 | AT132: M | AU132: 2 | AY132: ROZPOCET | BE132: =IF(N132="základní",J132,0) -> 0 | BF132: =IF(N132="snížená",J132,0) -> 0 | BG132: =IF(N132="zákl. přenesená",J132,0) -> 0 | BH132: =IF(N132="sníž. přenesená",J132,0) -> 0 | BI132: =IF(N132="nulová",J132,0) -> 0 | BJ132: 1 | BK132: =ROUND(I132*H132,2) -> 0 | BL132: 64 | BM132: 61126357
D133: PP | F133: Svorkovnice řadová do 6mm2 | AT133: PP | AU133: 2
...

Sheet 22-SO051-02.3 - D.2.4.1. ...
AT2: {90611d13-fbe5-459b-9ddd-9f164c0e831d}
AT3: 2
D4: KRYCÍ LIST SOUPISU PRACÍ | M4: v --- níže se nacházejí doplnkové a pomocné údaje k sestavám --- v | AT4: False
D6: Stavba:
E7: ='Rekapitulace stavby'!K6 -> Regenerace veřejného prostranství Holasice
D8: Objekt:
E9: 22-SO003-02 - Etapa 2
D10: Soupis:
E11: 22-SO051-02.3 - D.2.4.1. - El. rozvody NN+VO - část VO
D13: KSO: | I13: CC-CZ:
D14: Místo: | F14: Holasice | I14: Datum: | J14: ='Rekapitulace stavby'!AN8 -> 4. 6. 2024
D16: Zadavatel: | I16: IČ:
E17: Obec Holasice | I17: DIČ:
D19: Uchazeč: | I19: IČ: | J19: ='Rekapitulace stavby'!AN13 -> Vyplň údaj
E20: ='Rekapitulace stavby'!E14 -> Vyplň údaj | I20: DIČ: | J20: ='Rekapitulace stavby'!AN14 -> Vyplň údaj
D22: Projektant: | I22: IČ:
E23: ARCHITEKTI A90 S.R.O. | I23: DIČ:
D25: Zpracovatel: | I25: IČ:
E26: Ing. Müller | I26: DIČ:
D28: Poznámka:
D32: Cena bez DPH | J32: =ROUND(J91, 2) -> 0
F34: Základ daně | I34: Sazba daně | J34: Výše daně
D35: DPH | E35: základní | F35: =ROUND((SUM(BE91:BE269)), 2) -> 0 | I35: 0.21 | J35: =ROUND(((SUM(BE91:BE269))*I35), 2) -> 0
E36: snížená | F36: =ROUND((SUM(BF91:BF269)), 2) -> 0 | I36: 0.12 | J36: =ROUND(((SUM(BF91:BF269))*I36), 2) -> 0
E37: zákl. přenesená | F37: =ROUND((SUM(BG91:BG269)), 2) -> 0 | I37: 0.21 | J37: =0 -> 0
E38: sníž. přenesená | F38: =ROUND((SUM(BH91:BH269)), 2) -> 0 | I38: 0.12 | J38: =0 -> 0
E39: nulová | F39: =ROUND((SUM(BI91:BI269)), 2) -> 0 | I39: 0 | J39: =0 -> 0
D41: Cena s DPH | G41: v | H41: CZK | J41: =SUM(J32:J39) -> 0
C47: REKAPITULACE ČLENĚNÍ SOUPISU PRACÍ
C49: Stavba:
E50: =E7 -> Regenerace veřejného prostranství Holasice
C51: Objekt:
E52: 22-SO003-02 - Etapa 2
C53: Soupis:
E54: =E11 -> 22-SO051-02.3 - D.2.4.1. - El. rozvody NN+VO - část VO
C56: Místo: | F56: =F14 -> Holasice | I56: Datum: | J56: =IF(J14="","",J14) -> 4. 6. 2024
C58: Zadavatel: | F58: =E17 -> Obec Holasice | I58: Projektant: | J58: =E23 -> ARCHITEKTI A90 S.R.O.
C59: Uchazeč: | F59: =IF(E20="","",E20) -> Vyplň údaj | I59: Zpracovatel: | J59: =E26 -> Ing. Müller
C61: Kód dílu - Popis | J61: Cena celkem [CZK]
C63: Náklady stavby celkem | J63: =J91 -> 0 | AU63: -1
D64: PSV - Práce a dodávky PSV | J64: =J92 -> 0
D65: 741.1 - Specifikace dodávky RVO | J65: =J93 -> 0
D66: M - Práce a dodávky M | J66: =J132 -> 0
D67: 21-M - Elektromontáže | J67: =J133 -> 0
D68: 46-M - Zemní práce při extr.mont.pracích | J68: =J199 -> 0
D69: VRN - Vedlejší rozpočtové náklady | J69: =J259 -> 0
C76: SOUPIS PRACÍ
C78: Stavba:
E79: =E7 -> Regenerace veřejného prostranství Holasice
C80: Objekt:
E81: 22-SO003-02 - Etapa 2
C82: Soupis:
E83: =E11 -> 22-SO051-02.3 - D.2.4.1. - El. rozvody NN+VO - část VO
C85: Místo: | F85: =F14 -> Holasice | I85: Datum: | J85: =IF(J14="","",J14) -> 4. 6. 2024
C87: Zadavatel: | F87: =E17 -> Obec Holasice | I87: Projektant: | J87: =E23 -> ARCHITEKTI A90 S.R.O.
C88: Uchazeč: | F88: =IF(E20="","",E20) -> Vyplň údaj | I88: Zpracovatel: | J88: =E26 -> Ing. Müller
C90: PČ | D90: Typ | E90: Kód | F90: Popis | G90: MJ | H90: Množství | I90: J.cena [CZK] | J90: Cena celkem [CZK] | K90: Cenová soustava | N90: DPH | O90: J. Nh [h] | P90: Nh celkem [h] | Q90: J. hmotnost [t] | R90: Hmotnost celkem [t] | S90: J. suť [t] | T90: Suť Celkem [t]
C91: Náklady soupisu celkem | J91: =BK91 -> 0 | P91: =P92+P132+P259 -> 0 | R91: =R92+R132+R259 -> 23.779318 | T91: =T92+T132+T259 -> 0 | AT91: D | AU91: -1 | BK91: =BK92+BK132+BK259 -> 0
D92: D | E92: PSV | F92: Práce a dodávky PSV | J92: =BK92 -> 0 | P92: =P93 -> 0 | R92: =R93 -> 0 | T92: =T93 -> 0 | AR92: 2 | AT92: D | AU92: 0 | AY92: ROZPOCET | BK92: =BK93 -> 0
D93: D | E93: 741.1 | F93: Specifikace dodávky RVO | J93: =BK93 -> 0 | P93: =SUM(P94:P131) -> 0 | R93: =SUM(R94:R131) -> 0 | T93: =SUM(T94:T131) -> 0 | AR93: 2 | AT93: D | AU93: 1 | AY93: ROZPOCET | BK93: =SUM(BK94:BK131) -> 0
C94: 1 | D94: M | E94: M049 | F94: Skříň 1060x800x240, vložkový zámek, tříbodové uzavírání, v kompaktním pilíři vč. základové rohože, IP44/20 | G94: kus | H94: 1 | J94: =ROUND(I94*H94,2) -> 0 | N94: základní | P94: =O94*H94 -> 0 | Q94: 0 | R94: =Q94*H94 -> 0 | S94: 0 | T94: =S94*H94 -> 0 | AR94: 32 | AT94: M | AU94: 2 | AY94: ROZPOCET | BE94: =IF(N94="základní",J94,0) -> 0 | BF94: =IF(N94="snížená",J94,0) -> 0 | BG94: =IF(N94="zákl. přenesená",J94,0) -> 0 | BH94: =IF(N94="sníž. přenesená",J94,0) -> 0 | BI94: =IF(N94="nulová",J94,0) -> 0 | BJ94: 1 | BK94: =ROUND(I94*H94,2) -> 0 | BL94: 16 | BM94: -480315192
D95: PP | F95: Skříň 1060x800x240, vložkový zámek, tříbodové uzavírání, v kompaktním pilíři vč. základové rohože, IP44/20 | AT95: PP | AU95: 2
C96: 2 | D96: M | E96: M050 | F96: Zaslepovací pás max. délka 1m, pro výřezy 45mm, bílý | G96: kus | H96: 1 | J96: =ROUND(I96*H96,2) -> 0 | N96: základní | P96: =O96*H96 -> 0 | Q96: 0 | R96: =Q96*H96 -> 0 | S96: 0 | T96: =S96*H96 -> 0 | AR96: 32 | AT96: M | AU96: 2 | AY96: ROZPOCET | BE96: =IF(N96="základní",J96,0) -> 0 | BF96: =IF(N96="snížená",J96,0) -> 0 | BG96: =IF(N96="zákl. přenesená",J96,0) -> 0 | BH96: =IF(N96="sníž. přenesená",J96,0) -> 0 | BI96: =IF(N96="nulová",J96,0) -> 0 | BJ96: 1 | BK96: =ROUND(I96*H96,2) -> 0 | BL96: 16 | BM96: -1548167641
D97: PP | F97: Zaslepovací pás max. délka 1m, pro výřezy 45mm, bílý | AT97: PP | AU97: 2
C98: 3 | D98: M | E98: M051 | F98: Hlavní vypínač, 3-pól, In=40A | G98: kus | H98: 1 | J98: =ROUND(I98*H98,2) -> 0 | N98: základní | P98: =O98*H98 -> 0 | Q98: 0 | R98: =Q98*H98 -> 0 | S98: 0 | T98: =S98*H98 -> 0 | AR98: 32 | AT98: M | AU98: 2 | AY98: ROZPOCET | BE98: =IF(N98="základní",J98,0) -> 0 | BF98: =IF(N98="snížená",J98,0) -> 0 | BG98: =IF(N98="zákl. přenesená",J98,0) -> 0 | BH98: =IF(N98="sníž. přenesená",J98,0) -> 0 | BI98: =IF(N98="nulová",J98,0) -> 0 | BJ98: 1 | BK98: =ROUND(I98*H98,2) -> 0 | BL98: 16 | BM98: 477215810
D99: PP | F99: Hlavní vypínač, 3-pól, In=40A | AT99: PP | AU99: 2
C100: 4 | D100: M | E100: M052 | F100: Chránič s nadproudovou ochranou, Ir=250A, AC, 1+N, 10kA, char.B, Idn=0.03A, In=10A | G100: kus | H100: 3 | J100: =ROUND(I100*H100,2) -> 0 | N100: základní | P100: =O100*H100 -> 0 | Q100: 0 | R100: =Q100*H100 -> 0 | S100: 0 | T100: =S100*H100 -> 0 | AR100: 32 | AT100: M | AU100: 2 | AY100: ROZPOCET | BE100: =IF(N100="základní",J100,0) -> 0 | BF100: =IF(N100="snížená",J100,0) -> 0 | BG100: =IF(N100="zákl. přenesená",J100,0) -> 0 | BH100: =IF(N100="sníž. přenesená",J100,0) -> 0 | BI100: =IF(N100="nulová",J100,0) -> 0 | BJ100: 1 | BK100: =ROUND(I100*H100,2) -> 0 | BL100: 16 | BM100: 788806397
D101: PP | F101: Chránič s nadproudovou ochranou, Ir=250A, AC, 1+N, 10kA, char.B, Idn=0.03A, In=10A | AT101: PP | AU101: 2
C102: 5 | D102: M | E102: M079 | F102: Vypínač, 1-pól, In=25A | G102: kus | H102: 6 | J102: =ROUND(I102*H102,2) -> 0 | N102: základní | P102: =O102*H102 -> 0 | Q102: 0 | R102: =Q102*H102 -> 0 | S102: 0 | T102: =S102*H102 -> 0 | AR102: 32 | AT102: M | AU102: 2 | AY102: ROZPOCET | BE102: =IF(N102="základní",J102,0) -> 0 | BF102: =IF(N102="snížená",J102,0) -> 0 | BG102: =IF(N102="zákl. přenesená",J102,0) -> 0 | BH102: =IF(N102="sníž. přenesená",J102,0) -> 0 | BI102: =IF(N102="nulová",J102,0) -> 0 | BJ102: 1 | BK102: =ROUND(I102*H102,2) -> 0 | BL102: 16 | BM102: -248809008
D103: PP | F103: Vypínač, 1-pól, In=25A | AT103: PP | AU103: 2
C104: 6 | D104: M | E104: M060 | F104: DIN Lišta | G104: kus | H104: 2 | J104: =ROUND(I104*H104,2) -> 0 | N104: základní | P104: =O104*H104 -> 0 | Q104: 0 | R104: =Q104*H104 -> 0 | S104: 0 | T104: =S104*H104 -> 0 | AR104: 32 | AT104: M | AU104: 2 | AY104: ROZPOCET | BE104: =IF(N104="základní",J104,0) -> 0 | BF104: =IF(N104="snížená",J104,0) -> 0 | BG104: =IF(N104="zákl. přenesená",J104,0) -> 0 | BH104: =IF(N104="sníž. přenesená",J104,0) -> 0 | BI104: =IF(N104="nulová",J104,0) -> 0 | BJ104: 1 | BK104: =ROUND(I104*H104,2) -> 0 | BL104: 16 | BM104: 719882027
D105: PP | F105: DIN Lišta | AT105: PP | AU105: 2
C106: 7 | D106: M | E106: M061 | F106: Nosič svorkovnice na lištu | G106: kus | H106: 4 | J106: =ROUND(I106*H106,2) -> 0 | N106: základní | P106: =O106*H106 -> 0 | Q106: 0 | R106: =Q106*H106 -> 0 | S106: 0 | T106: =S106*H106 -> 0 | AR106: 32 | AT106: M | AU106: 2 | AY106: ROZPOCET | BE106: =IF(N106="základní",J106,0) -> 0 | BF106: =IF(N106="snížená",J106,0) -> 0 | BG106: =IF(N106="zákl. přenesená",J106,0) -> 0 | BH106: =IF(N106="sníž. přenesená",J106,0) -> 0 | BI106: =IF(N106="nulová",J106,0) -> 0 | BJ106: 1 | BK106: =ROUND(I106*H106,2) -> 0 | BL106: 16 | BM106: 133665330
D107: PP | F107: Nosič svorkovnice na lištu | AT107: PP | AU107: 2
C108: 8 | D108: M | E108: M062 | F108: Přípojnice Cu 20x5 | G108: kus | H108: 1 | J108: =ROUND(I108*H108,2) -> 0 | N108: základní | P108: =O108*H108 -> 0 | Q108: 0 | R108: =Q108*H108 -> 0 | S108: 0 | T108: =S108*H108 -> 0 | AR108: 32 | AT108: M | AU108: 2 | AY108: ROZPOCET | BE108: =IF(N108="základní",J108,0) -> 0 | BF108: =IF(N108="snížená",J108,0) -> 0 | BG108: =IF(N108="zákl. přenesená",J108,0) -> 0 | BH108: =IF(N108="sníž. přenesená",J108,0) -> 0 | BI108: =IF(N108="nulová",J108,0) -> 0 | BJ108: 1 | BK108: =ROUND(I108*H108,2) -> 0 | BL108: 16 | BM108: 1801607888
D109: PP | F109: Přípojnice Cu 20x5 | AT109: PP | AU109: 2
C110: 9 | D110: M | E110: M063 | F110: Přípojnice Cu 32x5 | G110: kus | H110: 2 | J110: =ROUND(I110*H110,2) -> 0 | N110: základní | P110: =O110*H110 -> 0 | Q110: 0 | R110: =Q110*H110 -> 0 | S110: 0 | T110: =S110*H110 -> 0 | AR110: 32 | AT110: M | AU110: 2 | AY110: ROZPOCET | BE110: =IF(N110="základní",J110,0) -> 0 | BF110: =IF(N110="snížená",J110,0) -> 0 | BG110: =IF(N110="zákl. přenesená",J110,0) -> 0 | BH110: =IF(N110="sníž. přenesená",J110,0) -> 0 | BI110: =IF(N110="nulová",J110,0) -> 0 | BJ110: 1 | BK110: =ROUND(I110*H110,2) -> 0 | BL110: 16 | BM110: 22216
D111: PP | F111: Přípojnice Cu 32x5 | AT111: PP | AU111: 2
C112: 10 | D112: M | E112: M064 | F112: Svorkovice nulová | G112: kus | H112: 2 | J112: =ROUND(I112*H112,2) -> 0 | N112: základní | P112: =O112*H112 -> 0 | Q112: 0 | R112: =Q112*H112 -> 0 | S112: 0 | T112: =S112*H112 -> 0 | AR112: 32 | AT112: M | AU112: 2 | AY112: ROZPOCET | BE112: =IF(N112="základní",J112,0) -> 0 | BF112: =IF(N112="snížená",J112,0) -> 0 | BG112: =IF(N112="zákl. přenesená",J112,0) -> 0 | BH112: =IF(N112="sníž. přenesená",J112,0) -> 0 | BI112: =IF(N112="nulová",J112,0) -> 0 | BJ112: 1 | BK112: =ROUND(I112*H112,2) -> 0 | BL112: 16 | BM112: 31256432
D113: PP | F113: Svorkovice nulová | AT113: PP | AU113: 2
C114: 11 | D114: M | E114: M065 | F114: Svorkovnice ochranná | G114: kus | H114: 2 | J114: =ROUND(I114*H114,2) -> 0 | N114: základní | P114: =O114*H114 -> 0 | Q114: 0 | R114: =Q114*H114 -> 0 | S114: 0 | T114: =S114*H114 -> 0 | AR114: 32 | AT114: M | AU114: 2 | AY114: ROZPOCET | BE114: =IF(N114="základní",J114,0) -> 0 | BF114: =IF(N114="snížená",J114,0) -> 0 | BG114: =IF(N114="zákl. přenesená",J114,0) -> 0 | BH114: =IF(N114="sníž. přenesená",J114,0) -> 0 | BI114: =IF(N114="nulová",J114,0) -> 0 | BJ114: 1 | BK114: =ROUND(I114*H114,2) -> 0 | BL114: 16 | BM114: -1147474261
D115: PP | F115: Svorkovnice ochranná | AT115: PP | AU115: 2
C116: 12 | D116: M | E116: M080 | F116: Svorkovnice řadová do 2.5mm2 | G116: kus | H116: 6 | J116: =ROUND(I116*H116,2) -> 0 | N116: základní | P116: =O116*H116 -> 0 | Q116: 0 | R116: =Q116*H116 -> 0 | S116: 0 | T116: =S116*H116 -> 0 | AR116: 32 | AT116: M | AU116: 2 | AY116: ROZPOCET | BE116: =IF(N116="základní",J116,0) -> 0 | BF116: =IF(N116="snížená",J116,0) -> 0 | BG116: =IF(N116="zákl. přenesená",J116,0) -> 0 | BH116: =IF(N116="sníž. přenesená",J116,0) -> 0 | BI116: =IF(N116="nulová",J116,0) -> 0 | BJ116: 1 | BK116: =ROUND(I116*H116,2) -> 0 | BL116: 16 | BM116: -1365314726
D117: PP | F117: Svorkovnice řadová do 2.5mm2 | AT117: PP | AU117: 2
C118: 13 | D118: M | E118: M081 | F118: Svorkovnice řadová do 16mm2 | G118: kus | H118: 6 | J118: =ROUND(I118*H118,2) -> 0 | N118: základní | P118: =O118*H118 -> 0 | Q118: 0 | R118: =Q118*H118 -> 0 | S118: 0 | T118: =S118*H118 -> 0 | AR118: 32 | AT118: M | AU118: 2 | AY118: ROZPOCET | BE118: =IF(N118="základní",J118,0) -> 0 | BF118: =IF(N118="snížená",J118,0) -> 0 | BG118: =IF(N118="zákl. přenesená",J118,0) -> 0 | BH118: =IF(N118="sníž. přenesená",J118,0) -> 0 | BI118: =IF(N118="nulová",J118,0) -> 0 | BJ118: 1 | BK118: =ROUND(I118*H118,2) -> 0 | BL118: 16 | BM118: -738707703
D119: PP | F119: Svorkovnice řadová do 16mm2 | AT119: PP | AU119: 2
C120: 14 | D120: M | E120: M082 | F120: Štítek s upozorněním na povinnost kontrol chráničů | G120: kus | H120: 3 | J120: =ROUND(I120*H120,2) -> 0 | N120: základní | P120: =O120*H120 -> 0 | Q120: 0 | R120: =Q120*H120 -> 0 | S120: 0 | T120: =S120*H120 -> 0 | AR120: 32 | AT120: M | AU120: 2 | AY120: ROZPOCET | BE120: =IF(N120="základní",J120,0) -> 0 | BF120: =IF(N120="snížená",J120,0) -> 0 | BG120: =IF(N120="zákl. přenesená",J120,0) -> 0 | BH120: =IF(N120="sníž. přenesená",J120,0) -> 0 | BI120: =IF(N120="nulová",J120,0) -> 0 | BJ120: 1 | BK120: =ROUND(I120*H120,2) -> 0 | BL120: 16 | BM120: 1347458638
D121: PP | F121: Štítek s upozorněním na povinnost kontrol chráničů | AT121: PP | AU121: 2
C122: 15 | D122: M | E122: M083 | F122: Popisovací tabulky pro počet obvodů: 90 (210x300) | G122: kus | H122: 1 | J122: =ROUND(I122*H122,2) -> 0 | N122: základní | P122: =O122*H122 -> 0 | Q122: 0 | R122: =Q122*H122 -> 0 | S122: 0 | T122: =S122*H122 -> 0 | AR122: 32 | AT122: M | AU122: 2 | AY122: ROZPOCET | BE122: =IF(N122="základní",J122,0) -> 0 | BF122: =IF(N122="snížená",J122,0) -> 0 | BG122: =IF(N122="zákl. přenesená",J122,0) -> 0 | BH122: =IF(N122="sníž. přenesená",J122,0) -> 0 | BI122: =IF(N122="nulová",J122,0) -> 0 | BJ122: 1 | BK122: =ROUND(I122*H122,2) -> 0 | BL122: 16 | BM122: 457135340
D123: PP | F123: Popisovací tabulky pro počet obvodů: 90 (210x300) | AT123: PP | AU123: 2
C124: 16 | D124: M | E124: M084 | F124: Propojovací lišta 1m, 3.pól+N, In=63A, 10mm2 | G124: kus | H124: 2 | J124: =ROUND(I124*H124,2) -> 0 | N124: základní | P124: =O124*H124 -> 0 | Q124: 0 | R124: =Q124*H124 -> 0 | S124: 0 | T124: =S124*H124 -> 0 | AR124: 32 | AT124: M | AU124: 2 | AY124: ROZPOCET | BE124: =IF(N124="základní",J124,0) -> 0 | BF124: =IF(N124="snížená",J124,0) -> 0 | BG124: =IF(N124="zákl. přenesená",J124,0) -> 0 | BH124: =IF(N124="sníž. přenesená",J124,0) -> 0 | BI124: =IF(N124="nulová",J124,0) -> 0 | BJ124: 1 | BK124: =ROUND(I124*H124,2) -> 0 | BL124: 16 | BM124: 121440504
D125: PP | F125: Propojovací lišta 1m, 3.pól+N, In=63A, 10mm2 | AT125: PP | AU125: 2
C126: 17 | D126: M | E126: M085 | F126: Koncový kryt k propoj liště 10mm2, 63A, 3-pól | G126: kus | H126: 6 | J126: =ROUND(I126*H126,2) -> 0 | N126: základní | P126: =O126*H126 -> 0 | Q126: 0 | R126: =Q126*H126 -> 0 | S126: 0 | T126: =S126*H126 -> 0 | AR126: 32 | AT126: M | AU126: 2 | AY126: ROZPOCET | BE126: =IF(N126="základní",J126,0) -> 0 | BF126: =IF(N126="snížená",J126,0) -> 0 | BG126: =IF(N126="zákl. přenesená",J126,0) -> 0 | BH126: =IF(N126="sníž. přenesená",J126,0) -> 0 | BI126: =IF(N126="nulová",J126,0) -> 0 | BJ126: 1 | BK126: =ROUND(I126*H126,2) -> 0 | BL126: 16 | BM126: -2116190281
D127: PP | F127: Koncový kryt k propoj liště 10mm2, 63A, 3-pól | AT127: PP | AU127: 2
C128: 18 | D128: M | E128: M086 | F128: Montáž přístrojů | G128: kus | H128: 1 | J128: =ROUND(I128*H128,2) -> 0 | N128: základní | P128: =O128*H128 -> 0 | Q128: 0 | R128: =Q128*H128 -> 0 | S128: 0 | T128: =S128*H128 -> 0 | AR128: 32 | AT128: M | AU128: 2 | AY128: ROZPOCET | BE128: =IF(N128="základní",J128,0) -> 0 | BF128: =IF(N128="snížená",J128,0) -> 0 | BG128: =IF(N128="zákl. přenesená",J128,0) -> 0 | BH128: =IF(N128="sníž. přenesená",J128,0) -> 0 | BI128: =IF(N128="nulová",J128,0) -> 0 | BJ128: 1 | BK128: =ROUND(I128*H128,2) -> 0 | BL128: 16 | BM128: -442488909
D129: PP | F129: Montáž přístrojů | AT129: PP | AU129: 2
C130: 19 | D130: M | E130: M087 | F130: Montáž skříně | G130: kus | H130: 1 | J130: =ROUND(I130*H130,2) -> 0 | N130: základní | P130: =O130*H130 -> 0 | Q130: 0 | R130: =Q130*H130 -> 0 | S130: 0 | T130: =S130*H130 -> 0 | AR130: 32 | AT130: M | AU130: 2 | AY130: ROZPOCET | BE130: =IF(N130="základní",J130,0) -> 0 | BF130: =IF(N130="snížená",J130,0) -> 0 | BG130: =IF(N130="zákl. přenesená",J130,0) -> 0 | BH130: =IF(N130="sníž. přenesená",J130,0) -> 0 | BI130: =IF(N130="nulová",J130,0) -> 0 | BJ130: 1 | BK130: =ROUND(I130*H130,2) -> 0 | BL130: 16 | BM130: 2117092117
D131: PP | F131: Montáž skříně | AT131: PP | AU131: 2
D132: D | E132: M | F132: Práce a dodávky M | J132: =BK132 -> 0 | P132: =P133+P199 -> 0 | R132: =R133+R199 -> 23.779318 | T132: =T133+T199 -> 0 | AR132: 3 | AT132: D | AU132: 0 | AY132: ROZPOCET | BK132: =BK133+BK199 -> 0
D133: D | E133: 21-M | F133: Elektromontáže | J133: =BK133 -> 0 | P133: =SUM(P134:P198) -> 0 | R133: =SUM(R134:R198) -> 0 | T133: =SUM(T134:T198) -> 0 | AR133: 3 | AT133: D | AU133: 1 | AY133: ROZPOCET | BK133: =SUM(BK134:BK198) -> 0
...

Sheet 22-SO051-02.4 - D.2.5 Zah...
AT2: {4d8dfc58-5e94-4e4d-9524-9cc1c677da6f} | AZ2: cibuloviny | BA2: počet vysazených cibulovin | BB2: ks | BC2: 1020 | BD2: 3
AT3: 2 | AZ3: keře | BA3: počet keřů celkem | BB3: ks | BC3: 119 | BD3: 3
D4: KRYCÍ LIST SOUPISU PRACÍ | M4: v --- níže se nacházejí doplnkové a pomocné údaje k sestavám --- v | AT4: False | AZ4: obrubník_ocel | BA4: délky ocelových obrubníků u štěrkových ploch kolem záhonů | BB4: m | BC4: 30 | BD4: 3
AZ5: pl_keře_skup | BA5: plocha navržených keřů ve skupinách | BB5: m2 | BC5: 70 | BD5: 3
D6: Stavba: | AZ6: pl_trv_mulc | BA6: plocha trvalkových záhonů mulčovaných borkou - A, B, C | BB6: m2 | BC6: 15 | BD6: 3
E7: ='Rekapitulace stavby'!K6 -> Regenerace veřejného prostranství Holasice | AZ7: pl_trv_štěrk | BA7: plocha trvalkových záhonů mulčovaných štěrkem - D | BB7: m2 | BC7: 40 | BD7: 3
D8: Objekt: | AZ8: stromy | BA8: navržené stromy | BB8: ks | BC8: 7 | BD8: 3
E9: 22-SO003-02 - Etapa 2 | AZ9: stromy_jehl | BA9: navržené jehličnaté stromy | BB9: ks | BC9: 1 | BD9: 3
D10: Soupis: | AZ10: stromy_list | BA10: navržené listnaté stromy | BB10: ks | BC10: 6 | BD10: 3
E11: 22-SO051-02.4 - D.2.5 Zahradní a sadové úpravy | AZ11: trávník | BA11: plocha založeného parkového trávníku celkem | BB11: m2 | BC11: 500 | BD11: 3
AZ12: trvalky | BA12: počet trvalek včetně trav | BB12: ks | BC12: 495 | BD12: 3
D13: KSO: | I13: CC-CZ:
D14: Místo: | F14: Holasice | I14: Datum: | J14: ='Rekapitulace stavby'!AN8 -> 4. 6. 2024
D16: Zadavatel: | I16: IČ:
E17: Obec Holasice | I17: DIČ:
D19: Uchazeč: | I19: IČ: | J19: ='Rekapitulace stavby'!AN13 -> Vyplň údaj
E20: ='Rekapitulace stavby'!E14 -> Vyplň údaj | I20: DIČ: | J20: ='Rekapitulace stavby'!AN14 -> Vyplň údaj
D22: Projektant: | I22: IČ:
E23: ARCHITEKTI A90 S.R.O. | I23: DIČ:
D25: Zpracovatel: | I25: IČ:
E26: Ing. Lenka Požárová | I26: DIČ:
D28: Poznámka:
D32: Cena bez DPH | J32: =ROUND(J105, 2) -> 0
F34: Základ daně | I34: Sazba daně | J34: Výše daně
D35: DPH | E35: základní | F35: =ROUND((SUM(BE105:BE770)), 2) -> 0 | I35: 0.21 | J35: =ROUND(((SUM(BE105:BE770))*I35), 2) -> 0
E36: snížená | F36: =ROUND((SUM(BF105:BF770)), 2) -> 0 | I36: 0.12 | J36: =ROUND(((SUM(BF105:BF770))*I36), 2) -> 0
E37: zákl. přenesená | F37: =ROUND((SUM(BG105:BG770)), 2) -> 0 | I37: 0.21 | J37: =0 -> 0
E38: sníž. přenesená | F38: =ROUND((SUM(BH105:BH770)), 2) -> 0 | I38: 0.12 | J38: =0 -> 0
E39: nulová | F39: =ROUND((SUM(BI105:BI770)), 2) -> 0 | I39: 0 | J39: =0 -> 0
D41: Cena s DPH | G41: v | H41: CZK | J41: =SUM(J32:J39) -> 0
C47: REKAPITULACE ČLENĚNÍ SOUPISU PRACÍ
C49: Stavba:
E50: =E7 -> Regenerace veřejného prostranství Holasice
C51: Objekt:
E52: 22-SO003-02 - Etapa 2
C53: Soupis:
E54: =E11 -> 22-SO051-02.4 - D.2.5 Zahradní a sadové úpravy
C56: Místo: | F56: =F14 -> Holasice | I56: Datum: | J56: =IF(J14="","",J14) -> 4. 6. 2024
C58: Zadavatel: | F58: =E17 -> Obec Holasice | I58: Projektant: | J58: =E23 -> ARCHITEKTI A90 S.R.O.
C59: Uchazeč: | F59: =IF(E20="","",E20) -> Vyplň údaj | I59: Zpracovatel: | J59: =E26 -> Ing. Lenka Požárová
C61: Kód dílu - Popis | J61: Cena celkem [CZK]
C63: Náklady stavby celkem | J63: =J105 -> 0 | AU63: -1
D64: HSV - Práce a dodávky HSV | J64: =J106 -> 0
D65: 1 - Zemní práce | J65: =J107 -> 0
D66: N30 - Kácení dřevin | J66: =J112 -> 0
D67: N04 - Sadové úpravy | J67: =J168 -> 0
D68: N03 - Příprava půdy | J68: =J169 -> 0
D69: N05 - Výsadba dřevin | J69: =J201 -> 0
D70: N10 - Materiál pro výsadbu | J70: =J286 -> 0
D71: N07 - Stromy | J71: =J287 -> 0
D72: N08 - Keře | J72: =J294 -> 0
D73: N037 - Založení trvalkového záhonu | J73: =J307 -> 0
D74: N023 - Výsadba trvalek | J74: =J363 -> 0
D75: N06 - Trvalky materiál | J75: =J385 -> 0
D76: N09 - Založení trávníku | J76: =J453 -> 0
D77: 998 - Přesun hmot | J77: =J483 -> 0
D78: OSTO - Následná péče po dobu 5 let | J78: =J490 -> 0
D79: OST1 - Následná péče v 1. roce | J79: =J491 -> 0
D80: OST2 - Následná péče v 2. roce | J80: =J542 -> 0
D81: OST3 - Následná péče v 3. roce | J81: =J592 -> 0
D82: OST4 - Následná péče v 4. roce | J82: =J662 -> 0
D83: OST5 - Následná péče v 5. roce | J83: =J722 -> 0
C90: SOUPIS PRACÍ
C92: Stavba:
E93: =E7 -> Regenerace veřejného prostranství Holasice
C94: Objekt:
E95: 22-SO003-02 - Etapa 2
C96: Soupis:
E97: =E11 -> 22-SO051-02.4 - D.2.5 Zahradní a sadové úpravy
C99: Místo: | F99: =F14 -> Holasice | I99: Datum: | J99: =IF(J14="","",J14) -> 4. 6. 2024
C101: Zadavatel: | F101: =E17 -> Obec Holasice | I101: Projektant: | J101: =E23 -> ARCHITEKTI A90 S.R.O.
C102: Uchazeč: | F102: =IF(E20="","",E20) -> Vyplň údaj | I102: Zpracovatel: | J102: =E26 -> Ing. Lenka Požárová
C104: PČ | D104: Typ | E104: Kód | F104: Popis | G104: MJ | H104: Množství | I104: J.cena [CZK] | J104: Cena celkem [CZK] | K104: Cenová soustava | N104: DPH | O104: J. Nh [h] | P104: Nh celkem [h] | Q104: J. hmotnost [t] | R104: Hmotnost celkem [t] | S104: J. suť [t] | T104: Suť Celkem [t]
C105: Náklady soupisu celkem | J105: =BK105 -> 0 | P105: =P106 -> 0 | R105: =R106 -> 22.99525 | T105: =T106 -> 0 | AT105: D | AU105: -1 | BK105: =BK106 -> 0
D106: D | E106: HSV | F106: Práce a dodávky HSV | J106: =BK106 -> 0 | P106: =P107+P112+P168+P490 -> 0 | R106: =R107+R112+R168+R490 -> 22.99525 | T106: =T107+T112+T168+T490 -> 0 | AR106: 1 | AT106: D | AU106: 0 | AY106: ROZPOCET | BK106: =BK107+BK112+BK168+BK490 -> 0
D107: D | E107: 1 | F107: Zemní práce | J107: =BK107 -> 0 | P107: =SUM(P108:P111) -> 0 | R107: =SUM(R108:R111) -> 0 | T107: =SUM(T108:T111) -> 0 | AR107: 1 | AT107: D | AU107: 1 | AY107: ROZPOCET | BK107: =SUM(BK108:BK111) -> 0
C108: 1 | D108: K | E108: R-111251102 | F108: Zrušení předzahrádky - odstranění křovin a stromů i s kořeny sklonu terénu do 1:5 z celkové plochy přes 100 do 500 m2 | G108: m2 | H108: 275 | J108: =ROUND(I108*H108,2) -> 0 | N108: základní | P108: =O108*H108 -> 0 | Q108: 0 | R108: =Q108*H108 -> 0 | S108: 0 | T108: =S108*H108 -> 0 | AR108: 4 | AT108: K | AU108: 2 | AY108: ROZPOCET | BE108: =IF(N108="základní",J108,0) -> 0 | BF108: =IF(N108="snížená",J108,0) -> 0 | BG108: =IF(N108="zákl. přenesená",J108,0) -> 0 | BH108: =IF(N108="sníž. přenesená",J108,0) -> 0 | BI108: =IF(N108="nulová",J108,0) -> 0 | BJ108: 1 | BK108: =ROUND(I108*H108,2) -> 0 | BL108: 4 | BM108: -1830121815
D109: PP | F109: Zrušení předzahrádky - odstranění křovin a stromů i s kořeny sklonu terénu do 1:5 z celkové plochy přes 100 do 500 m2 | AT109: PP | AU109: 2
C110: 2 | D110: K | E110: R-185805212 | F110: Zrušení trvalkových výsadeb na záhonech | G110: m2 | H110: 250 | J110: =ROUND(I110*H110,2) -> 0 | N110: základní | P110: =O110*H110 -> 0 | Q110: 0 | R110: =Q110*H110 -> 0 | S110: 0 | T110: =S110*H110 -> 0 | AR110: 4 | AT110: K | AU110: 2 | AY110: ROZPOCET | BE110: =IF(N110="základní",J110,0) -> 0 | BF110: =IF(N110="snížená",J110,0) -> 0 | BG110: =IF(N110="zákl. přenesená",J110,0) -> 0 | BH110: =IF(N110="sníž. přenesená",J110,0) -> 0 | BI110: =IF(N110="nulová",J110,0) -> 0 | BJ110: 1 | BK110: =ROUND(I110*H110,2) -> 0 | BL110: 4 | BM110: -116283456
D111: PP | F111: Zrušení trvalkových výsadeb na záhonech | AT111: PP | AU111: 2
D112: D | E112: N30 | F112: Kácení dřevin | J112: =BK112 -> 0 | P112: =SUM(P113:P167) -> 0 | R112: =SUM(R113:R167) -> 0 | T112: =SUM(T113:T167) -> 0 | AR112: 4 | AT112: D | AU112: 1 | AY112: ROZPOCET | BK112: =SUM(BK113:BK167) -> 0
C113: 3 | D113: K | E113: 111212351 | F113: Odstranění nevhodných dřevin do 100 m2 v přes 1 m s odstraněním pařezů v rovině nebo svahu do 1:5 | G113: m2 | H113: 80 | J113: =ROUND(I113*H113,2) -> 0 | K113: CS ÚRS 2024 01 | N113: základní | P113: =O113*H113 -> 0 | Q113: 0 | R113: =Q113*H113 -> 0 | S113: 0 | T113: =S113*H113 -> 0 | AR113: 512 | AT113: K | AU113: 2 | AY113: ROZPOCET | BE113: =IF(N113="základní",J113,0) -> 0 | BF113: =IF(N113="snížená",J113,0) -> 0 | BG113: =IF(N113="zákl. přenesená",J113,0) -> 0 | BH113: =IF(N113="sníž. přenesená",J113,0) -> 0 | BI113: =IF(N113="nulová",J113,0) -> 0 | BJ113: 1 | BK113: =ROUND(I113*H113,2) -> 0 | BL113: 512 | BM113: 1723973489
D114: PP | F114: Odstranění nevhodných dřevin průměru kmene do 100 mm výšky přes 1 m s odstraněním pařezu do 100 m2 v rovině nebo na svahu do 1:5 | AT114: PP | AU114: 2
D115: Online PSC | F115: https://podminky.urs.cz/item/CS_URS_2024_01/111212351 | AT115: Online PSC | AU115: 2
D116: VV | F116: "dle inv.tab.č.10,11,12"10+10+60 | H116: 80 | AT116: VV | AU116: 2 | AV116: 2 | AW116: True | AX116: 1 | AY116: ROZPOCET
C117: 4 | D117: K | E117: 112151311 | F117: Kácení stromu bez postupného spouštění koruny a kmene D přes 0,1 do 0,2 m | G117: kus | H117: 1 | J117: =ROUND(I117*H117,2) -> 0 | K117: CS ÚRS 2024 01 | N117: základní | P117: =O117*H117 -> 0 | Q117: 0 | R117: =Q117*H117 -> 0 | S117: 0 | T117: =S117*H117 -> 0 | AR117: 512 | AT117: K | AU117: 2 | AY117: ROZPOCET | BE117: =IF(N117="základní",J117,0) -> 0 | BF117: =IF(N117="snížená",J117,0) -> 0 | BG117: =IF(N117="zákl. přenesená",J117,0) -> 0 | BH117: =IF(N117="sníž. přenesená",J117,0) -> 0 | BI117: =IF(N117="nulová",J117,0) -> 0 | BJ117: 1 | BK117: =ROUND(I117*H117,2) -> 0 | BL117: 512 | BM117: -797298460
D118: PP | F118: Pokácení stromu postupné bez spouštění částí kmene a koruny o průměru na řezné ploše pařezu přes 100 do 200 mm | AT118: PP | AU118: 2
D119: Online PSC | F119: https://podminky.urs.cz/item/CS_URS_2024_01/112151311 | AT119: Online PSC | AU119: 2
D120: VV | F120: "dle inv.tab.č.4"1 | H120: 1 | AT120: VV | AU120: 2 | AV120: 2 | AW120: True | AX120: 1 | AY120: ROZPOCET
C121: 5 | D121: K | E121: 112151312 | F121: Kácení stromu bez postupného spouštění koruny a kmene D přes 0,2 do 0,3 m | G121: kus | H121: 1 | J121: =ROUND(I121*H121,2) -> 0 | K121: CS ÚRS 2024 01 | N121: základní | P121: =O121*H121 -> 0 | Q121: 0 | R121: =Q121*H121 -> 0 | S121: 0 | T121: =S121*H121 -> 0 | AR121: 512 | AT121: K | AU121: 2 | AY121: ROZPOCET | BE121: =IF(N121="základní",J121,0) -> 0 | BF121: =IF(N121="snížená",J121,0) -> 0 | BG121: =IF(N121="zákl. přenesená",J121,0) -> 0 | BH121: =IF(N121="sníž. přenesená",J121,0) -> 0 | BI121: =IF(N121="nulová",J121,0) -> 0 | BJ121: 1 | BK121: =ROUND(I121*H121,2) -> 0 | BL121: 512 | BM121: 103731607
D122: PP | F122: Pokácení stromu postupné bez spouštění částí kmene a koruny o průměru na řezné ploše pařezu přes 200 do 300 mm | AT122: PP | AU122: 2
D123: Online PSC | F123: https://podminky.urs.cz/item/CS_URS_2024_01/112151312 | AT123: Online PSC | AU123: 2
D124: VV | F124: "dle inv.tab.č.7"1 | H124: 1 | AT124: VV | AU124: 2 | AV124: 2 | AW124: True | AX124: 1 | AY124: ROZPOCET
C125: 6 | D125: K | E125: 112151313 | F125: Kácení stromu bez postupného spouštění koruny a kmene D přes 0,3 do 0,4 m | G125: kus | H125: 2 | J125: =ROUND(I125*H125,2) -> 0 | K125: CS ÚRS 2024 01 | N125: základní | P125: =O125*H125 -> 0 | Q125: 0 | R125: =Q125*H125 -> 0 | S125: 0 | T125: =S125*H125 -> 0 | AR125: 512 | AT125: K | AU125: 2 | AY125: ROZPOCET | BE125: =IF(N125="základní",J125,0) -> 0 | BF125: =IF(N125="snížená",J125,0) -> 0 | BG125: =IF(N125="zákl. přenesená",J125,0) -> 0 | BH125: =IF(N125="sníž. přenesená",J125,0) -> 0 | BI125: =IF(N125="nulová",J125,0) -> 0 | BJ125: 1 | BK125: =ROUND(I125*H125,2) -> 0 | BL125: 512 | BM125: -1384176997
D126: PP | F126: Pokácení stromu postupné bez spouštění částí kmene a koruny o průměru na řezné ploše pařezu přes 300 do 400 mm | AT126: PP | AU126: 2
D127: Online PSC | F127: https://podminky.urs.cz/item/CS_URS_2024_01/112151313 | AT127: Online PSC | AU127: 2
D128: VV | F128: "dle inv.tab.č.5,6"2 | H128: 2 | AT128: VV | AU128: 2 | AV128: 2 | AW128: True | AX128: 1 | AY128: ROZPOCET
C129: 7 | D129: K | E129: 112201111 | F129: Odstranění pařezů D do 0,2 m v rovině a svahu do 1:5 s odklizením do 20 m a zasypáním jámy | G129: kus | H129: 1 | J129: =ROUND(I129*H129,2) -> 0 | K129: CS ÚRS 2024 01 | N129: základní | P129: =O129*H129 -> 0 | Q129: 0 | R129: =Q129*H129 -> 0 | S129: 0 | T129: =S129*H129 -> 0 | AR129: 512 | AT129: K | AU129: 2 | AY129: ROZPOCET | BE129: =IF(N129="základní",J129,0) -> 0 | BF129: =IF(N129="snížená",J129,0) -> 0 | BG129: =IF(N129="zákl. přenesená",J129,0) -> 0 | BH129: =IF(N129="sníž. přenesená",J129,0) -> 0 | BI129: =IF(N129="nulová",J129,0) -> 0 | BJ129: 1 | BK129: =ROUND(I129*H129,2) -> 0 | BL129: 512 | BM129: -356742229
D130: PP | F130: Odstranění pařezu v rovině nebo na svahu do 1:5 o průměru pařezu na řezné ploše do 200 mm | AT130: PP | AU130: 2
D131: Online PSC | F131: https://podminky.urs.cz/item/CS_URS_2024_01/112201111 | AT131: Online PSC | AU131: 2
...

Sheet 22-SO051-02.5 - Vedlejší ...
AT2: {cb88a8fc-6f1a-4cc0-b95c-a1899d85d155}
AT3: 2
D4: KRYCÍ LIST SOUPISU PRACÍ | M4: v --- níže se nacházejí doplnkové a pomocné údaje k sestavám --- v | AT4: False
D6: Stavba:
E7: ='Rekapitulace stavby'!K6 -> Regenerace veřejného prostranství Holasice
D8: Objekt:
E9: 22-SO003-02 - Etapa 2
D10: Soupis:
E11: 22-SO051-02.5 - Vedlejší a ostatní náklady
D13: KSO: | I13: CC-CZ:
D14: Místo: | F14: Holasice | I14: Datum: | J14: ='Rekapitulace stavby'!AN8 -> 4. 6. 2024
D16: Zadavatel: | I16: IČ:
E17: Obec Holasice | I17: DIČ:
D19: Uchazeč: | I19: IČ: | J19: ='Rekapitulace stavby'!AN13 -> Vyplň údaj
E20: ='Rekapitulace stavby'!E14 -> Vyplň údaj | I20: DIČ: | J20: ='Rekapitulace stavby'!AN14 -> Vyplň údaj
D22: Projektant: | I22: IČ:
E23: ARCHITEKTI A90 S.R.O. | I23: DIČ:
D25: Zpracovatel: | I25: IČ:
E26: Votavová | I26: DIČ:
D28: Poznámka:
D32: Cena bez DPH | J32: =ROUND(J89, 2) -> 0
F34: Základ daně | I34: Sazba daně | J34: Výše daně
D35: DPH | E35: základní | F35: =ROUND((SUM(BE89:BE114)), 2) -> 0 | I35: 0.21 | J35: =ROUND(((SUM(BE89:BE114))*I35), 2) -> 0
E36: snížená | F36: =ROUND((SUM(BF89:BF114)), 2) -> 0 | I36: 0.12 | J36: =ROUND(((SUM(BF89:BF114))*I36), 2) -> 0
E37: zákl. přenesená | F37: =ROUND((SUM(BG89:BG114)), 2) -> 0 | I37: 0.21 | J37: =0 -> 0
E38: sníž. přenesená | F38: =ROUND((SUM(BH89:BH114)), 2) -> 0 | I38: 0.12 | J38: =0 -> 0
E39: nulová | F39: =ROUND((SUM(BI89:BI114)), 2) -> 0 | I39: 0 | J39: =0 -> 0
D41: Cena s DPH | G41: v | H41: CZK | J41: =SUM(J32:J39) -> 0
C47: REKAPITULACE ČLENĚNÍ SOUPISU PRACÍ
C49: Stavba:
E50: =E7 -> Regenerace veřejného prostranství Holasice
C51: Objekt:
E52: 22-SO003-02 - Etapa 2
C53: Soupis:
E54: =E11 -> 22-SO051-02.5 - Vedlejší a ostatní náklady
C56: Místo: | F56: =F14 -> Holasice | I56: Datum: | J56: =IF(J14="","",J14) -> 4. 6. 2024
C58: Zadavatel: | F58: =E17 -> Obec Holasice | I58: Projektant: | J58: =E23 -> ARCHITEKTI A90 S.R.O.
C59: Uchazeč: | F59: =IF(E20="","",E20) -> Vyplň údaj | I59: Zpracovatel: | J59: =E26 -> Votavová
C61: Kód dílu - Popis | J61: Cena celkem [CZK]
C63: Náklady stavby celkem | J63: =J89 -> 0 | AU63: -1
D64: VRN - Vedlejší rozpočtové náklady | J64: =J90 -> 0
D65: VRN1 - Průzkumné, geodetické a projektové práce | J65: =J91 -> 0
D66: VRN3 - Zařízení staveniště | J66: =J105 -> 0
D67: VRN4 - Inženýrská činnost | J67: =J109 -> 0
C74: SOUPIS PRACÍ
C76: Stavba:
E77: =E7 -> Regenerace veřejného prostranství Holasice
C78: Objekt:
E79: 22-SO003-02 - Etapa 2
C80: Soupis:
E81: =E11 -> 22-SO051-02.5 - Vedlejší a ostatní náklady
C83: Místo: | F83: =F14 -> Holasice | I83: Datum: | J83: =IF(J14="","",J14) -> 4. 6. 2024
C85: Zadavatel: | F85: =E17 -> Obec Holasice | I85: Projektant: | J85: =E23 -> ARCHITEKTI A90 S.R.O.
C86: Uchazeč: | F86: =IF(E20="","",E20) -> Vyplň údaj | I86: Zpracovatel: | J86: =E26 -> Votavová
C88: PČ | D88: Typ | E88: Kód | F88: Popis | G88: MJ | H88: Množství | I88: J.cena [CZK] | J88: Cena celkem [CZK] | K88: Cenová soustava | N88: DPH | O88: J. Nh [h] | P88: Nh celkem [h] | Q88: J. hmotnost [t] | R88: Hmotnost celkem [t] | S88: J. suť [t] | T88: Suť Celkem [t]
C89: Náklady soupisu celkem | J89: =BK89 -> 0 | P89: =P90 -> 0 | R89: =R90 -> 0 | T89: =T90 -> 0 | AT89: D | AU89: -1 | BK89: =BK90 -> 0
D90: D | E90: VRN | F90: Vedlejší rozpočtové náklady | J90: =BK90 -> 0 | P90: =P91+P105+P109 -> 0 | R90: =R91+R105+R109 -> 0 | T90: =T91+T105+T109 -> 0 | AR90: 5 | AT90: D | AU90: 0 | AY90: ROZPOCET | BK90: =BK91+BK105+BK109 -> 0
D91: D | E91: VRN1 | F91: Průzkumné, geodetické a projektové práce | J91: =BK91 -> 0 | P91: =SUM(P92:P104) -> 0 | R91: =SUM(R92:R104) -> 0 | T91: =SUM(T92:T104) -> 0 | AR91: 5 | AT91: D | AU91: 1 | AY91: ROZPOCET | BK91: =SUM(BK92:BK104) -> 0
C92: 1 | D92: K | E92: 012103000 | F92: Geodetické práce před výstavbou | G92: Kč | H92: 1 | J92: =ROUND(I92*H92,2) -> 0 | K92: CS ÚRS 2024 01 | N92: základní | P92: =O92*H92 -> 0 | Q92: 0 | R92: =Q92*H92 -> 0 | S92: 0 | T92: =S92*H92 -> 0 | AR92: 1024 | AT92: K | AU92: 2 | AY92: ROZPOCET | BE92: =IF(N92="základní",J92,0) -> 0 | BF92: =IF(N92="snížená",J92,0) -> 0 | BG92: =IF(N92="zákl. přenesená",J92,0) -> 0 | BH92: =IF(N92="sníž. přenesená",J92,0) -> 0 | BI92: =IF(N92="nulová",J92,0) -> 0 | BJ92: 1 | BK92: =ROUND(I92*H92,2) -> 0 | BL92: 1024 | BM92: -538724254
D93: PP | F93: Geodetické práce před výstavbou | AT93: PP | AU93: 2
D94: Online PSC | F94: https://podminky.urs.cz/item/CS_URS_2024_01/012103000 | AT94: Online PSC | AU94: 2
C95: 2 | D95: K | E95: 012103101 | F95: Vytýčení inženýrských sítí dotčených nebo souvisejících se stavbou před nebo v průběhu výstavby" | G95: soubor | H95: 1 | J95: =ROUND(I95*H95,2) -> 0 | N95: základní | P95: =O95*H95 -> 0 | Q95: 0 | R95: =Q95*H95 -> 0 | S95: 0 | T95: =S95*H95 -> 0 | AR95: 1024 | AT95: K | AU95: 2 | AY95: ROZPOCET | BE95: =IF(N95="základní",J95,0) -> 0 | BF95: =IF(N95="snížená",J95,0) -> 0 | BG95: =IF(N95="zákl. přenesená",J95,0) -> 0 | BH95: =IF(N95="sníž. přenesená",J95,0) -> 0 | BI95: =IF(N95="nulová",J95,0) -> 0 | BJ95: 1 | BK95: =ROUND(I95*H95,2) -> 0 | BL95: 1024 | BM95: -1075441485
D96: PP | F96: Vytýčení inženýrských sítí dotčených nebo souvisejících se stavbou před nebo v průběhu výstavby" | AT96: PP | AU96: 2
D97: P | F97: Poznámka k položce:_x000D_ | AT97: P | AU97: 2
C98: 3 | D98: K | E98: 012303000 | F98: Geodetické práce po výstavbě | G98: Kč | H98: 1 | J98: =ROUND(I98*H98,2) -> 0 | K98: CS ÚRS 2024 01 | N98: základní | P98: =O98*H98 -> 0 | Q98: 0 | R98: =Q98*H98 -> 0 | S98: 0 | T98: =S98*H98 -> 0 | AR98: 1024 | AT98: K | AU98: 2 | AY98: ROZPOCET | BE98: =IF(N98="základní",J98,0) -> 0 | BF98: =IF(N98="snížená",J98,0) -> 0 | BG98: =IF(N98="zákl. přenesená",J98,0) -> 0 | BH98: =IF(N98="sníž. přenesená",J98,0) -> 0 | BI98: =IF(N98="nulová",J98,0) -> 0 | BJ98: 1 | BK98: =ROUND(I98*H98,2) -> 0 | BL98: 1024 | BM98: 475582371
D99: PP | F99: Geodetické práce po výstavbě | AT99: PP | AU99: 2
D100: Online PSC | F100: https://podminky.urs.cz/item/CS_URS_2024_01/012303000 | AT100: Online PSC | AU100: 2
C101: 4 | D101: K | E101: 013254000 | F101: Dokumentace skutečného provedení stavby - ve 4 vyhotoveních v grafické (tištěné) podobě, 1x digitální. | G101: Kč | H101: 1 | J101: =ROUND(I101*H101,2) -> 0 | K101: CS ÚRS 2024 01 | N101: základní | P101: =O101*H101 -> 0 | Q101: 0 | R101: =Q101*H101 -> 0 | S101: 0 | T101: =S101*H101 -> 0 | AR101: 1024 | AT101: K | AU101: 2 | AY101: ROZPOCET | BE101: =IF(N101="základní",J101,0) -> 0 | BF101: =IF(N101="snížená",J101,0) -> 0 | BG101: =IF(N101="zákl. přenesená",J101,0) -> 0 | BH101: =IF(N101="sníž. přenesená",J101,0) -> 0 | BI101: =IF(N101="nulová",J101,0) -> 0 | BJ101: 1 | BK101: =ROUND(I101*H101,2) -> 0 | BL101: 1024 | BM101: -1081692796
D102: PP | F102: Průzkumné, geodetické a projektové práce projektové práce dokumentace stavby (výkresová a textová) skutečného provedení stavby | AT102: PP | AU102: 2
D103: Online PSC | F103: https://podminky.urs.cz/item/CS_URS_2024_01/013254000 | AT103: Online PSC | AU103: 2
D104: P | F104: Poznámka k položce:_x000D_ Poznámka k položce: Náklady na vypracování dokumentace skutečného provedení stavby - ve 4 vyhotoveních v grafické (tištěné) podobě, 1x digitální. Veškeré změny provedení stavby proti původnímu projektu musí být zapracovány do této dokumentace v souladu s ustanovením odst. 6 § 125 zákona č. 183/2006 Sb. (stavebního zákona) a § 4 vyhlášky č. 499/2006 Sb. Rozsah dokumentace určuje příloha č. 3 vyhlášky č. 499/2006 Sb., o dokumentaci staveb. | AT104: P | AU104: 2
D105: D | E105: VRN3 | F105: Zařízení staveniště | J105: =BK105 -> 0 | P105: =SUM(P106:P108) -> 0 | R105: =SUM(R106:R108) -> 0 | T105: =SUM(T106:T108) -> 0 | AR105: 5 | AT105: D | AU105: 1 | AY105: ROZPOCET | BK105: =SUM(BK106:BK108) -> 0
C106: 5 | D106: K | E106: 030001001.1 | F106: Zařízení staveniště, provoz, zrušení zařízení staveniště | G106: Kč | H106: 1 | J106: =ROUND(I106*H106,2) -> 0 | N106: základní | P106: =O106*H106 -> 0 | Q106: 0 | R106: =Q106*H106 -> 0 | S106: 0 | T106: =S106*H106 -> 0 | AR106: 1024 | AT106: K | AU106: 2 | AY106: ROZPOCET | BE106: =IF(N106="základní",J106,0) -> 0 | BF106: =IF(N106="snížená",J106,0) -> 0 | BG106: =IF(N106="zákl. přenesená",J106,0) -> 0 | BH106: =IF(N106="sníž. přenesená",J106,0) -> 0 | BI106: =IF(N106="nulová",J106,0) -> 0 | BJ106: 1 | BK106: =ROUND(I106*H106,2) -> 0 | BL106: 1024 | BM106: -367915240
D107: PP | F107: Zařízení staveniště, zrušení zařízení staveniště | AT107: PP | AU107: 2
D108: P | F108: Poznámka k položce:_x000D_ Náklady na vybudování a zajištění zařízení staveniště a jeho provoz, údržbu a likvidaci v souladu s platnými právními předpisy, včetně případného zajištění ohlášení dle zákona č. 183/2006 Sb., o územním plánování a stavebním řádu (stavební zákon), ve znění pozdějších předpisů; zřízení staveništních přípojek energií (vody a energie), jejich měření, provoz, údržba, úhrada a likvidace; zajištění případného zimního opatření; náklady na úpravu povrchů po odstranění zařízení staveniště a úklid ploch, na kterých bylo zařízení staveniště provozováno; dodávka, skladování, správa, zabudování a montáž veškerých dílů a materiálů a zařízení týkající se veřejné zakázky; zajištění staveniště proti přístupu nepovolaných osob, zabezpečení staveniště. Náklady na vybavení objektů zařízení staveniště a odstranění objektů zařízení staveniště včetně odvozu. Náklady na střežení, vhodné zabezpečení staveniště. | AT108: P | AU108: 2
D109: D | E109: VRN4 | F109: Inženýrská činnost | J109: =BK109 -> 0 | P109: =SUM(P110:P114) -> 0 | R109: =SUM(R110:R114) -> 0 | T109: =SUM(T110:T114) -> 0 | AR109: 5 | AT109: D | AU109: 1 | AY109: ROZPOCET | BK109: =SUM(BK110:BK114) -> 0
C110: 6 | D110: K | E110: 043194000 | F110: Ostatní zkoušky (únosnost pláně, konstrukční vrstvy) | G110: souhrn | H110: 1 | J110: =ROUND(I110*H110,2) -> 0 | K110: CS ÚRS 2024 01 | N110: základní | P110: =O110*H110 -> 0 | Q110: 0 | R110: =Q110*H110 -> 0 | S110: 0 | T110: =S110*H110 -> 0 | AR110: 1024 | AT110: K | AU110: 2 | AY110: ROZPOCET | BE110: =IF(N110="základní",J110,0) -> 0 | BF110: =IF(N110="snížená",J110,0) -> 0 | BG110: =IF(N110="zákl. přenesená",J110,0) -> 0 | BH110: =IF(N110="sníž. přenesená",J110,0) -> 0 | BI110: =IF(N110="nulová",J110,0) -> 0 | BJ110: 1 | BK110: =ROUND(I110*H110,2) -> 0 | BL110: 1024 | BM110: 1073268574
D111: PP | F111: Ostatní zkoušky (únosnost pláně, konstrukční vrstvy) | AT111: PP | AU111: 2
D112: Online PSC | F112: https://podminky.urs.cz/item/CS_URS_2024_01/043194000 | AT112: Online PSC | AU112: 2
C113: 7 | D113: K | E113: 045203000.1 | F113: Kompletační a kordinační činnost | G113: Kč | H113: 1 | J113: =ROUND(I113*H113,2) -> 0 | N113: základní | P113: =O113*H113 -> 0 | Q113: 0 | R113: =Q113*H113 -> 0 | S113: 0 | T113: =S113*H113 -> 0 | AR113: 1024 | AT113: K | AU113: 2 | AY113: ROZPOCET | BE113: =IF(N113="základní",J113,0) -> 0 | BF113: =IF(N113="snížená",J113,0) -> 0 | BG113: =IF(N113="zákl. přenesená",J113,0) -> 0 | BH113: =IF(N113="sníž. přenesená",J113,0) -> 0 | BI113: =IF(N113="nulová",J113,0) -> 0 | BJ113: 1 | BK113: =ROUND(I113*H113,2) -> 0 | BL113: 1024 | BM113: -1757869179
D114: PP | F114: Kompletační a kordinační činnost | AT114: PP | AU114: 2

Sheet Seznam figur
C4: SEZNAM FIGUR
C5: Kód: | D5: 24-SO051
C6: Stavba: | D6: Regenerace veřejného prostranství Holasice
C7: Datum: | D7: ='Rekapitulace stavby'!AN8 -> 4. 6. 2024
C9: Kód | D9: Popis | E9: MJ | F9: Výměra
C10: 22-SO003-02/ 22-SO051-02.4 | D10: D.2.5 Zahradní a sadové úpravy
C11: bioodpad_drn | D11: bioodpad_drn | F11: 36
C12: bioodpad_drn | D12: "plocha keřů a trvalek"11+25 | F12: 36
C13: Použití figury:
C14: 111301111 | D14: Sejmutí drnu tl do 100 mm s přemístěním do 50 m nebo naložením na dopravní prostředek | E14: m2 | F14: 36
C15: 997221658 | D15: Poplatek za uložení na skládce (skládkovné) z rostlinných pletiv kód odpadu 02 01 03 | E15: t | F15: 1.98
C16: bioodpad_kaceni | D16: bioodpad_kaceni | F16: 0
C17: bioodpad_kaceni | D17: "objem nadrcených korun, přepočteno na 1prmskácení_objem_korun*0,35" | F17: 0
C18: bioodpad_pokos | D18: bioodpad_pokos | F18: 90
C19: bioodpad_pokos | D19: "množství pokosené trávy v m3"pokos_park*0,3*0,1 | F19: 90
C20: Použití figury:
C21: 997221658 | D21: Poplatek za uložení na skládce (skládkovné) z rostlinných pletiv kód odpadu 02 01 03 | E21: t | F21: 9
C22: 997221658 | D22: Poplatek za uložení na skládce (skládkovné) z rostlinných pletiv kód odpadu 02 01 03 | E22: t | F22: 9
C23: 997221658 | D23: Poplatek za uložení na skládce (skládkovné) z rostlinných pletiv kód odpadu 02 01 03 | E23: t | F23: 9
C24: 997221658 | D24: Poplatek za uložení na skládce (skládkovné) z rostlinných pletiv kód odpadu 02 01 03 | E24: t | F24: 9
C25: cibuloviny | D25: počet vysazených cibulovin | E25: ks | F25: 1020
C26: Použití figury:
C27: 183111111 | D27: Hloubení jamek bez výměny půdy zeminy skupiny 1 až 4 obj do 0,002 m3 v rovině a svahu do 1:5 | E27: kus | F27: 1515
C28: 183211313 | D28: Výsadba cibulí nebo hlíz | E28: kus | F28: 1020
C29: keře | D29: počet keřů celkem | E29: ks | F29: 119
C30: Použití figury:
C31: 183111113 | D31: Hloubení jamek bez výměny půdy zeminy skupiny 1 až 4 obj přes 0,005 do 0,01 m3 v rovině a svahu do 1:5 | E31: kus | F31: 119
C32: 184102111 | D32: Výsadba dřeviny s balem D přes 0,1 do 0,2 m do jamky se zalitím v rovině a svahu do 1:5 | E32: kus | F32: 119
C33: obrubník_ocel | D33: délky ocelových obrubníků u štěrkových ploch kolem záhonů | E33: m | F33: 30
C34: Použití figury:
C35: R-1018 | D35: Ocelová samofixační obruba, ocelový pozink. plech 2000x200x2mm, s vrchním lemem | E35: m | F35: 31.5
C36: R-916371214 | D36: Osazení ocelové pásoviny zarytím včetně začištění | E36: m | F36: 30
C37: pl_keře_skup | D37: plocha navržených keřů ve skupinách | E37: m2 | F37: 70
C38: Použití figury:
C39: 181351003 | D39: Rozprostření ornice tl vrstvy do 200 mm pl do 100 m2 v rovině nebo ve svahu do 1:5 strojně | E39: m2 | F39: 70
C40: 183403114 | D40: Obdělání půdy kultivátorováním v rovině a svahu do 1:5 | E40: m2 | F40: 70
C41: 183403153 | D41: Obdělání půdy hrabáním v rovině a svahu do 1:5 | E41: m2 | F41: 70
C42: 184802111 | D42: Chemické odplevelení před založením kultury nad 20 m2 postřikem na široko v rovině a svahu do 1:5 | E42: m2 | F42: 140
C43: 184911421 | D43: Mulčování rostlin kůrou tl do 0,1 m v rovině a svahu do 1:5 | E43: m2 | F43: 77
C44: 184911421 | D44: Mulčování rostlin kůrou tl do 0,1 m v rovině a svahu do 1:5 | E44: m2 | F44: 92
C45: 185804214 | D45: Vypletí záhonu dřevin ve skupinách s naložením a odvozem odpadu do 20 km v rovině a svahu do 1:5 | E45: m2 | F45: 140
C46: 185804214 | D46: Vypletí záhonu dřevin ve skupinách s naložením a odvozem odpadu do 20 km v rovině a svahu do 1:5 | E46: m2 | F46: 70
C47: 185804214 | D47: Vypletí záhonu dřevin ve skupinách s naložením a odvozem odpadu do 20 km v rovině a svahu do 1:5 | E47: m2 | F47: 140
C48: 185804214 | D48: Vypletí záhonu dřevin ve skupinách s naložením a odvozem odpadu do 20 km v rovině a svahu do 1:5 | E48: m2 | F48: 70
C49: 185804214 | D49: Vypletí záhonu dřevin ve skupinách s naložením a odvozem odpadu do 20 km v rovině a svahu do 1:5 | E49: m2 | F49: 140
C50: 185804312 | D50: Zalití rostlin vodou plocha přes 20 m2 | E50: m3 | F50: 1.26
... C58: pl_trv_mulc | D58: plocha trvalkových záhonů mulčovaných borkou - A, B, C | E58: m2 | F58: 15
C59: Použití figury:
C60: 183403114 | D60: Obdělání půdy kultivátorováním v rovině a svahu do 1:5 | E60: m2 | F60: 55
C61: 183403153.1 | D61: Obdělání půdy hrabáním v rovině a svahu do 1:5 | E61: m2 | F61: 55
C62: 184802111 | D62: Chemické odplevelení před založením kultury nad 20 m2 postřikem na široko v rovině a svahu do 1:5 | E62: m2 | F62: 110
C63: 184851111 | D63: Hnojení roztokem hnojiva v rovině a svahu přes 1:5 do 1:2 | E63: m2 | F63: 15
C64: 184851111 | D64: Hnojení roztokem hnojiva v rovině a svahu přes 1:5 do 1:2 | E64: m2 | F64: 15
C65: 184851111 | D65: Hnojení roztokem hnojiva v rovině a svahu přes 1:5 do 1:2 | E65: m2 | F65: 15
C66: 184851111 | D66: Hnojení roztokem hnojiva v rovině a svahu přes 1:5 do 1:2 | E66: m2 | F66: 15
C67: 184851111 | D67: Hnojení roztokem hnojiva v rovině a svahu přes 1:5 do 1:2 | E67: m2 | F67: 15
C68: 184911421 | D68: Mulčování rostlin kůrou tl do 0,1 m v rovině a svahu do 1:5 | E68: m2 | F68: 15
C69: 184911421 | D69: Mulčování rostlin kůrou tl do 0,1 m v rovině a svahu do 1:5 | E69: m2 | F69: 92
C70: 185804252 | D70: Odstranění odkvetlých a odumřelých částí trvalek s odklizením odpadu do 20 km | E70: m2 | F70: 30
C71: 185804252 | D71: Odstranění odkvetlých a odumřelých částí trvalek s odklizením odpadu do 20 km | E71: m2 | F71: 30
... C82: pl_trv_štěrk | D82: plocha trvalkových záhonů mulčovaných štěrkem - D | E82: m2 | F82: 40
C83: Použití figury:
C84: 122111101 | D84: Odkopávky a prokopávky v hornině třídy těžitelnosti I, skupiny 1 a 2 ručně | E84: m3 | F84: 6
C85: 183403114 | D85: Obdělání půdy kultivátorováním v rovině a svahu do 1:5 | E85: m2 | F85: 55
C86: 183403153.1 | D86: Obdělání půdy hrabáním v rovině a svahu do 1:5 | E86: m2 | F86: 55
C87: 184802111 | D87: Chemické odplevelení před založením kultury nad 20 m2 postřikem na široko v rovině a svahu do 1:5 | E87: m2 | F87: 110
C88: 184911161 | D88: Mulčování záhonů kačírkem tl vrstvy přes 0,05 do 0,1 m v rovině a svahu do 1:5 | E88: m2 | F88: 40
C89: 184911161 | D89: Mulčování záhonů kačírkem tl vrstvy přes 0,05 do 0,1 m v rovině a svahu do 1:5 | E89: m2 | F89: 40
C90: 185804312 | D90: Zalití rostlin vodou plocha přes 20 m2 | E90: m3 | F90: 14.6
C91: 185804312.1 | D91: Zalití rostlin vodou plocha přes 20 m2 | E91: m3 | F91: 0.55
C92: R-564201111 | D92: Podklad nebo podsyp ze štěrkopísku ŠP tl do 10 mm | E92: m2 | F92: 32
C93: 58337302 | D93: štěrkopísek frakce 0/16 | E93: t | F93: 6.4
C94: 58343872 | D94: kamenivo drcené hrubé frakce 8/16 | E94: t | F94: 2.4
C95: 58343872 | D95: kamenivo drcené hrubé frakce 8/16 | E95: t | F95: 5.6
C96: pokos_park | D96: pokos_park | F96: 3000
C97: pokos_park | D97: "parkový trávník 6x ročně"trávník*6 | F97: 3000
C98: Použití figury:
C99: 111151121 | D99: Pokosení trávníku parkového pl do 1000 m2 s odvozem do 20 km v rovině a svahu do 1:5 | E99: m2 | F99: 3000
C100: 997221658 | D100: Poplatek za uložení na skládce (skládkovné) z rostlinných pletiv kód odpadu 02 01 03 | E100: t | F100: 9
C101: 997221658 | D101: Poplatek za uložení na skládce (skládkovné) z rostlinných pletiv kód odpadu 02 01 03 | E101: t | F101: 9
C102: 997221658 | D102: Poplatek za uložení na skládce (skládkovné) z rostlinných pletiv kód odpadu 02 01 03 | E102: t | F102: 9
C103: 997221658 | D103: Poplatek za uložení na skládce (skládkovné) z rostlinných pletiv kód odpadu 02 01 03 | E103: t | F103: 9
C104: stromy | D104: navržené stromy | E104: ks | F104: 7
C105: Použití figury:
C106: 183101115 | D106: Hloubení jamek bez výměny půdy zeminy skupiny 1 až 4 obj přes 0,125 do 0,4 m3 v rovině a svahu do 1:5 | E106: kus | F106: 7
C107: 184102114 | D107: Výsadba dřeviny s balem D přes 0,4 do 0,5 m do jamky se zalitím v rovině a svahu do 1:5 | E107: kus | F107: 7
C108: 184215411 | D108: Zhotovení závlahové mísy dřevin D do 0,5 m v rovině nebo na svahu do 1:5 | E108: kus | F108: 7
C109: 184911111.1 | D109: Uvázání dřeviny ke kůlům | E109: kus | F109: 7
C110: 184911421 | D110: Mulčování rostlin kůrou tl do 0,1 m v rovině a svahu do 1:5 | E110: m2 | F110: 77
C111: 184911421 | D111: Mulčování rostlin kůrou tl do 0,1 m v rovině a svahu do 1:5 | E111: m2 | F111: 92
C112: 185804213 | D112: Vypletí záhonu dřevin soliterních s naložením a odvozem odpadu do 20 km v rovině a svahu do 1:5 | E112: m2 | F112: 14
C113: 185804213 | D113: Vypletí záhonu dřevin soliterních s naložením a odvozem odpadu do 20 km v rovině a svahu do 1:5 | E113: m2 | F113: 14
C114: 185804213 | D114: Vypletí záhonu dřevin soliterních s naložením a odvozem odpadu do 20 km v rovině a svahu do 1:5 | E114: m2 | F114: 7
C115: 185804213 | D115: Vypletí záhonu dřevin soliterních s naložením a odvozem odpadu do 20 km v rovině a svahu do 1:5 | E115: m2 | F115: 7
C116: 185804213 | D116: Vypletí záhonu dřevin soliterních s naložením a odvozem odpadu do 20 km v rovině a svahu do 1:5 | E116: m2 | F116: 14
C117: 185804312 | D117: Zalití rostlin vodou plocha přes 20 m2 | E117: m3 | F117: 8.04
... C130: stromy_jehl | D130: navržené jehličnaté stromy | E130: ks | F130: 1
C131: Použití figury:
C132: 184215113 | D132: Ukotvení kmene dřevin v rovině nebo na svahu do 1:5 jedním kůlem D do 0,1 m dl přes 2 do 3 m | E132: kus | F132: 1
C133: 184215153 | D133: Odstranění ukotvení kmene dřevin jedním kůlem D do 0,1 m dl přes 2 do 3 m | E133: kus | F133: 1
...

Sheet Pokyny pro vyplnění
C3: Struktura údajů, formát souboru a metodika pro zpracování
C4: Struktura
C6: Soubor je složen ze záložky Rekapitulace stavby a záložek s názvem soupisu prací pro jednotlivé objekty ve formátu XLSX. Každá ze záložek přitom obsahuje
C7: ještě samostatné sestavy vymezené orámovaním a nadpisem sestavy.
C9: Rekapitulace stavby obsahuje sestavu Rekapitulace stavby a Rekapitulace objektů stavby a soupisů prací.
D10: V sestavě Rekapitulace stavby jsou uvedeny informace identifikující předmět veřejné zakázky na stavební práce, KSO, CC-CZ, CZ-CPV, CZ-CPA a rekapitulaci
D11: celkové nabídkové ceny uchazeče.
D13: Termínem "uchazeč" (resp. zhotovitel) se myslí "účastník zadávacího řízení" ve smyslu zákona o zadávání veřejných zakázek.
D15: V sestavě Rekapitulace objektů stavby a soupisů prací je uvedena rekapitulace stavebních objektů, inženýrských objektů, provozních souborů,
D16: vedlejších a ostatních nákladů a ostatních nákladů s rekapitulací nabídkové ceny za jednotlivé soupisy prací. Na základě údaje Typ je možné
D17: identifikovat, zda se jedná o objekt nebo soupis prací pro daný objekt:
E18: STA | F18: Stavební objekt pozemní
E19: ING | F19: Stavební objekt inženýrský
E20: PRO | F20: Provozní soubor
E21: VON | F21: Vedlejší a ostatní náklady
E22: OST | F22: Ostatní
E23: Soupis | F23: Soupis prací pro daný typ objektu
C25: Soupis prací pro jednotlivé objekty obsahuje sestavy Krycí list soupisu prací, Rekapitulace členění soupisu prací, Soupis prací. Za soupis prací může být považován
C26: i objekt stavby v případě, že neobsahuje podřízenou zakázku.
D27: Krycí list soupisu obsahuje rekapitulaci informací o předmětu veřejné zakázky ze sestavy Rekapitulace stavby, informaci o zařazení objektu do KSO,
D28: CC-CZ, CZ-CPV, CZ-CPA a rekapitulaci celkové nabídkové ceny uchazeče za aktuální soupis prací.
D30: Rekapitulace členění soupisu prací obsahuje rekapitulaci soupisu prací ve všech úrovních členění soupisu tak, jak byla tato členění použita (např.
D31: stavební díly, funkční díly, případně jiné členění) s rekapitulací nabídkové ceny.
D33: Soupis prací obsahuje položky veškerých stavebních nebo montážních prací, dodávek materiálů a služeb nezbytných pro zhotovení stavebního objektu,
D34: inženýrského objektu, provozního souboru, vedlejších a ostatních nákladů.
D35: Pro položky soupisu prací se zobrazují následující informace:
E36: PČ | G36: Pořadové číslo položky v aktuálním soupisu
E37: TYP | G37: Typ položky: K - konstrukce, M - materiál, PP - plný popis, PSC - poznámka k souboru cen, P - poznámka k položce, VV - výkaz výměr, FIG - rozpad figur
E38: Kód | G38: Kód položky
E39: Popis | G39: Zkrácený popis položky
E40: MJ | G40: Měrná jednotka položky
E41: Množství | G41: Množství v měrné jednotce
E42: J.cena | G42: Jednotková cena položky. Zadaní může obsahovat namísto J.ceny sloupce J.materiál a J.montáž, jejichž součet definuje
G43: J.cenu položky.
E44: Cena celkem | G44: Celková cena položky daná jako součin množství a j.ceny
E45: Cenová soustava | G45: Příslušnost položky do cenové soustavy
D47: Ke každé položce soupisu prací se na samostatných řádcích může zobrazovat:
E48: Plný popis položky
E49: Poznámka k souboru cen a poznámka zadavatele
E50: Výkaz výměr
D51: Pokud je k řádku výkazu výměr evidovaný údaj ve sloupci Kód, jedná se o definovaný odkaz, na který se může odvolávat výkaz výměr z jiné položky.
C52: Metodika pro zpracování
C54: Jednotlivé sestavy jsou v souboru provázány. Editovatelné pole jsou zvýrazněny žlutým podbarvením, ostatní pole neslouží k editaci a nesmí být jakkoliv
C55: modifikovány.
C57: Uchazeč je pro podání nabídky povinen vyplnit žlutě podbarvená pole:
D58: Pole Uchazeč v sestavě Rekapitulace stavby - zde uchazeč vyplní svůj název (název subjektu)
D59: Pole IČ a DIČ v sestavě Rekapitulace stavby - zde uchazeč vyplní svoje IČ a DIČ
D60: Datum v sestavě Rekapitulace stavby - zde uchazeč vyplní datum vytvoření nabídky
D61: J.cena = jednotková cena v sestavě Soupis prací o maximálním počtu desetinných míst uvedených v poli
D62: - pokud sestavy soupisů prací obsahují pole J.cena, měla by být všechna tato pole vyplněna nenulovými
D63: Poznámka - nepovinný údaj pro položku soupisu
D65: V případě, že sestavy soupisů prací neobsahují pole J.cena, potom ve všech soupisech prací obsahují pole:
D66: - J.materiál - jednotková cena materiálu
D67: - J.montáž - jednotková cena montáže
D68: Uchazeč v tomto případě by měl vyplnit všechna pole J.materiál a pole J.montáž nenulovými kladnými číslicemi. V případech, kdy položka
D69: neobsahuje žádný materiál je přípustné, aby pole J.materiál bylo vyplněno nulou. V případech, kdy položka neobsahuje žádnou montáž je přípustné,
D70: aby pole J.montáž bylo vyplněno nulou. Obě pole - J.materiál, J.Montáž u jedné položky by však neměly být vyplněny nulou.
C75: Rekapitulace stavby
C76: Název | F76: Povinný | H76: Popis | I76: Typ | J76: Max. počet
C77: atributu | F77: (A/N) | J77: znaků
C79: Kód | F79: A | H79: Kód stavby | I79: String | J79: 20
C80: Stavba | F80: A | H80: Název stavby | I80: String | J80: 120
C81: Místo | F81: N | H81: Místo stavby | I81: String | J81: 50
C82: Datum | F82: A | H82: Datum vykonaného exportu | I82: Date
C83: KSO | F83: N | H83: Klasifikace stavebního objektu | I83: String | J83: 15
C84: CC-CZ | F84: N | H84: Klasifikace stavbeních děl | I84: String | J84: 15
C85: CZ-CPV | F85: N | H85: Společný slovník pro veřejné zakázky | I85: String | J85: 20
C86: CZ-CPA | F86: N | H86: Klasifikace produkce podle činností | I86: String | J86: 20
C87: Zadavatel | F87: N | H87: Zadavatel zadaní | I87: String | J87: 50
C88: IČ | F88: N | H88: IČ zadavatele zadaní | I88: String | J88: 20
C89: DIČ | F89: N | H89: DIČ zadavatele zadaní | I89: String | J89: 20
C90: Uchazeč | F90: N | H90: Uchazeč veřejné zakázky | I90: String | J90: 50
C91: Projektant | F91: N | H91: Projektant | I91: String | J91: 50
C92: Poznámka | F92: N | H92: Poznámka k zadání | I92: String | J92: 255
C93: Sazba DPH | F93: A | H93: Rekapitulace sazeb DPH u položek soupisů | I93: eGSazbaDph
C94: Základna DPH | F94: A | H94: Základna DPH určena součtem celkové ceny z položek soupisů | I94: Double
C95: Hodnota DPH | F95: A | H95: Hodnota DPH | I95: Double
C96: Cena bez DPH | F96: A | H96: Celková cena bez DPH za celou stavbu. Sčítává se ze všech listů. | I96: Double
C97: Cena s DPH | F97: A | H97: Celková cena s DPH za celou stavbu | I97: Double
C102: Rekapitulace objektů stavby a soupisů prací
C103: Název | F103: Povinný | H103: Popis | I103: Typ | J103: Max. počet
C104: atributu | F104: (A/N) | J104: znaků
C106: Kód | F106: A | H106: Přebírá se z Rekapitulace stavby | I106: String | J106: 20
C107: Stavba | F107: A | H107: Přebírá se z Rekapitulace stavby | I107: String | J107: 120
C108: Místo | F108: N | H108: Přebírá se z Rekapitulace stavby | I108: String | J108: 50
C109: Datum | F109: A | H109: Přebírá se z Rekapitulace stavby | I109: Date
C110: Zadavatel | F110: N | H110: Přebírá se z Rekapitulace stavby | I110: String | J110: 50
C111: Projektant | F111: N | H111: Přebírá se z Rekapitulace stavby | I111: String | J111: 50
C112: Uchazeč | F112: N | H112: Přebírá se z Rekapitulace stavby | I112: String | J112: 50
C113: Kód | F113: A | H113: Kód objektu | I113: String | J113: 20
C114: Objektu, Soupis prací | F114: A | H114: Název objektu | I114: String | J114: 120
C115: Cena bez DPH | F115: A | H115: Cena bez DPH za daný objekt | I115: Double
C116: Cena s DPH | F116: A | H116: Cena spolu s DPH za daný objekt | I116: Double
C117: Typ | F117: A | H117: Typ zakázky | I117: eGTypZakazky
C122: Krycí list soupisu
C123: Název | F123: Povinný | H123: Popis | I123: Typ | J123: Max. počet
C124: atributu | F124: (A/N) | J124: znaků
C126: Stavba | F126: A | H126: Přebírá se z Rekapitulace stavby | I126: String | J126: 120
C127: Objekt | F127: A | H127: Kód a název objektu | I127: String | J127: 20 + 120
C128: Soupis | F128: A | H128: Kód a název soupisu | I128: String | J128: 20 + 120
...
