Workbook
Name CelkemDPHVypocet: Stavba!$H$47
Name CenaCelkem: Stavba!$G$29
Name CenaCelkemBezDPH: Stavba!$G$28
Name CenaCelkemVypocet: Stavba!$I$47
Name cisloobjektu: Stavba!$D$3
Name CisloRozpoctu: '[1]Krycí list'!$C$2
Name CisloStavby: Stavba!$D$2
Name cislostavby: '[1]Krycí list'!$A$7
Name CisloStavebnihoRozpoctu: Stavba!$D$4
Name dadresa: Stavba!$D$12:$G$12
Name DIČ: Stavba!$I$12
Name dmisto: Stavba!$E$13:$G$13
Name DPHSni: Stavba!$G$24
Name DPHZakl: Stavba!$G$26
Name dpsc: Stavba!$D$13
Name IČO: Stavba!$I$11
Name Mena: Stavba!$J$29
Name MistoStavby: Stavba!$D$4
Name nazevobjektu: Stavba!$E$3
Name NazevRozpoctu: '[1]Krycí list'!$D$2
Name NazevStavby: Stavba!$E$2
Name nazevstavby: '[1]Krycí list'!$C$7
Name NazevStavebnihoRozpoctu: Stavba!$E$4
Name oadresa: Stavba!$D$6
Name Objednatel: Stavba!$D$5
Name Objekt: Stavba!$B$38
Name odic: Stavba!$I$6
Name oico: Stavba!$I$5
Name omisto: Stavba!$E$7
Name onazev: Stavba!$D$6
Name opsc: Stavba!$D$7
Name padresa: Stavba!$D$9
Name pdic: Stavba!$I$9
Name pico: Stavba!$I$8
Name pmisto: Stavba!$E$10
Name PocetMJ: #REF!
Name PoptavkaID: Stavba!$A$1
Name pPSC: Stavba!$D$10
Name Projektant: Stavba!$D$8
Name SazbaDPH1: Stavba!$E$23
Name SazbaDPH1: '[1]Krycí list'!$C$30
Name SazbaDPH2: Stavba!$E$25
Name SazbaDPH2: '[1]Krycí list'!$C$32
Name SloupecCC: #REF!
Name SloupecCisloPol: #REF!
Name SloupecJC: #REF!
Name SloupecMJ: #REF!
Name SloupecMnozstvi: #REF!
Name SloupecNazPol: #REF!
Name SloupecPC: #REF!
Name Vypracoval: Stavba!$D$14
Name ZakladDPHSni: Stavba!$G$23
Name ZakladDPHSniVypocet: Stavba!$F$47
Name ZakladDPHZakl: Stavba!$G$25
Name ZakladDPHZaklVypocet: Stavba!$G$47
Name ZaObjednatele: Stavba!$G$34
Name Zaokrouhleni: Stavba!$G$27
Name ZaZhotovitele: Stavba!$D$34
Name Zhotovitel: Stavba!$D$11:$G$11

Sheet Pokyny pro vyplnění
A1: Pokyny pro vyplnění
A2: Ve všech listech tohoto souboru můžete měnit pouze buňky s modrým pozadím. Jedná se o tyto údaje : - údaje o firmě - jednotkové ceny položek zadané na maximálně dvě desetinná místa

Sheet Stavba
A1: #RTSROZP# | B1: Soupis stavebních prací, dodávek a služeb
B2: Stavba: | D2: 24016 | E2: Zpomalovací polštář na místní komunikaci v ul. Čtvrtě, Holasice
B5: Zadavatel | D5: Obec Holasice | H5: IČO: | I5: 00488143
D6: Václavská 29 | H6: DIČ: | I6: CZ00488143
D7: 66461 | E7: Holasice
B8: Projektant: | D8: FRAZPET s.r.o. | H8: IČO: | I8: 08826854
D9: Úvoz 493/29 | H9: DIČ:
D10: 60200 | E10: Brno-Staré Brno
B11: Zhotovitel: | H11: IČO:
H12: DIČ:
B14: Vypracoval: | D14: Petr Zelinka
B15: Rozpis ceny | E15: Dodávka | G15: Montáž | I15: Celkem
A16: HSV | B16: HSV | E16: =SUMIF(F69:F78,A16,G69:G78)+SUMIF(F69:F78,"PSU",G69:G78) -> 0 | G16: =SUMIF(F69:F78,A16,H69:H78)+SUMIF(F69:F78,"PSU",H69:H78) -> 0 | I16: =SUMIF(F69:F78,A16,I69:I78)+SUMIF(F69:F78,"PSU",I69:I78) -> 0
A17: PSV | B17: PSV | E17: =SUMIF(F69:F78,A17,G69:G78) -> 0 | G17: =SUMIF(F69:F78,A17,H69:H78) -> 0 | I17: =SUMIF(F69:F78,A17,I69:I78) -> 0
A18: MON | B18: MON | E18: =SUMIF(F69:F78,A18,G69:G78) -> 0 | G18: =SUMIF(F69:F78,A18,H69:H78) -> 0 | I18: =SUMIF(F69:F78,A18,I69:I78) -> 0
A19: VN | B19: Vedlejší náklady | E19: =SUMIF(F69:F78,A19,G69:G78) -> 0 | G19: =SUMIF(F69:F78,A19,H69:H78) -> 0 | I19: =SUMIF(F69:F78,A19,I69:I78) -> 0
A20: ON | B20: Ostatní náklady | E20: =SUMIF(F69:F78,A20,G69:G78) -> 0 | G20: =SUMIF(F69:F78,A20,H69:H78) -> 0 | I20: =SUMIF(F69:F78,A20,I69:I78) -> 0
B21: Celkem | E21: =SUM(E16:F20) -> 0 | G21: =SUM(G16:H20) -> 0 | I21: =SUM(I16:J20) -> 0
B22: Rekapitulace daní
A23: =ZakladDPHSni*SazbaDPH1/100 -> 0 | B23: Základ pro sníženou DPH | E23: 12 | F23: % | G23: =ZakladDPHSniVypocet -> 0 | J23: =Mena -> CZK
A24: =(A23-INT(A23))*100 -> 0 | B24: Snížená DPH | E24: =SazbaDPH1 -> 12 | F24: % | G24: =A23 -> 0 | J24: =Mena -> CZK
A25: =ZakladDPHZakl*SazbaDPH2/100 -> 0 | B25: Základ pro základní DPH | E25: 21 | F25: % | G25: =ZakladDPHZaklVypocet -> 0 | J25: =Mena -> CZK
A26: =(A25-INT(A25))*100 -> 0 | B26: Základní DPH | E26: =SazbaDPH2 -> 21 | F26: % | G26: =A25 -> 0 | J26: =Mena -> CZK
A27: =ZakladDPHSni+DPHSni+ZakladDPHZakl+DPHZakl -> 0 | B27: Zaokrouhlení | G27: =CenaCelkem-(ZakladDPHSni+DPHSni+ZakladDPHZakl+DPHZakl) -> 0 | J27: =Mena -> CZK
B28: Cena celkem bez DPH | G28: =ZakladDPHSniVypocet+ZakladDPHZaklVypocet -> 0 | J28: =Mena -> CZK
A29: =(A27-INT(A27))*100 -> 0 | B29: Cena celkem s DPH | G29: =A27 -> 0 | J29: CZK
C32: v | F32: dne
D35: Za zhotovitele | H35: Za objednatele
B37: Rekapitulace dílčích částí
A38: #CASTI>> | B38: Číslo | C38: Název | F38: =B23 -> Základ pro sníženou DPH | G38: =B25 -> Základ pro základní DPH | H38: DPH celkem | I38: Cena celkem | J38: %
A39: 1 | B39: Stavba | F39: ='VN, ON ON01 Naklady'!AE58+'SO01 SO0101 Pol'!AE68+'SO01 SO0102 Pol'!AE100+'SO01 SO0103 Pol'!AE128 -> 0 | G39: ='VN, ON ON01 Naklady'!AF58+'SO01 SO0101 Pol'!AF68+'SO01 SO0102 Pol'!AF100+'SO01 SO0103 Pol'!AF128 -> 0 | H39: =(F39*SazbaDPH1/100)+(G39*SazbaDPH2/100) -> 0 | I39: =F39+G39+H39 -> 0 | J39: =IF(CenaCelkemVypocet=0,"",I39/CenaCelkemVypocet*100)
A40: 2 | C40: Ostatní a vedlejší náklady | F40: ='VN, ON ON01 Naklady'!AE58 -> 0 | G40: ='VN, ON ON01 Naklady'!AF58 -> 0 | H40: =(F40*SazbaDPH1/100)+(G40*SazbaDPH2/100) -> 0 | I40: =F40+G40+H40 -> 0 | J40: =IF(CenaCelkemVypocet=0,"",I40/CenaCelkemVypocet*100)
A41: 3 | B41: ON01 | C41: Vedlejší a ostatní náklady | F41: ='VN, ON ON01 Naklady'!AE58 -> 0 | G41: ='VN, ON ON01 Naklady'!AF58 -> 0 | H41: =(F41*SazbaDPH1/100)+(G41*SazbaDPH2/100) -> 0 | I41: =F41+G41+H41 -> 0 | J41: =IF(CenaCelkemVypocet=0,"",I41/CenaCelkemVypocet*100)
A42: 2 | C42: Stavební objekt | H42: =(F42*SazbaDPH1/100)+(G42*SazbaDPH2/100) -> 0
A43: 2 | B43: SO01 | C43: Zpomalovací polštář vč. doplnění obruby | F43: ='SO01 SO0101 Pol'!AE68+'SO01 SO0102 Pol'!AE100+'SO01 SO0103 Pol'!AE128 -> 0 | G43: ='SO01 SO0101 Pol'!AF68+'SO01 SO0102 Pol'!AF100+'SO01 SO0103 Pol'!AF128 -> 0 | H43: =(F43*SazbaDPH1/100)+(G43*SazbaDPH2/100) -> 0 | I43: =F43+G43+H43 -> 0 | J43: =IF(CenaCelkemVypocet=0,"",I43/CenaCelkemVypocet*100)
A44: 3 | B44: SO0101 | C44: Bourací práce | F44: ='SO01 SO0101 Pol'!AE68 -> 0 | G44: ='SO01 SO0101 Pol'!AF68 -> 0 | H44: =(F44*SazbaDPH1/100)+(G44*SazbaDPH2/100) -> 0 | I44: =F44+G44+H44 -> 0 | J44: =IF(CenaCelkemVypocet=0,"",I44/CenaCelkemVypocet*100)
A45: 3 | B45: SO0102 | C45: Nový stav | F45: ='SO01 SO0102 Pol'!AE100 -> 0 | G45: ='SO01 SO0102 Pol'!AF100 -> 0 | H45: =(F45*SazbaDPH1/100)+(G45*SazbaDPH2/100) -> 0 | I45: =F45+G45+H45 -> 0 | J45: =IF(CenaCelkemVypocet=0,"",I45/CenaCelkemVypocet*100)
A46: 3 | B46: SO0103 | C46: Dočasná panelová komunikace_objízdná trasa | F46: ='SO01 SO0103 Pol'!AE128 -> 0 | G46: ='SO01 SO0103 Pol'!AF128 -> 0 | H46: =(F46*SazbaDPH1/100)+(G46*SazbaDPH2/100) -> 0 | I46: =F46+G46+H46 -> 0 | J46: =IF(CenaCelkemVypocet=0,"",I46/CenaCelkemVypocet*100)
B47: Celkem za stavbu | F47: =SUMIF(A39:A46,"=1",F39:F46) -> 0 | G47: =SUMIF(A39:A46,"=1",G39:G46) -> 0 | H47: =SUMIF(A39:A46,"=1",H39:H46) -> 0 | I47: =SUMIF(A39:A46,"=1",I39:I46) -> 0 | J47: =SUMIF(A39:A46,"=1",J39:J46) -> 0
A49: #POPS | B49: Popis stavby: 24016 - Zpomalovací polštář na místní komunikaci v ul. Čtvrtě, Holasice
A50: #POPO | B50: Popis objektu: SO01 - Zpomalovací polštář vč. doplnění obruby
A51: #POPR | B51: Popis rozpočtu: SO0101 - Bourací práce
A52: #POPR | B52: Popis rozpočtu: SO0102 - Nový stav
A53: #POPR | B53: Popis rozpočtu: SO0103 - Dočasná panelová komunikace_objízdná trasa
B54: Skladba konstrukce vozovky je navržena dle Dodatku TP 170 Navrhování vozovek pozemních komunikací; třída dopravního zatížení „VI“. | AZ54: =B54 -> Skladba konstrukce vozovky je navržena dle Dodatku TP 170 Navrhování vozovek pozemních komunikací; třída dopravního zatížení „VI“.
B56: Konstrukce sjezdu: | AZ56: =B56 -> Konstrukce sjezdu:
B57: silniční dílce CD 3000/1000/150 ČSN 73 6131 150 mm | AZ57: =B57 -> silniční dílce CD 3000/1000/150 ČSN 73 6131 150 mm
B58: drobné kamenivo 0/4 ČSN 73 6131 50 mm | AZ58: =B58 -> drobné kamenivo 0/4 ČSN 73 6131 50 mm
B59: štěrkodrť ŠDA 0/63 GE ČSN 73 6126-1 min. 200 mm | AZ59: =B59 -> štěrkodrť ŠDA 0/63 GE ČSN 73 6126-1 min. 200 mm
B60: netkaná separační geotextilie | AZ60: =B60 -> netkaná separační geotextilie
B61: celkem min. 400 mm | AZ61: =B61 -> celkem min. 400 mm
A62: #POPO | B62: Popis objektu: VN, ON - Vedlejší a ostatní náklady
A63: #POPR | B63: Popis rozpočtu: ON01 - Vedlejší a ostatní náklady
B66: Rekapitulace dílů
B68: Číslo | C68: Název | F68: Typ dílu | G68: Dodávka | H68: Montáž | I68: Celkem | J68: %
B69: 1 | C69: Zemní práce | F69: HSV | G69: ='SO01 SO0101 Pol'!I8+'SO01 SO0102 Pol'!I8+'SO01 SO0103 Pol'!I8 -> 0 | H69: ='SO01 SO0101 Pol'!K8+'SO01 SO0102 Pol'!K8+'SO01 SO0103 Pol'!K8 -> 0 | I69: =G69+H69 -> 0 | J69: =IF(I79=0,"",I69/I79*100)
B70: 18 | C70: Povrchové úpravy terénu | F70: HSV | G70: ='SO01 SO0102 Pol'!I22+'SO01 SO0103 Pol'!I43 -> 0 | H70: ='SO01 SO0102 Pol'!K22+'SO01 SO0103 Pol'!K43 -> 0 | I70: =G70+H70 -> 0 | J70: =IF(I79=0,"",I70/I79*100)
B71: 5 | C71: Komunikace | F71: HSV | G71: ='SO01 SO0102 Pol'!I44+'SO01 SO0103 Pol'!I61 -> 0 | H71: ='SO01 SO0102 Pol'!K44+'SO01 SO0103 Pol'!K61 -> 0 | I71: =G71+H71 -> 0 | J71: =IF(I79=0,"",I71/I79*100)
B72: 91 | C72: Doplňující práce na komunikaci | F72: HSV | G72: ='SO01 SO0101 Pol'!I41+'SO01 SO0102 Pol'!I74+'SO01 SO0103 Pol'!I93 -> 0 | H72: ='SO01 SO0101 Pol'!K41+'SO01 SO0102 Pol'!K74+'SO01 SO0103 Pol'!K93 -> 0 | I72: =G72+H72 -> 0 | J72: =IF(I79=0,"",I72/I79*100)
B73: 96 | C73: Bourání konstrukcí | F73: HSV | G73: ='SO01 SO0103 Pol'!I102 -> 0 | H73: ='SO01 SO0103 Pol'!K102 -> 0 | I73: =G73+H73 -> 0 | J73: =IF(I79=0,"",I73/I79*100)
B74: 99 | C74: Staveništní přesun hmot | F74: HSV | G74: ='SO01 SO0102 Pol'!I95+'SO01 SO0103 Pol'!I107 -> 0 | H74: ='SO01 SO0102 Pol'!K95+'SO01 SO0103 Pol'!K107 -> 0 | I74: =G74+H74 -> 0 | J74: =IF(I79=0,"",I74/I79*100)
B75: M46 | C75: Zemní práce při montážích | F75: MON | G75: ='SO01 SO0103 Pol'!I111 -> 0 | H75: ='SO01 SO0103 Pol'!K111 -> 0 | I75: =G75+H75 -> 0 | J75: =IF(I79=0,"",I75/I79*100)
B76: D96 | C76: Přesuny suti a vybouraných hmot | F76: PSU | G76: ='SO01 SO0101 Pol'!I47+'SO01 SO0103 Pol'!I117 -> 0 | H76: ='SO01 SO0101 Pol'!K47+'SO01 SO0103 Pol'!K117 -> 0 | I76: =G76+H76 -> 0 | J76: =IF(I79=0,"",I76/I79*100)
B77: VN | C77: Vedlejší náklady | F77: VN | G77: ='VN, ON ON01 Naklady'!I8 -> 0 | H77: ='VN, ON ON01 Naklady'!K8 -> 0 | I77: =G77+H77 -> 0 | J77: =IF(I79=0,"",I77/I79*100)
B78: ON | C78: Ostatní náklady | F78: ON | G78: ='VN, ON ON01 Naklady'!I28 -> 0 | H78: ='VN, ON ON01 Naklady'!K28 -> 0 | I78: =G78+H78 -> 0 | J78: =IF(I79=0,"",I78/I79*100)
B79: Cena celkem | G79: =SUM(G69:G78) -> 0 | H79: =SUM(H69:H78) -> 0 | I79: =SUM(I69:I78) -> 0 | J79: =SUM(J69:J78) -> 0

Sheet VzorPolozky
A1: Položkový rozpočet
A2: S:
A3: O:
A4: R:

Sheet VN, ON ON01 Naklady
A1: Soupis vedlejších a ostatních nákladů | AG1: #TypZaznamu#
A2: S: | B2: 24016 | C2: Zpomalovací polštář na místní komunikaci v ul. Čtvrtě, Holasice | AG2: STA
A3: O: | B3: VN, ON | C3: Vedlejší a ostatní náklady | AC3: NAK | AG3: OBJ
A4: R: | B4: ON01 | C4: Vedlejší a ostatní náklady | AG4: ROZ
A6: P.č. | B6: Číslo položky | C6: Název položky | D6: MJ | E6: Množství | F6: Cena / MJ | G6: Celkem | H6: Dodávka | I6: Dodávka celk. | J6: Montáž | K6: Montáž celk. | L6: DPH | M6: Cena s DPH | N6: Hmotnost / MJ | O6: Hmotnost celk.(t) | P6: Dem. hmotnost / MJ | Q6: Dem. hmotnost celk.(t) | R6: Ceník | S6: Cen. soustava / platnost | T6: Cenová úroveň | U6: Nhod / MJ | V6: Nhod celk. | W6: Dodavatel | X6: Typ položky | Y6: Stav položky
A8: Díl: | B8: VN | C8: Vedlejší náklady | G8: =SUMIF(AG9:AG27,"<>NOR",G9:G27) -> 0 | I8: =SUM(I9:I27) -> 0 | K8: =SUM(K9:K27) -> 0 | M8: =SUM(M9:M27) -> 0 | O8: =SUM(O9:O27) -> 0 | Q8: =SUM(Q9:Q27) -> 0 | V8: =SUM(V9:V27) -> 0 | AG8: DIL
A9: 1 | B9: 005111021R | C9: Vytyčení inženýrských sítí | D9: Soubor | E9: 5 | F9: =H9+J9 -> 0 | G9: =ROUND(E9*F9,2) -> 0 | I9: =ROUND(E9*H9,2) -> 0 | K9: =ROUND(E9*J9,2) -> 0 | L9: 21 | M9: =G9*(1+L9/100) -> 0 | N9: 0 | O9: =ROUND(E9*N9,2) -> 0 | P9: 0 | Q9: =ROUND(E9*P9,2) -> 0 | S9: RTS 24/ II | T9: Indiv | U9: 0 | V9: =ROUND(E9*U9,2) -> 0 | X9: VRN | Y9: Běžná | AG9: POL99_8
C10: Zaměření a vytýčení stávajících inženýrských sítí v místě stavby z hlediska jejich ochrany při provádění stavby. | AG10: POP | BA10: =C10 -> Zaměření a vytýčení stávajících inženýrských sítí v místě stavby z hlediska jejich ochrany při provádění stavby.
C11: v celém řešeném území : | AG11: VV | AH11: 0
C12: EGD : 1 | E12: 1 | AG12: VV | AH12: 0
C13: CETIN : 1 | E13: 1 | AG13: VV | AH13: 0
C14: VAS a.s. : 1 | E14: 1 | AG14: VV | AH14: 0
C15: GASNET : 1 | E15: 1 | AG15: VV | AH15: 0
C16: VO : 1 | E16: 1 | AG16: VV | AH16: 0
AG17: SPU
A18: 2 | B18: 005121010R | C18: Vybudování zařízení staveniště | D18: Soubor | E18: 1 | F18: =H18+J18 -> 0 | G18: =ROUND(E18*F18,2) -> 0 | I18: =ROUND(E18*H18,2) -> 0 | K18: =ROUND(E18*J18,2) -> 0 | L18: 21 | M18: =G18*(1+L18/100) -> 0 | N18: 0 | O18: =ROUND(E18*N18,2) -> 0 | P18: 0 | Q18: =ROUND(E18*P18,2) -> 0 | S18: RTS 24/ II | T18: Indiv | U18: 0 | V18: =ROUND(E18*U18,2) -> 0 | X18: VRN | Y18: Běžná | AG18: POL99_8
C19: Náklady spojené se zřízením přípojek energií k objektům zařízení staveniště, vybudování případných měřících odběrných míst a zřízení, případná příprava území pro objekty zařízení staveniště a vlastní vybudování objektů zařízení staveniště. | AG19: POP | BA19: =C19 -> Náklady spojené se zřízením přípojek energií k objektům zařízení staveniště, vybudování případných měřících odběrných míst a zřízení, případná příprava území pro objekty zařízení staveniště a vlastní vybudování objektů zařízení staveniště.
AG20: SPU
A21: 3 | B21: 005121020R | C21: Provoz zařízení staveniště | D21: soubor | E21: 1 | F21: =H21+J21 -> 0 | G21: =ROUND(E21*F21,2) -> 0 | I21: =ROUND(E21*H21,2) -> 0 | K21: =ROUND(E21*J21,2) -> 0 | L21: 21 | M21: =G21*(1+L21/100) -> 0 | N21: 0 | O21: =ROUND(E21*N21,2) -> 0 | P21: 0 | Q21: =ROUND(E21*P21,2) -> 0 | S21: RTS 24/ II | T21: Indiv | U21: 0 | V21: =ROUND(E21*U21,2) -> 0 | X21: VRN | Y21: Běžná | AG21: POL99_8
C22: Náklady na vybavení objektů zařízení staveniště, ostraha staveniště, náklady na energie spotřebované dodavatelem v rámci provozu zařízení staveniště, náklady na potřebný úklid v prostorách zařízení staveniště, náklady na nutnou údržbu a opravy na objektech zařízení staveniště a na přípojkách energií. | AG22: POP | BA22: =C22 -> Náklady na vybavení objektů zařízení staveniště, ostraha staveniště, náklady na energie spotřebované dodavatelem v rámci provozu zařízení staveniště, náklady na potřebný úklid v prostorách zařízení staveniště, náklady na nutnou údržbu a opravy na objektech zařízení staveniště a na přípojkách energií.
C23: po celou dobu výstavby : 1 | E23: 1 | AG23: VV | AH23: 0
AG24: SPU
A25: 4 | B25: 005121030R | C25: Odstranění zařízení staveniště | D25: Soubor | E25: 1 | F25: =H25+J25 -> 0 | G25: =ROUND(E25*F25,2) -> 0 | I25: =ROUND(E25*H25,2) -> 0 | K25: =ROUND(E25*J25,2) -> 0 | L25: 21 | M25: =G25*(1+L25/100) -> 0 | N25: 0 | O25: =ROUND(E25*N25,2) -> 0 | P25: 0 | Q25: =ROUND(E25*P25,2) -> 0 | S25: RTS 24/ II | T25: Indiv | U25: 0 | V25: =ROUND(E25*U25,2) -> 0 | X25: VRN | Y25: Běžná | AG25: POL99_8
C26: Odstranění objektů zařízení staveniště včetně přípojek energií a jejich odvoz. Položka zahrnuje i náklady na úpravu povrchů po odstranění zařízení staveniště a úklid ploch, na kterých bylo zařízení staveniště provozováno. | AG26: POP | BA26: =C26 -> Odstranění objektů zařízení staveniště včetně přípojek energií a jejich odvoz. Položka zahrnuje i náklady na úpravu povrchů po odstranění zařízení staveniště a úklid ploch, na kterých bylo zařízení staveniště provozováno.
AG27: SPU
A28: Díl: | B28: ON | C28: Ostatní náklady | G28: =SUMIF(AG29:AG56,"<>NOR",G29:G56) -> 0 | I28: =SUM(I29:I56) -> 0 | K28: =SUM(K29:K56) -> 0 | M28: =SUM(M29:M56) -> 0 | O28: =SUM(O29:O56) -> 0 | Q28: =SUM(Q29:Q56) -> 0 | V28: =SUM(V29:V56) -> 0 | AG28: DIL
A29: 5 | B29: 00511 R | C29: Geodetické práce | D29: Soubor | E29: 1 | F29: =H29+J29 -> 0 | G29: =ROUND(E29*F29,2) -> 0 | I29: =ROUND(E29*H29,2) -> 0 | K29: =ROUND(E29*J29,2) -> 0 | L29: 21 | M29: =G29*(1+L29/100) -> 0 | N29: 0 | O29: =ROUND(E29*N29,2) -> 0 | P29: 0 | Q29: =ROUND(E29*P29,2) -> 0 | S29: RTS 24/ II | T29: Indiv | U29: 0 | V29: =ROUND(E29*U29,2) -> 0 | X29: VRN | Y29: Běžná | AG29: POL99_8
C30: vytýčení stavby v terénu, zejména sloupy aj : 1 | E30: 1 | AG30: VV | AH30: 0
AG31: SPU
A32: 6 | B32: 005211010R | C32: Předání a převzetí staveniště | D32: Soubor | E32: 1 | F32: =H32+J32 -> 0 | G32: =ROUND(E32*F32,2) -> 0 | I32: =ROUND(E32*H32,2) -> 0 | K32: =ROUND(E32*J32,2) -> 0 | L32: 21 | M32: =G32*(1+L32/100) -> 0 | N32: 0 | O32: =ROUND(E32*N32,2) -> 0 | P32: 0 | Q32: =ROUND(E32*P32,2) -> 0 | S32: RTS 24/ II | T32: Indiv | U32: 0 | V32: =ROUND(E32*U32,2) -> 0 | X32: VRN | Y32: Běžná | AG32: POL99_8
C33: Náklady spojené s účastí zhotovitele na předání a převzetí staveniště. | AG33: POP
AG34: SPU
A35: 7 | B35: 005211020R | C35: Ochrana stávaj. inženýrských sítí na staveništi | D35: Soubor | E35: 1 | F35: =H35+J35 -> 0 | G35: =ROUND(E35*F35,2) -> 0 | I35: =ROUND(E35*H35,2) -> 0 | K35: =ROUND(E35*J35,2) -> 0 | L35: 21 | M35: =G35*(1+L35/100) -> 0 | N35: 0 | O35: =ROUND(E35*N35,2) -> 0 | P35: 0 | Q35: =ROUND(E35*P35,2) -> 0 | S35: RTS 24/ II | T35: Indiv | U35: 0 | V35: =ROUND(E35*U35,2) -> 0 | X35: VRN | Y35: Běžná | AG35: POL99_8
C36: Náklady na přezkoumání podkladů objednatele o stavu inženýrských sítí probíhajících staveništěm nebo dotčenými stavbou i mimo území staveniště, kontrola vytýčení jejich skutečné trasy a provedení ochranných opatření pro zabezpečení stávajících inženýrských sítí. | AG36: POP | BA36: =C36 -> Náklady na přezkoumání podkladů objednatele o stavu inženýrských sítí probíhajících staveništěm nebo dotčenými stavbou i mimo území staveniště, kontrola vytýčení jejich skutečné trasy a provedení ochranných opatření pro zabezpečení stávajících inženýrských sítí.
AG37: SPU
A38: 8 | B38: 005211030R | C38: Dočasná dopravní opatření | D38: Soubor | E38: 1 | F38: =H38+J38 -> 0 | G38: =ROUND(E38*F38,2) -> 0 | I38: =ROUND(E38*H38,2) -> 0 | K38: =ROUND(E38*J38,2) -> 0 | L38: 21 | M38: =G38*(1+L38/100) -> 0 | N38: 0 | O38: =ROUND(E38*N38,2) -> 0 | P38: 0 | Q38: =ROUND(E38*P38,2) -> 0 | S38: RTS 24/ II | T38: Indiv | U38: 0 | V38: =ROUND(E38*U38,2) -> 0 | X38: VRN | Y38: Běžná | AG38: POL99_8
C39: Náklady na vyhotovení návrhu dočasného dopravního značení, jeho projednání s dotčenými orgány a organizacemi, dodání dopravních značek a světelné signalizace, jejich rozmístění a přemísťování a jejich údržba v průběhu výstavby včetně následného odstranění po ukončení stavebních prací. | AG39: POP | BA39: =C39 -> Náklady na vyhotovení návrhu dočasného dopravního značení, jeho projednání s dotčenými orgány a organizacemi, dodání dopravních značek a světelné signalizace, jejich rozmístění a přemísťování a jejich údržba v průběhu výstavby včetně následného odstranění po ukončení stavebních prací.
C40: přechodná úprava provozu, návrh, odsouhlasení PČR, ZUK, osazení dopravního značení aj : 1,00 | E40: 1 | AG40: VV | AH40: 0
AG41: SPU
A42: 9 | B42: 005211080R | C42: Bezpečnostní a hygienická opatření na staveništi | D42: soubor | E42: 1 | F42: =H42+J42 -> 0 | G42: =ROUND(E42*F42,2) -> 0 | I42: =ROUND(E42*H42,2) -> 0 | K42: =ROUND(E42*J42,2) -> 0 | L42: 21 | M42: =G42*(1+L42/100) -> 0 | N42: 0 | O42: =ROUND(E42*N42,2) -> 0 | P42: 0 | Q42: =ROUND(E42*P42,2) -> 0 | S42: RTS 24/ II | T42: Indiv | U42: 0 | V42: =ROUND(E42*U42,2) -> 0 | X42: VRN | Y42: Běžná | AG42: POL99_8
C43: Náklady na ochranu staveniště před vstupem nepovolaných osob, včetně příslušného značení, náklady na osvětlení staveniště, náklady na vypracování potřebné dokumentace pro provoz staveniště z hlediska požární ochrany (požární řád a poplachová směrnice) a z hlediska provozu staveniště (provozně dopravní řád). | AG43: POP | BA43: =C43 -> Náklady na ochranu staveniště před vstupem nepovolaných osob, včetně příslušného značení, náklady na osvětlení staveniště, náklady na vypracování potřebné dokumentace pro provoz staveniště z hlediska požární ochrany (požární řád a poplachová směrnice) a z hlediska provozu staveniště (provozně dopravní řád).
C44: hygienický opatření, mobilní WC aj : 1 | E44: 1 | AG44: VV | AH44: 0
AG45: SPU
A46: 10 | B46: 00524 R | C46: Předání a převzetí díla | D46: Soubor | E46: 1 | F46: =H46+J46 -> 0 | G46: =ROUND(E46*F46,2) -> 0 | I46: =ROUND(E46*H46,2) -> 0 | K46: =ROUND(E46*J46,2) -> 0 | L46: 21 | M46: =G46*(1+L46/100) -> 0 | N46: 0 | O46: =ROUND(E46*N46,2) -> 0 | P46: 0 | Q46: =ROUND(E46*P46,2) -> 0 | S46: RTS 24/ II | T46: Indiv | U46: 0 | V46: =ROUND(E46*U46,2) -> 0 | X46: VRN | Y46: Běžná | AG46: POL99_8
C47: Náklady zhotovitele, které vzniknou v souvislosti s povinnostmi zhotovitele při předání a převzetí díla. | AG47: POP | BA47: =C47 -> Náklady zhotovitele, které vzniknou v souvislosti s povinnostmi zhotovitele při předání a převzetí díla.
AG48: SPU
A49: 11 | B49: 005241020R | C49: Geodetické zaměření skutečného provedení | D49: Soubor | E49: 1 | F49: =H49+J49 -> 0 | G49: =ROUND(E49*F49,2) -> 0 | I49: =ROUND(E49*H49,2) -> 0 | K49: =ROUND(E49*J49,2) -> 0 | L49: 21 | M49: =G49*(1+L49/100) -> 0 | N49: 0 | O49: =ROUND(E49*N49,2) -> 0 | P49: 0 | Q49: =ROUND(E49*P49,2) -> 0 | S49: RTS 24/ II | T49: Indiv | U49: 0 | V49: =ROUND(E49*U49,2) -> 0 | X49: VRN | Y49: Běžná | AG49: POL99_8
C50: Náklady na provedení skutečného zaměření stavby v rozsahu nezbytném pro zápis změny do katastru nemovitostí. | AG50: POP | BA50: =C50 -> Náklady na provedení skutečného zaměření stavby v rozsahu nezbytném pro zápis změny do katastru nemovitostí.
C51: po dokončení stavby : 1 | E51: 1 | AG51: VV | AH51: 0
AG52: SPU
A53: 12 | B53: 005122XR | C53: Mimostaveništní doprava zaměstnanců | D53: soubor | E53: 1 | F53: =H53+J53 -> 0 | G53: =ROUND(E53*F53,2) -> 0 | I53: =ROUND(E53*H53,2) -> 0 | K53: =ROUND(E53*J53,2) -> 0 | L53: 21 | M53: =G53*(1+L53/100) -> 0 | N53: 0 | O53: =ROUND(E53*N53,2) -> 0 | P53: 0 | Q53: =ROUND(E53*P53,2) -> 0 | S53: Vlastní | T53: Indiv | U53: 0 | V53: =ROUND(E53*U53,2) -> 0 | X53: VRN | Y53: Běžná | AG53: POL99_8
C54: Náklady na ztížené podmínky provádění tam, kde jsou stavební práce zcela nebo zčásti omezovány provozem jiných osob. Jde zejména o zvýšené náklady související s omezením provozem v areálu objednatele nebo o náklady v důsledku nezbytného respektování stávající dopravy ovlivňující stavební práce. | AG54: POP | BA54: =C54 -> Náklady na ztížené podmínky provádění tam, kde jsou stavební práce zcela nebo zčásti omezovány provozem jiných osob. Jde zejména o zvýšené náklady související s omezením provozem v areálu objednatele nebo o náklady v důsledku nezbytného respektování stávající dopravy ovlivňující stavební práce.
C55: po celou dobu výstavby pro všechny dodavatele i poddodavatele stavby : 1 | E55: 1 | AG55: VV | AH55: 0
AG56: SPU
AE57: 12 | AF57: 21 | AG57: DPH
B58: Celkem | G58: =G8+G28 -> 0 | AE58: =SUMIF(L7:L56,AE57,G7:G56) -> 0 | AF58: =SUMIF(L7:L56,AF57,G7:G56) -> 0 | AG58: SUM
AG59: END

Sheet SO01 SO0101 Pol
A1: Položkový soupis prací a dodávek | AG1: #TypZaznamu#
A2: S: | B2: 24016 | C2: Zpomalovací polštář na místní komunikaci v ul. Čtvrtě, Holasice | AG2: STA
A3: O: | B3: SO01 | C3: Zpomalovací polštář vč. doplnění obruby | AC3: STA | AG3: OBJ
A4: R: | B4: SO0101 | C4: Bourací práce | AG4: ROZ
A6: P.č. | B6: Číslo položky | C6: Název položky | D6: MJ | E6: Množství | F6: Cena / MJ | G6: Celkem | H6: Dodávka | I6: Dodávka celk. | J6: Montáž | K6: Montáž celk. | L6: DPH | M6: Cena s DPH | N6: Hmotnost / MJ | O6: Hmotnost celk.(t) | P6: Dem. hmotnost / MJ | Q6: Dem. hmotnost celk.(t) | R6: Ceník | S6: Cen. soustava / platnost | T6: Cenová úroveň | U6: Nhod / MJ | V6: Nhod celk. | W6: Dodavatel | X6: Typ položky | Y6: Stav položky
A8: Díl: | B8: 1 | C8: Zemní práce | G8: =SUMIF(AG9:AG40,"<>NOR",G9:G40) -> 0 | I8: =SUM(I9:I40) -> 0 | K8: =SUM(K9:K40) -> 0 | M8: =SUM(M9:M40) -> 0 | O8: =SUM(O9:O40) -> 0 | Q8: =SUM(Q9:Q40) -> 20.61 | V8: =SUM(V9:V40) -> 42.84 | AG8: DIL
A9: 1 | B9: 113108310R00 | C9: Odstranění podkladů nebo krytů živičných, v ploše jednotlivě do 50 m2, tloušťka vrstvy 100 mm | D9: m2 | E9: 28.2 | F9: =H9+J9 -> 0 | G9: =ROUND(E9*F9,2) -> 0 | I9: =ROUND(E9*H9,2) -> 0 | K9: =ROUND(E9*J9,2) -> 0 | L9: 21 | M9: =G9*(1+L9/100) -> 0 | N9: 0 | O9: =ROUND(E9*N9,2) -> 0 | P9: 0.22 | Q9: =ROUND(E9*P9,2) -> 6.2 | R9: 822-1 | S9: RTS 24/ II | T9: RTS 24/ I | U9: 0.38 | V9: =ROUND(E9*U9,2) -> 10.72 | X9: Práce | Y9: Běžná | AG9: POL1_
C10: řezání živice pro zpomalovací polštář : 6,00*4,50 | E10: 27 | AG10: VV | AH10: 0
C11: řezání živice pro osazení silníční obruby : 12,00*0,10 | E11: 1.2 | AG11: VV | AH11: 0
AG12: SPU
A13: 2 | B13: 113111120R00 | C13: Odstranění podkladů nebo krytů z kameniva zpevněného cementem, v ploše jednotlivě do 50 m2, tloušťka vrstvy 200 mm | D13: m2 | E13: 28.2 | F13: =H13+J13 -> 0 | G13: =ROUND(E13*F13,2) -> 0 | I13: =ROUND(E13*H13,2) -> 0 | K13: =ROUND(E13*J13,2) -> 0 | L13: 21 | M13: =G13*(1+L13/100) -> 0 | N13: 0 | O13: =ROUND(E13*N13,2) -> 0 | P13: 0.51086 | Q13: =ROUND(E13*P13,2) -> 14.41 | R13: 822-1 | S13: RTS 24/ II | T13: RTS 24/ I | U13: 0.64 | V13: =ROUND(E13*U13,2) -> 18.05 | X13: Práce | Y13: Běžná | AG13: POL1_
C14: Odkaz na mn. položky pořadí 1 : 28,20000 | E14: 28.2 | AG14: VV | AH14: 5
AG15: SPU
A16: 3 | B16: 139601102R00 | C16: Ruční výkop jam, rýh a šachet v hornině 3 | D16: m3 | E16: 3.15 | F16: =H16+J16 -> 0 | G16: =ROUND(E16*F16,2) -> 0 | I16: =ROUND(E16*H16,2) -> 0 | K16: =ROUND(E16*J16,2) -> 0 | L16: 21 | M16: =G16*(1+L16/100) -> 0 | N16: 0 | O16: =ROUND(E16*N16,2) -> 0 | P16: 0 | Q16: =ROUND(E16*P16,2) -> 0 | R16: 800-1 | S16: RTS 24/ II | T16: RTS 24/ I | U16: 3.53 | V16: =ROUND(E16*U16,2) -> 11.12 | X16: Práce | Y16: Běžná | AG16: POL1_
C17: s přehozením na vzdálenost do 5 m nebo s naložením na ruční dopravní prostředek | AG17: SPI
C18: výkop rýhy pro osazení silniční obruby, pás 12,00m, šíře 0,75, hloubka 0,35 m : 12,00*0,75*0,35 | E18: 3.15 | AG18: VV | AH18: 0
C19: část zeminy ponecháno pro ponechání k zásypům : | AG19: VV | AH19: 0
AG20: SPU
A21: 4 | B21: 162301102R00 | C21: Vodorovné přemístění výkopku z horniny 1 až 4, na vzdálenost přes 500 do 1 000 m | D21: m3 | E21: 1.47 | F21: =H21+J21 -> 0 | G21: =ROUND(E21*F21,2) -> 0 | I21: =ROUND(E21*H21,2) -> 0 | K21: =ROUND(E21*J21,2) -> 0 | L21: 21 | M21: =G21*(1+L21/100) -> 0 | N21: 0 | O21: =ROUND(E21*N21,2) -> 0 | P21: 0 | Q21: =ROUND(E21*P21,2) -> 0 | R21: 800-1 | S21: RTS 24/ II | T21: RTS 24/ I | U21: 0.01 | V21: =ROUND(E21*U21,2) -> 0.01 | X21: Práce | Y21: Běžná | AG21: POL1_
C22: po suchu, bez naložení výkopku, avšak se složením bez rozhrnutí, zpáteční cesta vozidla. | AG22: SPI
C23: výkop rýhy pro osazení silniční obruby, pás 12,00m, šíře 0,75, hloubka 0,35 m : 12,00*0,75*0,35 | E23: 3.15 | AG23: VV | AH23: 0
C24: část zeminy ponecháno pro ponechání k zásypům : -1*(12,00*0,40*0,35) | E24: -1.68 | AG24: VV | AH24: 0
AG25: SPU
A26: 5 | B26: 162701109R00 | C26: Vodorovné přemístění výkopku příplatek k ceně za každých dalších i započatých 1 000 m přes 10 000 m z horniny 1 až 4 | D26: m3 | E26: 17.64 | F26: =H26+J26 -> 0 | G26: =ROUND(E26*F26,2) -> 0 | I26: =ROUND(E26*H26,2) -> 0 | K26: =ROUND(E26*J26,2) -> 0 | L26: 21 | M26: =G26*(1+L26/100) -> 0 | N26: 0 | O26: =ROUND(E26*N26,2) -> 0 | P26: 0 | Q26: =ROUND(E26*P26,2) -> 0 | R26: 800-1 | S26: RTS 24/ II | T26: RTS 24/ I | U26: 0 | V26: =ROUND(E26*U26,2) -> 0 | X26: Práce | Y26: Běžná | AG26: POL1_
C27: po suchu, bez naložení výkopku, avšak se složením bez rozhrnutí, zpáteční cesta vozidla. | AG27: SPI
C28: odvoz na skládku THERMOSERVIS Chrlice celkem 13 km, dopočet 12ti km : 1,47*12 | E28: 17.64 | AG28: VV | AH28: 0
AG29: SPU
A30: 6 | B30: 167101201R00 | C30: Nakládání, skládání, překládání neulehlého výkopku nakládání, skládání, překládání neulehléno výkopku nebo zeminy - ručně z horniny 1 až 4 | D30: m3 | E30: 1.47 | F30: =H30+J30 -> 0 | G30: =ROUND(E30*F30,2) -> 0 | I30: =ROUND(E30*H30,2) -> 0 | K30: =ROUND(E30*J30,2) -> 0 | L30: 21 | M30: =G30*(1+L30/100) -> 0 | N30: 0 | O30: =ROUND(E30*N30,2) -> 0 | P30: 0 | Q30: =ROUND(E30*P30,2) -> 0 | R30: 800-1 | S30: RTS 24/ II | T30: RTS 24/ I | U30: 1.938 | V30: =ROUND(E30*U30,2) -> 2.85 | X30: Práce | Y30: Běžná | AG30: POL1_
C31: Odkaz na mn. položky pořadí 4 : 1,47000 | E31: 1.47 | AG31: VV | AH31: 5
AG32: SPU
A33: 7 | B33: 171201101R00 | C33: Uložení sypaniny do násypů nezhutněných | D33: m3 | E33: 3.15 | F33: =H33+J33 -> 0 | G33: =ROUND(E33*F33,2) -> 0 | I33: =ROUND(E33*H33,2) -> 0 | K33: =ROUND(E33*J33,2) -> 0 | L33: 21 | M33: =G33*(1+L33/100) -> 0 | N33: 0 | O33: =ROUND(E33*N33,2) -> 0 | P33: 0 | Q33: =ROUND(E33*P33,2) -> 0 | R33: 800-1 | S33: RTS 24/ II | T33: RTS 24/ I | U33: 0.03 | V33: =ROUND(E33*U33,2) -> 0.09 | X33: Práce | Y33: Běžná | AG33: POL1_
C34: Uložení sypaniny do násypů nebo na skládku s rozprostřením sypaniny ve vrstvách a s hrubým urovnáním. | AG34: POP | BA34: =C34 -> Uložení sypaniny do násypů nebo na skládku s rozprostřením sypaniny ve vrstvách a s hrubým urovnáním.
C35: Odkaz na mn. položky pořadí 3 : 3,15000 | E35: 3.15 | AG35: VV | AH35: 5
AG36: SPU
A37: 8 | B37: 199000002R00 | C37: Poplatky za skládku horniny 1- 4, skupina 17 05 04 z Katalogu odpadů | D37: m3 | E37: 1.47 | F37: =H37+J37 -> 0 | G37: =ROUND(E37*F37,2) -> 0 | I37: =ROUND(E37*H37,2) -> 0 | K37: =ROUND(E37*J37,2) -> 0 | L37: 21 | M37: =G37*(1+L37/100) -> 0 | N37: 0 | O37: =ROUND(E37*N37,2) -> 0 | P37: 0 | Q37: =ROUND(E37*P37,2) -> 0 | R37: 800-1 | S37: RTS 24/ II | T37: RTS 24/ I | U37: 0 | V37: =ROUND(E37*U37,2) -> 0 | X37: Práce | Y37: Běžná | AG37: POL1_
C38: Cena dle Pískovny Černovice. www.piskovna-cernovice.cz | AG38: POP
C39: Odkaz na mn. položky pořadí 4 : 1,47000 | E39: 1.47 | AG39: VV | AH39: 5
AG40: SPU
A41: Díl: | B41: 91 | C41: Doplňující práce na komunikaci | G41: =SUMIF(AG42:AG46,"<>NOR",G42:G46) -> 0 | I41: =SUM(I42:I46) -> 0 | K41: =SUM(K42:K46) -> 0 | M41: =SUM(M42:M46) -> 0 | O41: =SUM(O42:O46) -> 0 | Q41: =SUM(Q42:Q46) -> 0 | V41: =SUM(V42:V46) -> 1.98 | AG41: DIL
A42: 9 | B42: 919735113R00 | C42: Řezání stávajících krytů nebo podkladů živičných, hloubky přes 100 do 150 mm | D42: m | E42: 33 | F42: =H42+J42 -> 0 | G42: =ROUND(E42*F42,2) -> 0 | I42: =ROUND(E42*H42,2) -> 0 | K42: =ROUND(E42*J42,2) -> 0 | L42: 21 | M42: =G42*(1+L42/100) -> 0 | N42: 0 | O42: =ROUND(E42*N42,2) -> 0 | P42: 0 | Q42: =ROUND(E42*P42,2) -> 0 | R42: 822-1 | S42: RTS 24/ II | T42: RTS 24/ I | U42: 0.06 | V42: =ROUND(E42*U42,2) -> 1.98 | X42: Práce | Y42: Běžná | AG42: POL1_
C43: včetně spotřeby vody | AG43: SPI
C44: řezání živice pro zpomalovací polštář : 6,00*2+4,50*2 | E44: 21 | AG44: VV | AH44: 0
C45: řezání živice pro osazení silníční obruby : 12,00 | E45: 12 | AG45: VV | AH45: 0
AG46: SPU
A47: Díl: | B47: D96 | C47: Přesuny suti a vybouraných hmot | G47: =SUMIF(AG48:AG66,"<>NOR",G48:G66) -> 0 | I47: =SUM(I48:I66) -> 0 | K47: =SUM(K48:K66) -> 0 | M47: =SUM(M48:M66) -> 0 | O47: =SUM(O48:O66) -> 0 | Q47: =SUM(Q48:Q66) -> 0 | V47: =SUM(V48:V66) -> 2.25 | AG47: DIL
A48: 10 | B48: 979082219R00 | C48: Vodorovná doprava suti po suchu příplatek k ceně za každý další i započatý 1 km přes 1 km | D48: t | E48: 247.32 | F48: =H48+J48 -> 0 | G48: =ROUND(E48*F48,2) -> 0 | I48: =ROUND(E48*H48,2) -> 0 | K48: =ROUND(E48*J48,2) -> 0 | L48: 21 | M48: =G48*(1+L48/100) -> 0 | N48: 0 | O48: =ROUND(E48*N48,2) -> 0 | P48: 0 | Q48: =ROUND(E48*P48,2) -> 0 | R48: 822-1 | S48: RTS 24/ II | T48: RTS 24/ I | U48: 0 | V48: =ROUND(E48*U48,2) -> 0 | X48: Práce | Y48: Běžná | AG48: POL1_
C49: odvoz na skládku THERMOSERVIS Chrlice celkem 13 km, dopočet 12ti km : 20,61*12 | E49: 247.32 | AG49: VV | AH49: 0
AG50: SPU
A51: 11 | B51: 979097012R00 | C51: Odvoz suti a vybouraných hmot na skládku pronájem kontejneru na suť | D51: den | E51: 5 | F51: =H51+J51 -> 0 | G51: =ROUND(E51*F51,2) -> 0 | I51: =ROUND(E51*H51,2) -> 0 | K51: =ROUND(E51*J51,2) -> 0 | L51: 21 | M51: =G51*(1+L51/100) -> 0 | N51: 0 | O51: =ROUND(E51*N51,2) -> 0 | P51: 0 | Q51: =ROUND(E51*P51,2) -> 0 | R51: 801-3 | S51: RTS 24/ II | T51: RTS 24/ I | U51: 0 | V51: =ROUND(E51*U51,2) -> 0 | X51: Práce | Y51: Běžná | AG51: POL1_
C52: 5 | E52: 5 | AG52: VV | AH52: 0
AG53: SPU
A54: 12 | B54: 979999981R00 | C54: Poplatek za skládku za recyklaci, betonu, kusovost do 1600 cm2, skupina 17 01 01 z Katalogu odpadů | D54: t | E54: 14.40625 | F54: =H54+J54 -> 0 | G54: =ROUND(E54*F54,2) -> 0 | I54: =ROUND(E54*H54,2) -> 0 | K54: =ROUND(E54*J54,2) -> 0 | L54: 21 | M54: =G54*(1+L54/100) -> 0 | N54: 0 | O54: =ROUND(E54*N54,2) -> 0 | P54: 0 | Q54: =ROUND(E54*P54,2) -> 0 | R54: 801-3 | S54: RTS 24/ II | T54: RTS 24/ I | U54: 0 | V54: =ROUND(E54*U54,2) -> 0 | X54: Práce | Y54: Běžná | AG54: POL1_
C55: Odkaz na dem. hmot. položky pořadí 2 : 14,40625 | E55: 14.40625 | AG55: VV | AH55: 7
AG56: SPU
A57: 13 | B57: 979999995R00 | C57: Poplatek za skládku Poplatek za recyklaci asfaltu, kusovost do 1600 cm2, (skup.170302) | D57: t | E57: 6.204 | F57: =H57+J57 -> 0 | G57: =ROUND(E57*F57,2) -> 0 | I57: =ROUND(E57*H57,2) -> 0 | K57: =ROUND(E57*J57,2) -> 0 | L57: 21 | M57: =G57*(1+L57/100) -> 0 | N57: 0 | O57: =ROUND(E57*N57,2) -> 0 | P57: 0 | Q57: =ROUND(E57*P57,2) -> 0 | R57: 801-3 | S57: RTS 24/ II | T57: RTS 24/ I | U57: 0 | V57: =ROUND(E57*U57,2) -> 0 | X57: Práce | Y57: Běžná | AG57: POL1_
C58: 170 302 | AG58: POP
C59: Odkaz na dem. hmot. položky pořadí 1 : 6,20400 | E59: 6.204 | AG59: VV | AH59: 7
C60: Odkaz na dem. hmot. položky pořadí 9 : 0,00000 | AG60: VV | AH60: 7
AG61: SPU
A62: 14 | B62: 979082213R00 | C62: Vodorovná doprava suti po suchu bez naložení, ale se složením a hrubým urovnáním na vzdálenost do 1 km | D62: t | E62: 20.61025 | F62: =H62+J62 -> 0 | G62: =ROUND(E62*F62,2) -> 0 | I62: =ROUND(E62*H62,2) -> 0 | K62: =ROUND(E62*J62,2) -> 0 | L62: 21 | M62: =G62*(1+L62/100) -> 0 | N62: 0 | O62: =ROUND(E62*N62,2) -> 0 | P62: 0 | Q62: =ROUND(E62*P62,2) -> 0 | R62: 822-1 | S62: RTS 24/ II | T62: RTS 24/ I | U62: 0.01 | V62: =ROUND(E62*U62,2) -> 0.21 | X62: Přesun suti | Y62: Běžná | AG62: POL8_
AG63: SPU
A64: 15 | B64: 979087212R00 | C64: Nakládání na dopravní prostředky suti | D64: t | E64: 20.61025 | F64: =H64+J64 -> 0 | G64: =ROUND(E64*F64,2) -> 0 | I64: =ROUND(E64*H64,2) -> 0 | K64: =ROUND(E64*J64,2) -> 0 | L64: 21 | M64: =G64*(1+L64/100) -> 0 | N64: 0 | O64: =ROUND(E64*N64,2) -> 0 | P64: 0 | Q64: =ROUND(E64*P64,2) -> 0 | R64: 822-1 | S64: RTS 24/ II | T64: RTS 24/ I | U64: 0.099 | V64: =ROUND(E64*U64,2) -> 2.04 | X64: Přesun suti | Y64: Běžná | AG64: POL8_
C65: pro vodorovnou dopravu | AG65: SPI
AG66: SPU
AE67: 12 | AF67: 21 | AG67: DPH
B68: Celkem | G68: =G8+G41+G47 -> 0 | AE68: =SUMIF(L7:L66,AE67,G7:G66) -> 0 | AF68: =SUMIF(L7:L66,AF67,G7:G66) -> 0 | AG68: SUM
AG69: END

Sheet SO01 SO0102 Pol
A1: Položkový soupis prací a dodávek | AG1: #TypZaznamu#
A2: S: | B2: 24016 | C2: Zpomalovací polštář na místní komunikaci v ul. Čtvrtě, Holasice | AG2: STA
A3: O: | B3: SO01 | C3: Zpomalovací polštář vč. doplnění obruby | AC3: STA | AG3: OBJ
A4: R: | B4: SO0102 | C4: Nový stav | AG4: ROZ
A6: P.č. | B6: Číslo položky | C6: Název položky | D6: MJ | E6: Množství | F6: Cena / MJ | G6: Celkem | H6: Dodávka | I6: Dodávka celk. | J6: Montáž | K6: Montáž celk. | L6: DPH | M6: Cena s DPH | N6: Hmotnost / MJ | O6: Hmotnost celk.(t) | P6: Dem. hmotnost / MJ | Q6: Dem. hmotnost celk.(t) | R6: Ceník | S6: Cen. soustava / platnost | T6: Cenová úroveň | U6: Nhod / MJ | V6: Nhod celk. | W6: Dodavatel | X6: Typ položky | Y6: Stav položky
A8: Díl: | B8: 1 | C8: Zemní práce | G8: =SUMIF(AG9:AG21,"<>NOR",G9:G21) -> 0 | I8: =SUM(I9:I21) -> 0 | K8: =SUM(K9:K21) -> 0 | M8: =SUM(M9:M21) -> 0 | O8: =SUM(O9:O21) -> 0 | Q8: =SUM(Q9:Q21) -> 0 | V8: =SUM(V9:V21) -> 1.14 | AG8: DIL
A9: 1 | B9: 174101101R00 | C9: Zásyp sypaninou se zhutněním jam, šachet, rýh nebo kolem objektů v těchto vykopávkách | D9: m3 | E9: 1.68 | F9: =H9+J9 -> 0 | G9: =ROUND(E9*F9,2) -> 0 | I9: =ROUND(E9*H9,2) -> 0 | K9: =ROUND(E9*J9,2) -> 0 | L9: 21 | M9: =G9*(1+L9/100) -> 0 | N9: 0 | O9: =ROUND(E9*N9,2) -> 0 | P9: 0 | Q9: =ROUND(E9*P9,2) -> 0 | R9: 800-1 | S9: RTS 24/ II | T9: RTS 24/ I | U9: 0.2 | V9: =ROUND(E9*U9,2) -> 0.34 | X9: Práce | Y9: Běžná | AG9: POL1_
C10: z jakékoliv horniny s uložením výkopku po vrstvách, | AG10: SPI
C11: včetně strojního přemístění materiálu pro zásyp ze vzdálenosti do 10 m od okraje zásypu | AG11: POP
C12: zpětné zásypy podél obrub : 12,00*0,40*0,35 | E12: 1.68 | AG12: VV | AH12: 0
AG13: SPU
A14: 2 | B14: 181101102R00 | C14: Úprava pláně v zářezech v hornině 1 až 4, se zhutněním | D14: m2 | E14: 9 | F14: =H14+J14 -> 0 | G14: =ROUND(E14*F14,2) -> 0 | I14: =ROUND(E14*H14,2) -> 0 | K14: =ROUND(E14*J14,2) -> 0 | L14: 21 | M14: =G14*(1+L14/100) -> 0 | N14: 0 | O14: =ROUND(E14*N14,2) -> 0 | P14: 0 | Q14: =ROUND(E14*P14,2) -> 0 | R14: 800-1 | S14: RTS 24/ II | T14: RTS 24/ I | U14: 0.02 | V14: =ROUND(E14*U14,2) -> 0.18 | X14: Práce | Y14: Běžná | AG14: POL1_
C15: vyrovnáním výškových rozdílů, ploch vodorovných a ploch do sklonu 1 : 5. | AG15: SPI
C16: dno výkopu : 0,75*12,00 | E16: 9 | AG16: VV | AH16: 0
AG17: SPU
A18: 3 | B18: 182101101R00 | C18: Svahování v zářezech v hornině 1 až 4 | D18: m2 | E18: 4.8 | F18: =H18+J18 -> 0 | G18: =ROUND(E18*F18,2) -> 0 | I18: =ROUND(E18*H18,2) -> 0 | K18: =ROUND(E18*J18,2) -> 0 | L18: 21 | M18: =G18*(1+L18/100) -> 0 | N18: 0 | O18: =ROUND(E18*N18,2) -> 0 | P18: 0 | Q18: =ROUND(E18*P18,2) -> 0 | R18: 800-1 | S18: RTS 24/ II | T18: RTS 24/ I | U18: 0.13 | V18: =ROUND(E18*U18,2) -> 0.62 | X18: Práce | Y18: Běžná | AG18: POL1_
C19: trvalých svahů do projektovaných profilů s potřebným přemístěním výkopku při svahování v zářezech, | AG19: SPI
C20: svah jámy pro osazení obruby : 12,00*0,40 | E20: 4.8 | AG20: VV | AH20: 0
AG21: SPU
A22: Díl: | B22: 18 | C22: Povrchové úpravy terénu | G22: =SUMIF(AG23:AG43,"<>NOR",G23:G43) -> 0 | I22: =SUM(I23:I43) -> 0 | K22: =SUM(K23:K43) -> 0 | M22: =SUM(M23:M43) -> 0 | O22: =SUM(O23:O43) -> 0 | Q22: =SUM(Q23:Q43) -> 0 | V22: =SUM(V23:V43) -> 2.96 | AG22: DIL
A23: 4 | B23: 180402111R00 | C23: Založení trávníku parkový trávník, výsevem, v rovině nebo na svahu do 1:5 | D23: m2 | E23: 6 | F23: =H23+J23 -> 0 | G23: =ROUND(E23*F23,2) -> 0 | I23: =ROUND(E23*H23,2) -> 0 | K23: =ROUND(E23*J23,2) -> 0 | L23: 21 | M23: =G23*(1+L23/100) -> 0 | N23: 0 | O23: =ROUND(E23*N23,2) -> 0 | P23: 0 | Q23: =ROUND(E23*P23,2) -> 0 | R23: 823-1 | S23: RTS 24/ II | T23: RTS 24/ I | U23: 0.06 | V23: =ROUND(E23*U23,2) -> 0.36 | X23: Práce | Y23: Běžná | AG23: POL1_
C24: na půdě předem připravené s pokosením, naložením, odvozem odpadu do 20 km a se složením, | AG24: SPI
C25: doplňovaný pás podél nově založeného obrubníku : 12,00*0,50 | E25: 6 | AG25: VV | AH25: 0
AG26: SPU
A27: 5 | B27: 181301101R00 | C27: Rozprostření a urovnání ornice v rovině v souvislé ploše do 500 m2, tloušťka vrstvy do 100 mm | D27: m2 | E27: 6 | F27: =H27+J27 -> 0 | G27: =ROUND(E27*F27,2) -> 0 | I27: =ROUND(E27*H27,2) -> 0 | K27: =ROUND(E27*J27,2) -> 0 | L27: 21 | M27: =G27*(1+L27/100) -> 0 | N27: 0 | O27: =ROUND(E27*N27,2) -> 0 | P27: 0 | Q27: =ROUND(E27*P27,2) -> 0 | R27: 800-1 | S27: RTS 24/ II | T27: RTS 24/ I | U27: 0.13 | V27: =ROUND(E27*U27,2) -> 0.78 | X27: Práce | Y27: Běžná | AG27: POL1_
C28: s případným nutným přemístěním hromad nebo dočasných skládek na místo potřeby ze vzdálenosti do 30 m, v rovině nebo ve svahu do 1 : 5, | AG28: SPI | BA28: =C28 -> s případným nutným přemístěním hromad nebo dočasných skládek na místo potřeby ze vzdálenosti do 30 m, v rovině nebo ve svahu do 1 : 5,
C29: Odkaz na mn. položky pořadí 4 : 6,00000 | E29: 6 | AG29: VV | AH29: 5
AG30: SPU
A31: 6 | B31: 185803111R00 | C31: Ošetření trávníku v rovině nebo na svahu do 1:5 | D31: m2 | E31: 6 | F31: =H31+J31 -> 0 | G31: =ROUND(E31*F31,2) -> 0 | I31: =ROUND(E31*H31,2) -> 0 | K31: =ROUND(E31*J31,2) -> 0 | L31: 21 | M31: =G31*(1+L31/100) -> 0 | N31: 0 | O31: =ROUND(E31*N31,2) -> 0 | P31: 0 | Q31: =ROUND(E31*P31,2) -> 0 | R31: 823-1 | S31: RTS 24/ II | T31: RTS 24/ I | U31: 0.01 | V31: =ROUND(E31*U31,2) -> 0.06 | X31: Práce | Y31: Běžná | AG31: POL1_
C32: bez ohledu na způsob založení, tj. pokosení se shrabáním, naložením shrabků na dopravní prostředek s odvezením do 20 km a se složením, | AG32: SPI | BA32: =C32 -> bez ohledu na způsob založení, tj. pokosení se shrabáním, naložením shrabků na dopravní prostředek s odvezením do 20 km a se složením,
C33: Odkaz na mn. položky pořadí 4 : 6,00000 | E33: 6 | AG33: VV | AH33: 5
AG34: SPU
A35: 7 | B35: 185851111R00 | C35: Dovoz vody pro zálivku rostlin dovoz vody pro zálivku rostlin na vzdálenost do 6000 m | D35: m3 | E35: 2 | F35: =H35+J35 -> 0 | G35: =ROUND(E35*F35,2) -> 0 | I35: =ROUND(E35*H35,2) -> 0 | K35: =ROUND(E35*J35,2) -> 0 | L35: 21 | M35: =G35*(1+L35/100) -> 0 | N35: 0 | O35: =ROUND(E35*N35,2) -> 0 | P35: 0 | Q35: =ROUND(E35*P35,2) -> 0 | R35: 823-1 | S35: RTS 24/ II | T35: RTS 24/ I | U35: 0.88 | V35: =ROUND(E35*U35,2) -> 1.76 | X35: Práce | Y35: Běžná | AG35: POL1_
C36: 2,00 | E36: 2 | AG36: VV | AH36: 0
AG37: SPU
A38: 8 | B38: 100002 | C38: Chemické odplevel půdy před založ trávníku postřikem | D38: m2 | E38: 6 | F38: =H38+J38 -> 0 | G38: =ROUND(E38*F38,2) -> 0 | I38: =ROUND(E38*H38,2) -> 0 | K38: =ROUND(E38*J38,2) -> 0 | L38: 21 | M38: =G38*(1+L38/100) -> 0 | N38: 0 | O38: =ROUND(E38*N38,2) -> 0 | P38: 0 | Q38: =ROUND(E38*P38,2) -> 0 | S38: Vlastní | T38: Indiv | U38: 0 | V38: =ROUND(E38*U38,2) -> 0 | X38: Práce | Y38: Běžná | AG38: POL1_
C39: Odkaz na mn. položky pořadí 4 : 6,00000 | E39: 6 | AG39: VV | AH39: 5
AG40: SPU
A41: 9 | B41: 00572460R | C41: směs travní technická | D41: kg | E41: 0.6 | F41: =H41+J41 -> 0 | G41: =ROUND(E41*F41,2) -> 0 | I41: =ROUND(E41*H41,2) -> 0 | K41: =ROUND(E41*J41,2) -> 0 | L41: 21 | M41: =G41*(1+L41/100) -> 0 | N41: 0.001 | O41: =ROUND(E41*N41,2) -> 0 | P41: 0 | Q41: =ROUND(E41*P41,2) -> 0 | R41: SPCM | S41: RTS 24/ II | T41: RTS 24/ I | U41: 0 | V41: =ROUND(E41*U41,2) -> 0 | X41: Specifikace | Y41: Běžná | AG41: POL3_
C42: množství 0,10 kg/m2 : 0,10*6 | E42: 0.6 | AG42: VV | AH42: 0
AG43: SPU
A44: Díl: | B44: 5 | C44: Komunikace | G44: =SUMIF(AG45:AG73,"<>NOR",G45:G73) -> 0 | I44: =SUM(I45:I73) -> 0 | K44: =SUM(K45:K73) -> 0 | M44: =SUM(M45:M73) -> 0 | O44: =SUM(O45:O73) -> 35.56 | Q44: =SUM(Q45:Q73) -> 0 | V44: =SUM(V45:V73) -> 45.12 | AG44: DIL
A45: 10 | B45: 567142113R00 | C45: Podklad z kameniva zpevněného cementem SC C8/10, tloušťka po zhutnění 230 mm | D45: m2 | E45: 27 | F45: =H45+J45 -> 0 | G45: =ROUND(E45*F45,2) -> 0 | I45: =ROUND(E45*H45,2) -> 0 | K45: =ROUND(E45*J45,2) -> 0 | L45: 21 | M45: =G45*(1+L45/100) -> 0 | N45: 0.58749 | O45: =ROUND(E45*N45,2) -> 15.86 | P45: 0 | Q45: =ROUND(E45*P45,2) -> 0 | R45: 822-1 | S45: RTS 24/ II | T45: RTS 24/ I | U45: 0.03 | V45: =ROUND(E45*U45,2) -> 0.81 | X45: Práce | Y45: Běžná | AG45: POL1_
C46: bez dilatačních spár, s rozprostřením a zhutněním, ošetřením povrchu podkladu vodou | AG46: SPI
C47: podkladní vrstva pod zpomalovací práh : 6,00*4,50 | E47: 27 | AG47: VV | AH47: 0
AG48: SPU
A49: 11 | B49: 591141111R00 | C49: Kladení dlažby z kostek velkých z kamene, do lože z cementové malty tloušťky 50 mm | D49: m2 | E49: 1.8 | F49: =H49+J49 -> 0 | G49: =ROUND(E49*F49,2) -> 0 | I49: =ROUND(E49*H49,2) -> 0 | K49: =ROUND(E49*J49,2) -> 0 | L49: 21 | M49: =G49*(1+L49/100) -> 0 | N49: 0.31388 | O49: =ROUND(E49*N49,2) -> 0.56 | P49: 0 | Q49: =ROUND(E49*P49,2) -> 0 | R49: 822-1 | S49: RTS 24/ II | T49: RTS 24/ I | U49: 1.144 | V49: =ROUND(E49*U49,2) -> 2.06 | X49: Práce | Y49: Běžná | AG49: POL1_
C50: s provedením lože do 50 mm, s vyplněním spár, s dvojím beraněním a se smetením přebytečného materiálu na krajnici | AG50: SPI | BA50: =C50 -> s provedením lože do 50 mm, s vyplněním spár, s dvojím beraněním a se smetením přebytečného materiálu na krajnici
C51: položení přídlažby podél nově vytvořených obrub : 12,00*0,15 | E51: 1.8 | AG51: VV | AH51: 0
AG52: SPU
A53: 12 | B53: 591241111R00 | C53: Kladení dlažby z kostek drobných z kamene, do lože z cementové malty tloušťky 50 mm | D53: m2 | E53: 27 | F53: =H53+J53 -> 0 | G53: =ROUND(E53*F53,2) -> 0 | I53: =ROUND(E53*H53,2) -> 0 | K53: =ROUND(E53*J53,2) -> 0 | L53: 21 | M53: =G53*(1+L53/100) -> 0 | N53: 0.31388 | O53: =ROUND(E53*N53,2) -> 8.47 | P53: 0 | Q53: =ROUND(E53*P53,2) -> 0 | R53: 822-1 | S53: RTS 24/ II | T53: RTS 24/ I | U53: 1.21 | V53: =ROUND(E53*U53,2) -> 32.67 | X53: Práce | Y53: Běžná | AG53: POL1_
C54: s provedením lože do 50 mm, s vyplněním spár, s dvojím beraněním a se smetením přebytečného materiálu na krajnici | AG54: SPI | BA54: =C54 -> s provedením lože do 50 mm, s vyplněním spár, s dvojím beraněním a se smetením přebytečného materiálu na krajnici
C55: dlažba zpomalovacího prahu včetně vytvoření sklonů nájezdových ramp : 6,00*4,50 | E55: 27 | AG55: VV | AH55: 0
AG56: SPU
A57: 13 | B57: 599121111R00 | C57: Zálivka živičná spár dlažby z drobných kostek | D57: m2 | E57: 1.65 | F57: =H57+J57 -> 0 | G57: =ROUND(E57*F57,2) -> 0 | I57: =ROUND(E57*H57,2) -> 0 | K57: =ROUND(E57*J57,2) -> 0 | L57: 21 | M57: =G57*(1+L57/100) -> 0 | N57: 0.015 | O57: =ROUND(E57*N57,2) -> 0.02 | P57: 0 | Q57: =ROUND(E57*P57,2) -> 0 | R57: 822-1 | S57: RTS 24/ II | T57: RTS 24/ I | U57: 0.394 | V57: =ROUND(E57*U57,2) -> 0.65 | X57: Práce | Y57: Běžná | AG57: POL1_
C58: hloubky do 50 mm, s vyčištěním spár | AG58: SPI
C59: zálivka spáry okolo zpomalovacího prahu : (6,00*2+4,50*2)*0,05 | E59: 1.05 | AG59: VV | AH59: 0
C60: zálivka mezi živicí a přídlažbou : 12,00*0,05 | E60: 0.6 | AG60: VV | AH60: 0
AG61: SPU
A62: 14 | B62: 599632111R00 | C62: Vyplnění spár dlažby (přídlažby) z lomového kamene cementovou maltou | D62: m2 | E62: 28.8 | F62: =H62+J62 -> 0 | G62: =ROUND(E62*F62,2) -> 0 | I62: =ROUND(E62*H62,2) -> 0 | K62: =ROUND(E62*J62,2) -> 0 | L62: 21 | M62: =G62*(1+L62/100) -> 0 | N62: 0.14607 | O62: =ROUND(E62*N62,2) -> 4.21 | P62: 0 | Q62: =ROUND(E62*P62,2) -> 0 | R62: 822-1 | S62: RTS 24/ II | T62: RTS 24/ I | U62: 0.31 | V62: =ROUND(E62*U62,2) -> 8.93 | X62: Práce | Y62: Běžná | AG62: POL1_
C63: v jakémkoliv sklonu plochy a jakékoliv tloušťky | AG63: SPI
C64: Odkaz na mn. položky pořadí 11 : 1,80000 | E64: 1.8 | AG64: VV | AH64: 5
C65: Odkaz na mn. položky pořadí 12 : 27,00000 | E65: 27 | AG65: VV | AH65: 5
AG66: SPU
A67: 15 | B67: 58380120.AR | C67: kostka dlažební; žula; 8/10 cm; třída I; štípaná | D67: m2 | E67: 29.7 | F67: =H67+J67 -> 0 | G67: =ROUND(E67*F67,2) -> 0 | I67: =ROUND(E67*H67,2) -> 0 | K67: =ROUND(E67*J67,2) -> 0 | L67: 21 | M67: =G67*(1+L67/100) -> 0 | N67: 0.2 | O67: =ROUND(E67*N67,2) -> 5.94 | P67: 0 | Q67: =ROUND(E67*P67,2) -> 0 | R67: SPCM | S67: RTS 24/ II | T67: RTS 24/ I | U67: 0 | V67: =ROUND(E67*U67,2) -> 0 | X67: Specifikace | Y67: Běžná | AG67: POL3_
C68: dlažba zpomalovacího prahu, 1 t = 5m2 : 6,00*4,50 | E68: 27 | AG68: VV | AH68: 0
C69: prořez 10% : 2,70 | E69: 2.7 | AG69: VV | AH69: 0
AG70: SPU
A71: 16 | B71: 58380129R | C71: kostka dlažební; žula; 10/12 cm; třída I; štípaná | D71: t | E71: 0.5 | F71: =H71+J71 -> 0 | G71: =ROUND(E71*F71,2) -> 0 | I71: =ROUND(E71*H71,2) -> 0 | K71: =ROUND(E71*J71,2) -> 0 | L71: 21 | M71: =G71*(1+L71/100) -> 0 | N71: 1 | O71: =ROUND(E71*N71,2) -> 0.5 | P71: 0 | Q71: =ROUND(E71*P71,2) -> 0 | R71: SPCM | S71: RTS 24/ II | T71: RTS 24/ I | U71: 0 | V71: =ROUND(E71*U71,2) -> 0 | X71: Specifikace | Y71: Běžná | AG71: POL3_
C72: pro přídlažbu : 0,50 | E72: 0.5 | AG72: VV | AH72: 0
AG73: SPU
A74: Díl: | B74: 91 | C74: Doplňující práce na komunikaci | G74: =SUMIF(AG75:AG94,"<>NOR",G75:G94) -> 0 | I74: =SUM(I75:I94) -> 0 | K74: =SUM(K75:K94) -> 0 | M74: =SUM(M75:M94) -> 0 | O74: =SUM(O75:O94) -> 4.94 | Q74: =SUM(Q75:Q94) -> 0 | V74: =SUM(V75:V94) -> 9.57 | AG74: DIL
A75: 17 | B75: 915721111RT1 | C75: Vodorovné značení krytů stříkané barvou, bílou, stopčar, zeber, stínů, šipek, nápisů, přechodů apod. | D75: m2 | E75: 12 | F75: =H75+J75 -> 0 | G75: =ROUND(E75*F75,2) -> 0 | I75: =ROUND(E75*H75,2) -> 0 | K75: =ROUND(E75*J75,2) -> 0 | L75: 21 | M75: =G75*(1+L75/100) -> 0 | N75: 0.00108 | O75: =ROUND(E75*N75,2) -> 0.01 | P75: 0 | Q75: =ROUND(E75*P75,2) -> 0 | R75: 822-1 | S75: RTS 24/ II | T75: RTS 24/ I | U75: 0.311 | V75: =ROUND(E75*U75,2) -> 3.73 | X75: Práce | Y75: Běžná | AG75: POL1_
C76: Odkaz na mn. položky pořadí 18 : 12,00000 | E76: 12 | AG76: VV | AH76: 5
AG77: SPU
A78: 18 | B78: 915791112R00 | C78: Předznačení pro vodorovné značení pro stopčáry, zebry,stíny, šipky, nápisy, přechody | D78: m2 | E78: 12 | F78: =H78+J78 -> 0 | G78: =ROUND(E78*F78,2) -> 0 | I78: =ROUND(E78*H78,2) -> 0 | K78: =ROUND(E78*J78,2) -> 0 | L78: 21 | M78: =G78*(1+L78/100) -> 0 | N78: 0 | O78: =ROUND(E78*N78,2) -> 0 | P78: 0 | Q78: =ROUND(E78*P78,2) -> 0 | R78: 822-1 | S78: RTS 24/ II | T78: RTS 24/ I | U78: 0.13 | V78: =ROUND(E78*U78,2) -> 1.56 | X78: Práce | Y78: Běžná | AG78: POL1_
C79: stříkané barvou nebo prováděné z nátěrových hmot | AG79: SPI
C80: vodorovné dopravní značení, trojůhelník V17, 10 ks : 1,20*10 | E80: 12 | AG80: VV | AH80: 0
AG81: SPU
A82: 19 | B82: 917862111RU2 | C82: Osazení silničního nebo chodníkového obrubníku včetně dodávky betonovéího obrubníku 1000/150/250 mm, stojatého, s boční opěrou z betonu prostého, do lože z betonu prostého C 12/15 | D82: m | E82: 10 | F82: =H82+J82 -> 0 | G82: =ROUND(E82*F82,2) -> 0 | I82: =ROUND(E82*H82,2) -> 0 | K82: =ROUND(E82*J82,2) -> 0 | L82: 21 | M82: =G82*(1+L82/100) -> 0 | N82: 0.26941 | O82: =ROUND(E82*N82,2) -> 2.69 | P82: 0 | Q82: =ROUND(E82*P82,2) -> 0 | R82: 822-1 | S82: RTS 24/ II | T82: RTS 24/ I | U82: 0.27 | V82: =ROUND(E82*U82,2) -> 2.7 | X82: Práce | Y82: Běžná | AG82: POL1_
C83: S dodáním hmot pro lože tl. 80-100 mm. | AG83: SPI
C84: obrubníky průběžné : 10,00 | E84: 10 | AG84: VV | AH84: 0
AG85: SPU
A86: 20 | B86: 917862111RV4 | C86: Osazení silničního nebo chodníkového obrubníku včetně dodávky betonovéího obrubníku nájezdového náběhového 1000/150/150-250, stojatého, s boční opěrou z betonu prostého, do lože z betonu prostého C 12/15 | D86: m | E86: 2 | F86: =H86+J86 -> 0 | G86: =ROUND(E86*F86,2) -> 0 | I86: =ROUND(E86*H86,2) -> 0 | K86: =ROUND(E86*J86,2) -> 0 | L86: 21 | M86: =G86*(1+L86/100) -> 0 | N86: 0.21116 | O86: =ROUND(E86*N86,2) -> 0.42 | P86: 0 | Q86: =ROUND(E86*P86,2) -> 0 | R86: 822-1 | S86: RTS 24/ II | T86: RTS 24/ I | U86: 0.27 | V86: =ROUND(E86*U86,2) -> 0.54 | X86: Práce | Y86: Běžná | AG86: POL1_
C87: S dodáním hmot pro lože tl. 80-100 mm. | AG87: SPI
C88: obrubníky náběhové na krajích pásu : 1,00+1,00 | E88: 2 | AG88: VV | AH88: 0
AG89: SPU
A90: 21 | B90: 918101111R00 | C90: Lože pod obrubníky, krajníky nebo obruby z betonu prostého C 12/15 | D90: m3 | E90: 0.72 | F90: =H90+J90 -> 0 | G90: =ROUND(E90*F90,2) -> 0 | I90: =ROUND(E90*H90,2) -> 0 | K90: =ROUND(E90*J90,2) -> 0 | L90: 21 | M90: =G90*(1+L90/100) -> 0 | N90: 2.525 | O90: =ROUND(E90*N90,2) -> 1.82 | P90: 0 | Q90: =ROUND(E90*P90,2) -> 0 | R90: 822-1 | S90: RTS 24/ II | T90: RTS 24/ I | U90: 1.44 | V90: =ROUND(E90*U90,2) -> 1.04 | X90: Práce | Y90: Běžná | AG90: POL1_
C91: z dlažebních kostek z betonu prostého | AG91: SPI
C92: lože pod silniční obrubníky : 12,00*0,30*0,15 | E92: 0.54 | AG92: VV | AH92: 0
C93: lože pod přídlažbu : 12,00*0,15*0,10 | E93: 0.18 | AG93: VV | AH93: 0
AG94: SPU
A95: Díl: | B95: 99 | C95: Staveništní přesun hmot | G95: =SUMIF(AG96:AG98,"<>NOR",G96:G98) -> 0 | I95: =SUM(I96:I98) -> 0 | K95: =SUM(K96:K98) -> 0 | M95: =SUM(M96:M98) -> 0 | O95: =SUM(O96:O98) -> 0 | Q95: =SUM(Q96:Q98) -> 0 | V95: =SUM(V96:V98) -> 15.8 | AG95: DIL
A96: 22 | B96: 998223011R00 | C96: Přesun hmot pozemních komunikací, kryt dlážděný jakékoliv délky objektu | D96: t | E96: 40.52152 | F96: =H96+J96 -> 0 | G96: =ROUND(E96*F96,2) -> 0 | I96: =ROUND(E96*H96,2) -> 0 | K96: =ROUND(E96*J96,2) -> 0 | L96: 21 | M96: =G96*(1+L96/100) -> 0 | N96: 0 | O96: =ROUND(E96*N96,2) -> 0 | P96: 0 | Q96: =ROUND(E96*P96,2) -> 0 | R96: 822-1 | S96: RTS 24/ II | T96: RTS 24/ I | U96: 0.39 | V96: =ROUND(E96*U96,2) -> 15.8 | X96: Přesun hmot | Y96: Běžná | AG96: POL7_
C97: vodorovně do 200 m | AG97: SPI
AG98: SPU
AE99: 12 | AF99: 21 | AG99: DPH
B100: Celkem | G100: =G8+G22+G44+G74+G95 -> 0 | AE100: =SUMIF(L7:L98,AE99,G7:G98) -> 0 | AF100: =SUMIF(L7:L98,AF99,G7:G98) -> 0 | AG100: SUM
AG101: END

Sheet SO01 SO0103 Pol
A1: Položkový soupis prací a dodávek | AG1: #TypZaznamu#
A2: S: | B2: 24016 | C2: Zpomalovací polštář na místní komunikaci v ul. Čtvrtě, Holasice | AG2: STA
A3: O: | B3: SO01 | C3: Zpomalovací polštář vč. doplnění obruby | AC3: STA | AG3: OBJ
A4: R: | B4: SO0103 | C4: Dočasná panelová komunikace_objízdná trasa | AG4: ROZ
A6: P.č. | B6: Číslo položky | C6: Název položky | D6: MJ | E6: Množství | F6: Cena / MJ | G6: Celkem | H6: Dodávka | I6: Dodávka celk. | J6: Montáž | K6: Montáž celk. | L6: DPH | M6: Cena s DPH | N6: Hmotnost / MJ | O6: Hmotnost celk.(t) | P6: Dem. hmotnost / MJ | Q6: Dem. hmotnost celk.(t) | R6: Ceník | S6: Cen. soustava / platnost | T6: Cenová úroveň | U6: Nhod / MJ | V6: Nhod celk. | W6: Dodavatel | X6: Typ položky | Y6: Stav položky
A8: Díl: | B8: 1 | C8: Zemní práce | G8: =SUMIF(AG9:AG42,"<>NOR",G9:G42) -> 0 | I8: =SUM(I9:I42) -> 0 | K8: =SUM(K9:K42) -> 0 | M8: =SUM(M9:M42) -> 0 | O8: =SUM(O9:O42) -> 0 | Q8: =SUM(Q9:Q42) -> 177.2 | V8: =SUM(V9:V42) -> 76 | AG8: DIL
A9: 1 | B9: 113107625R00 | C9: Odstranění podkladů nebo krytů z kameniva hrubého drceného, v ploše jednotlivě nad 50 m2, tloušťka vrstvy 250 mm | D9: m2 | E9: 206 | F9: =H9+J9 -> 0 | G9: =ROUND(E9*F9,2) -> 0 | I9: =ROUND(E9*H9,2) -> 0 | K9: =ROUND(E9*J9,2) -> 0 | L9: 21 | M9: =G9*(1+L9/100) -> 0 | N9: 0 | O9: =ROUND(E9*N9,2) -> 0 | P9: 0.55 | Q9: =ROUND(E9*P9,2) -> 113.3 | R9: 822-1 | S9: RTS 24/ II | T9: RTS 24/ II | U9: 0.09 | V9: =ROUND(E9*U9,2) -> 18.54 | X9: Práce | Y9: Běžná | AG9: POL1_
C10: Odkaz na mn. položky pořadí 13 : 206,00000 | E10: 206 | AG10: VV | AH10: 5
AG11: SPU
A12: 2 | B12: 113151111R00 | C12: Rozebrání zpevněných ploch rozebrání ploch ze silničních panelů | D12: m2 | E12: 180 | F12: =H12+J12 -> 0 | G12: =ROUND(E12*F12,2) -> 0 | I12: =ROUND(E12*H12,2) -> 0 | K12: =ROUND(E12*J12,2) -> 0 | L12: 21 | M12: =G12*(1+L12/100) -> 0 | N12: 0 | O12: =ROUND(E12*N12,2) -> 0 | P12: 0.355 | Q12: =ROUND(E12*P12,2) -> 63.9 | R12: 800-2 | S12: RTS 24/ II | T12: RTS 24/ II | U12: 0.06 | V12: =ROUND(E12*U12,2) -> 10.8 | X12: Práce | Y12: Běžná | AG12: POL1_
C13: s přemístěním na skládku na vzdálenost do 20 m nebo s naložením na dopravní prostředek, | AG13: SPI
C14: Odkaz na mn. položky pořadí 15 : 180,00000 | E14: 180 | AG14: VV | AH14: 5
AG15: SPU
A16: 3 | B16: 121101102R00 | C16: Sejmutí ornice s přemístěním na vzdálenost přes 50 do 100 m | D16: m3 | E16: 30.9 | F16: =H16+J16 -> 0 | G16: =ROUND(E16*F16,2) -> 0 | I16: =ROUND(E16*H16,2) -> 0 | K16: =ROUND(E16*J16,2) -> 0 | L16: 21 | M16: =G16*(1+L16/100) -> 0 | N16: 0 | O16: =ROUND(E16*N16,2) -> 0 | P16: 0 | Q16: =ROUND(E16*P16,2) -> 0 | R16: 800-1 | S16: RTS 24/ II | T16: RTS 24/ II | U16: 0.03 | V16: =ROUND(E16*U16,2) -> 0.93 | X16: Práce | Y16: Běžná | AG16: POL1_
C17: nebo lesní půdy, s vodorovným přemístěním na hromady v místě upotřebení nebo na dočasné či trvalé skládky se složením | AG17: SPI | BA17: =C17 -> nebo lesní půdy, s vodorovným přemístěním na hromady v místě upotřebení nebo na dočasné či trvalé skládky se složením
C18: plocha pro silniční panely, zaměřeno CAD, celkem těženo 40 cm, ornice 15 cm : 206,00*0,15 | E18: 30.9 | AG18: VV | AH18: 0
AG19: SPU
A20: 4 | B20: 131201111R00 | C20: Hloubení nezapažených jam a zářezů do 100 m3, v hornině 3, hloubení strojně | D20: m3 | E20: 51.5 | F20: =H20+J20 -> 0 | G20: =ROUND(E20*F20,2) -> 0 | I20: =ROUND(E20*H20,2) -> 0 | K20: =ROUND(E20*J20,2) -> 0 | L20: 21 | M20: =G20*(1+L20/100) -> 0 | N20: 0 | O20: =ROUND(E20*N20,2) -> 0 | P20: 0 | Q20: =ROUND(E20*P20,2) -> 0 | R20: 800-1 | S20: RTS 24/ II | T20: RTS 24/ II | U20: 0.12 | V20: =ROUND(E20*U20,2) -> 6.18 | X20: Práce | Y20: Běžná | AG20: POL1_
C21: kromě zářezů se šikmými stěnami pro podzemní vedení, s urovnáním dna do předepsaného profilu a spádu, s případným nutným přemístěním ve výkopišti a dále buď s přemístěním výkopku na přilehlém terénu na vzdálenost do 3 m od okraje jámy nebo s naložením na dopravní prostředek, | AG21: SPI | BA21: =C21 -> kromě zářezů se šikmými stěnami pro podzemní vedení, s urovnáním dna do předepsaného profilu a spádu, s případným nutným přemístěním ve výkopišti a dále buď s přemístěním výkopku na přilehlém terénu na vzdálenost do 3 m od okraje jámy nebo s naložením na dopravní prostředek,
C22: plocha pro silniční panely, zaměřeno CAD, celkem těženo 40 cm, ornice 15 cm, zemina 25 cm : 206,00*0,25 | E22: 51.5 | AG22: VV | AH22: 0
AG23: SPU
A24: 5 | B24: 131201119R00 | C24: Hloubení nezapažených jam a zářezů příplatek za lepivost, v hornině 3, | D24: m3 | E24: 51.5 | F24: =H24+J24 -> 0 | G24: =ROUND(E24*F24,2) -> 0 | I24: =ROUND(E24*H24,2) -> 0 | K24: =ROUND(E24*J24,2) -> 0 | L24: 21 | M24: =G24*(1+L24/100) -> 0 | N24: 0 | O24: =ROUND(E24*N24,2) -> 0 | P24: 0 | Q24: =ROUND(E24*P24,2) -> 0 | R24: 800-1 | S24: RTS 24/ II | T24: RTS 24/ II | U24: 0.04 | V24: =ROUND(E24*U24,2) -> 2.06 | X24: Práce | Y24: Běžná | AG24: POL1_
C25: kromě zářezů se šikmými stěnami pro podzemní vedení, s urovnáním dna do předepsaného profilu a spádu, s případným nutným přemístěním ve výkopišti a dále buď s přemístěním výkopku na přilehlém terénu na vzdálenost do 3 m od okraje jámy nebo s naložením na dopravní prostředek, | AG25: SPI | BA25: =C25 -> kromě zářezů se šikmými stěnami pro podzemní vedení, s urovnáním dna do předepsaného profilu a spádu, s případným nutným přemístěním ve výkopišti a dále buď s přemístěním výkopku na přilehlém terénu na vzdálenost do 3 m od okraje jámy nebo s naložením na dopravní prostředek,
C26: Odkaz na mn. položky pořadí 4 : 51,50000 | E26: 51.5 | AG26: VV | AH26: 5
AG27: SPU
A28: 6 | B28: 171201101R00 | C28: Uložení sypaniny do násypů nezhutněných | D28: m3 | E28: 82.4 | F28: =H28+J28 -> 0 | G28: =ROUND(E28*F28,2) -> 0 | I28: =ROUND(E28*H28,2) -> 0 | K28: =ROUND(E28*J28,2) -> 0 | L28: 21 | M28: =G28*(1+L28/100) -> 0 | N28: 0 | O28: =ROUND(E28*N28,2) -> 0 | P28: 0 | Q28: =ROUND(E28*P28,2) -> 0 | R28: 800-1 | S28: RTS 24/ II | T28: RTS 24/ II | U28: 0.03 | V28: =ROUND(E28*U28,2) -> 2.47 | X28: Práce | Y28: Běžná | AG28: POL1_
C29: Uložení sypaniny do násypů nebo na skládku s rozprostřením sypaniny ve vrstvách a s hrubým urovnáním. | AG29: POP | BA29: =C29 -> Uložení sypaniny do násypů nebo na skládku s rozprostřením sypaniny ve vrstvách a s hrubým urovnáním.
C30: mezideponie ornice a zeminy : | AG30: VV | AH30: 0
C31: Odkaz na mn. položky pořadí 3 : 30,90000 | E31: 30.9 | AG31: VV | AH31: 5
C32: Odkaz na mn. položky pořadí 4 : 51,50000 | E32: 51.5 | AG32: VV | AH32: 5
AG33: SPU
A34: 7 | B34: 181101102R00 | C34: Úprava pláně v zářezech v hornině 1 až 4, se zhutněním | D34: m2 | E34: 206 | F34: =H34+J34 -> 0 | G34: =ROUND(E34*F34,2) -> 0 | I34: =ROUND(E34*H34,2) -> 0 | K34: =ROUND(E34*J34,2) -> 0 | L34: 21 | M34: =G34*(1+L34/100) -> 0 | N34: 0 | O34: =ROUND(E34*N34,2) -> 0 | P34: 0 | Q34: =ROUND(E34*P34,2) -> 0 | R34: 800-1 | S34: RTS 24/ II | T34: RTS 24/ II | U34: 0.02 | V34: =ROUND(E34*U34,2) -> 4.12 | X34: Práce | Y34: Běžná | AG34: POL1_
C35: vyrovnáním výškových rozdílů, ploch vodorovných a ploch do sklonu 1 : 5. | AG35: SPI
C36: plocha pro silniční panely, zaměřeno CAD : 206,00 | E36: 206 | AG36: VV | AH36: 0
AG37: SPU
A38: 8 | B38: 182001131R00 | C38: Plošná úprava terénu při nerovnostech terénu přes 150 do 200 mm, v rovině nebo na svahu do 1:5 | D38: m2 | E38: 206 | F38: =H38+J38 -> 0 | G38: =ROUND(E38*F38,2) -> 0 | I38: =ROUND(E38*H38,2) -> 0 | K38: =ROUND(E38*J38,2) -> 0 | L38: 21 | M38: =G38*(1+L38/100) -> 0 | N38: 0 | O38: =ROUND(E38*N38,2) -> 0 | P38: 0 | Q38: =ROUND(E38*P38,2) -> 0 | R38: 823-1 | S38: RTS 24/ II | T38: RTS 24/ II | U38: 0.15 | V38: =ROUND(E38*U38,2) -> 30.9 | X38: Práce | Y38: Běžná | AG38: POL1_
C39: s urovnáním povrchu, bez doplnění ornice, v hornině 1 až 4, | AG39: SPI
C40: zpětné navrstvení mezideponované zeminy a ornice : | AG40: VV | AH40: 0
C41: Odkaz na mn. položky pořadí 14 : 206,00000 | E41: 206 | AG41: VV | AH41: 5
AG42: SPU
A43: Díl: | B43: 18 | C43: Povrchové úpravy terénu | G43: =SUMIF(AG44:AG60,"<>NOR",G44:G60) -> 0 | I43: =SUM(I44:I60) -> 0 | K43: =SUM(K44:K60) -> 0 | M43: =SUM(M44:M60) -> 0 | O43: =SUM(O44:O60) -> 0.02 | Q43: =SUM(Q44:Q60) -> 0 | V43: =SUM(V44:V60) -> 6.9 | AG43: DIL
A44: 9 | B44: 180401211R00 | C44: Založení trávníku luční trávník, výsevem, v rovině nebo na svahu do 1:5 | D44: m2 | E44: 206 | F44: =H44+J44 -> 0 | G44: =ROUND(E44*F44,2) -> 0 | I44: =ROUND(E44*H44,2) -> 0 | K44: =ROUND(E44*J44,2) -> 0 | L44: 21 | M44: =G44*(1+L44/100) -> 0 | N44: 0 | O44: =ROUND(E44*N44,2) -> 0 | P44: 0 | Q44: =ROUND(E44*P44,2) -> 0 | R44: 823-1 | S44: RTS 24/ II | T44: RTS 24/ II | U44: 0.02 | V44: =ROUND(E44*U44,2) -> 4.12 | X44: Práce | Y44: Běžná | AG44: POL1_
C45: na půdě předem připravené s pokosením, naložením, odvozem odpadu do 20 km a se složením, | AG45: SPI
C46: zpětný osev trávníku ...plocha zaměřena CAD : 206,00 | E46: 206 | AG46: VV | AH46: 0
AG47: SPU
A48: 10 | B48: 184802111R00 | C48: Chemické odplevelení půdy před založením kultury postřikem naširoko, v rovině nebo na svahu do 1:5 | D48: m2 | E48: 206 | F48: =H48+J48 -> 0 | G48: =ROUND(E48*F48,2) -> 0 | I48: =ROUND(E48*H48,2) -> 0 | K48: =ROUND(E48*J48,2) -> 0 | L48: 21 | M48: =G48*(1+L48/100) -> 0 | N48: 0 | O48: =ROUND(E48*N48,2) -> 0 | P48: 0 | Q48: =ROUND(E48*P48,2) -> 0 | R48: 823-1 | S48: RTS 24/ II | T48: RTS 24/ II | U48: 0.0035 | V48: =ROUND(E48*U48,2) -> 0.72 | X48: Práce | Y48: Běžná | AG48: POL1_
C49: nebo trávníku nebo zpevněných ploch o výměře jednotlivě přes 20 m2, | AG49: SPI
C50: Včetně dovozu vody do 10 km. | AG50: POP
C51: Odkaz na mn. položky pořadí 9 : 206,00000 | E51: 206 | AG51: VV | AH51: 5
AG52: SPU
A53: 11 | B53: 185803111R00 | C53: Ošetření trávníku v rovině nebo na svahu do 1:5 | D53: m2 | E53: 206 | F53: =H53+J53 -> 0 | G53: =ROUND(E53*F53,2) -> 0 | I53: =ROUND(E53*H53,2) -> 0 | K53: =ROUND(E53*J53,2) -> 0 | L53: 21 | M53: =G53*(1+L53/100) -> 0 | N53: 0 | O53: =ROUND(E53*N53,2) -> 0 | P53: 0 | Q53: =ROUND(E53*P53,2) -> 0 | R53: 823-1 | S53: RTS 24/ II | T53: RTS 24/ II | U53: 0.01 | V53: =ROUND(E53*U53,2) -> 2.06 | X53: Práce | Y53: Běžná | AG53: POL1_
C54: bez ohledu na způsob založení, tj. pokosení se shrabáním, naložením shrabků na dopravní prostředek s odvezením do 20 km a se složením, | AG54: SPI | BA54: =C54 -> bez ohledu na způsob založení, tj. pokosení se shrabáním, naložením shrabků na dopravní prostředek s odvezením do 20 km a se složením,
C55: Odkaz na mn. položky pořadí 9 : 206,00000 | E55: 206 | AG55: VV | AH55: 5
AG56: SPU
A57: 12 | B57: 00572460R | C57: směs travní technická | D57: kg | E57: 20.6 | F57: =H57+J57 -> 0 | G57: =ROUND(E57*F57,2) -> 0 | I57: =ROUND(E57*H57,2) -> 0 | K57: =ROUND(E57*J57,2) -> 0 | L57: 21 | M57: =G57*(1+L57/100) -> 0 | N57: 0.001 | O57: =ROUND(E57*N57,2) -> 0.02 | P57: 0 | Q57: =ROUND(E57*P57,2) -> 0 | R57: SPCM | S57: RTS 24/ II | T57: RTS 24/ II | U57: 0 | V57: =ROUND(E57*U57,2) -> 0 | X57: Specifikace | Y57: Běžná | AG57: POL3_
C58: množství 0,10 kg/m2 : | AG58: VV | AH58: 0
C59: Odkaz na mn. položky pořadí 9 : 206,00000*0,1 | E59: 20.6 | AG59: VV | AH59: 5
AG60: SPU
A61: Díl: | B61: 5 | C61: Komunikace | G61: =SUMIF(AG62:AG92,"<>NOR",G62:G92) -> 0 | I61: =SUM(I62:I92) -> 0 | K61: =SUM(K62:K92) -> 0 | M61: =SUM(M62:M92) -> 0 | O61: =SUM(O62:O92) -> 177.49 | Q61: =SUM(Q62:Q92) -> 0 | V61: =SUM(V62:V92) -> 46.11 | AG61: DIL
A62: 13 | B62: 564861111RT4 | C62: Podklad ze štěrkodrti s rozprostřením a zhutněním frakce 0-63 mm, tloušťka po zhutnění 200 mm | D62: m2 | E62: 206 | F62: =H62+J62 -> 0 | G62: =ROUND(E62*F62,2) -> 0 | I62: =ROUND(E62*H62,2) -> 0 | K62: =ROUND(E62*J62,2) -> 0 | L62: 21 | M62: =G62*(1+L62/100) -> 0 | N62: 0.46 | O62: =ROUND(E62*N62,2) -> 94.76 | P62: 0 | Q62: =ROUND(E62*P62,2) -> 0 | R62: 822-1 | S62: RTS 24/ II | T62: RTS 24/ II | U62: 0.029 | V62: =ROUND(E62*U62,2) -> 5.97 | X62: Práce | Y62: Běžná | AG62: POL1_
C63: Odkaz na mn. položky pořadí 14 : 206,00000 | E63: 206 | AG63: VV | AH63: 5
AG64: SPU
A65: 14 | B65: 568111111R00 | C65: Vyztužení podkladní vrstvy z geotextilie, sklon povrchu do 1:5, role šířky 3 m | D65: m2 | E65: 206 | F65: =H65+J65 -> 0 | G65: =ROUND(E65*F65,2) -> 0 | I65: =ROUND(E65*H65,2) -> 0 | K65: =ROUND(E65*J65,2) -> 0 | L65: 21 | M65: =G65*(1+L65/100) -> 0 | N65: 0 | O65: =ROUND(E65*N65,2) -> 0 | P65: 0 | Q65: =ROUND(E65*P65,2) -> 0 | R65: 822-1 | S65: RTS 24/ II | T65: RTS 24/ II | U65: 0.09 | V65: =ROUND(E65*U65,2) -> 18.54 | X65: Práce | Y65: Běžná | AG65: POL1_
C66: plocha pro silniční panely, zaměřeno CAD : 206,00 | E66: 206 | AG66: VV | AH66: 0
AG67: SPU
A68: 15 | B68: 584921121RT2 | C68: Zřízení zpev. ploch ze silničních panelů do lože zřízení zpevněné plochy ze silničních panelů osazených do lože z kameniva tl. 50 mm | D68: m2 | E68: 180 | F68: =H68+J68 -> 0 | G68: =ROUND(E68*F68,2) -> 0 | I68: =ROUND(E68*H68,2) -> 0 | K68: =ROUND(E68*J68,2) -> 0 | L68: 21 | M68: =G68*(1+L68/100) -> 0 | N68: 0.45926 | O68: =ROUND(E68*N68,2) -> 82.67 | P68: 0 | Q68: =ROUND(E68*P68,2) -> 0 | R68: 800-2 | S68: RTS 24/ II | T68: RTS 24/ II | U68: 0.12 | V68: =ROUND(E68*U68,2) -> 21.6 | X68: Práce | Y68: Běžná | AG68: POL1_
C69: Včetně: | AG69: POP
C70: - kameniva frakce 0 - 32 mm, | AG70: POP
C71: - rozprostření podkladu, | AG71: POP
C72: - osazení silničních panelů. | AG72: POP
C73: panelová komunikace, panely 3,0m x 1,0 m : 3,00*1,00*60 | E73: 180 | AG73: VV | AH73: 0
AG74: SPU
A75: 16 | B75: 50003.R | C75: Demontáž geotextilie vč. odvozu na skládku | D75: m2 | E75: 206 | F75: =H75+J75 -> 0 | G75: =ROUND(E75*F75,2) -> 0 | I75: =ROUND(E75*H75,2) -> 0 | K75: =ROUND(E75*J75,2) -> 0 | L75: 21 | M75: =G75*(1+L75/100) -> 0 | N75: 0 | O75: =ROUND(E75*N75,2) -> 0 | P75: 0 | Q75: =ROUND(E75*P75,2) -> 0 | S75: Vlastní | T75: Indiv | U75: 0 | V75: =ROUND(E75*U75,2) -> 0 | X75: Práce | Y75: Běžná | AG75: POL1_
C76: Odkaz na mn. položky pořadí 14 : 206,00000 | E76: 206 | AG76: VV | AH76: 5
AG77: SPU
A78: 17 | B78: 50001.R | C78: Panel silniční IZD 1 rozměr 3000 x 1000 x 150 mm, pronájem za den | D78: kus | E78: 1800 | F78: =H78+J78 -> 0 | G78: =ROUND(E78*F78,2) -> 0 | I78: =ROUND(E78*H78,2) -> 0 | K78: =ROUND(E78*J78,2) -> 0 | L78: 21 | M78: =G78*(1+L78/100) -> 0 | N78: 0 | O78: =ROUND(E78*N78,2) -> 0 | P78: 0 | Q78: =ROUND(E78*P78,2) -> 0 | S78: Vlastní | T78: Indiv | U78: 0 | V78: =ROUND(E78*U78,2) -> 0 | X78: Specifikace | Y78: Běžná | AG78: POL3_
C79: panelová komunikace, panely 3,0m x 1,0 m..celkme 60 ks, přepoklad měsíc pronájmu : 60,00*30 | E79: 1800 | AG79: VV | AH79: 0
AG80: SPU
A81: 18 | B81: 50002.R | C81: Dovoz a odvoz silničních panelů | D81: km | E81: 40 | F81: =H81+J81 -> 0 | G81: =ROUND(E81*F81,2) -> 0 | I81: =ROUND(E81*H81,2) -> 0 | K81: =ROUND(E81*J81,2) -> 0 | L81: 21 | M81: =G81*(1+L81/100) -> 0 | N81: 0 | O81: =ROUND(E81*N81,2) -> 0 | P81: 0 | Q81: =ROUND(E81*P81,2) -> 0 | S81: Vlastní | T81: Indiv | U81: 0 | V81: =ROUND(E81*U81,2) -> 0 | X81: Specifikace | Y81: Běžná | AG81: POL3_
C82: Položka obsahuje náklady na: | AG82: POP
C83: - naložení panelů na skládce | AG83: POP
C84: - dovoz na stavbu | AG84: POP
C85: - zpětný odvoz ze stavby | AG85: POP
C86: - zpětné složení na skládce | AG86: POP
C87: Brno - Holasice : 20,00 | E87: 20 | AG87: VV | AH87: 0
C88: Holasice - Brno : 20,00 | E88: 20 | AG88: VV | AH88: 0
AG89: SPU
A90: 19 | B90: 69366198R | C90: Geosyntetika typ: geotextilie; netkaná; materiál: PP; tl (2 kPa) = 2,9 mm; plošná hmotnost = 300 g/m2; Pevnost v tahu podélně = 20,0 kN/m; Pevnost v tahu příčně = 11,5 kN/m | D90: m2 | E90: 216.3 | F90: =H90+J90 -> 0 | G90: =ROUND(E90*F90,2) -> 0 | I90: =ROUND(E90*H90,2) -> 0 | K90: =ROUND(E90*J90,2) -> 0 | L90: 21 | M90: =G90*(1+L90/100) -> 0 | N90: 0.0003 | O90: =ROUND(E90*N90,2) -> 0.06 | P90: 0 | Q90: =ROUND(E90*P90,2) -> 0 | R90: SPCM | S90: RTS 24/ II | T90: RTS 24/ II | U90: 0 | V90: =ROUND(E90*U90,2) -> 0 | X90: Specifikace | Y90: Běžná | AG90: POL3_
C91: Odkaz na mn. položky pořadí 14 : 206,00000*1,05 | E91: 216.3 | AG91: VV | AH91: 5
AG92: SPU
A93: Díl: | B93: 91 | C93: Doplňující práce na komunikaci | G93: =SUMIF(AG94:AG101,"<>NOR",G94:G101) -> 0 | I93: =SUM(I94:I101) -> 0 | K93: =SUM(K94:K101) -> 0 | M93: =SUM(M94:M101) -> 0 | O93: =SUM(O94:O101) -> 1.07 | Q93: =SUM(Q94:Q101) -> 0 | V93: =SUM(V94:V101) -> 6.93 | AG93: DIL
A94: 20 | B94: 914431111RT6 | C94: Osazení a montáž dopravního zrcadla na sloupek nebo nosnou konstrukci, včetně dodávky sloupku a značky | D94: kus | E94: 1 | F94: =H94+J94 -> 0 | G94: =ROUND(E94*F94,2) -> 0 | I94: =ROUND(E94*H94,2) -> 0 | K94: =ROUND(E94*J94,2) -> 0 | L94: 21 | M94: =G94*(1+L94/100) -> 0 | N94: 1.0664 | O94: =ROUND(E94*N94,2) -> 1.07 | P94: 0 | Q94: =ROUND(E94*P94,2) -> 0 | R94: 822-1 | S94: RTS 24/ II | T94: Indiv | U94: 6.932 | V94: =ROUND(E94*U94,2) -> 6.93 | X94: Práce | Y94: Běžná | AG94: POL1_
C95: Včetně: | AG95: POP
C96: - výkopu jámy pro sloupek nebo osazení nosné konstrukce do zdiva, | AG96: POP
C97: - osazení sloupku a obetonování patky nebo zazdění nosné konstrukce do zdiva, | AG97: POP
C98: - osazení a montáž zrcadlové části a zrcadla | AG98: POP
C99: - odhozu zbylého výkopku na vzdálenost do 3 m. | AG99: POP
C100: zpětná montáž zrcadla po dokončení prací : 1,00 | E100: 1 | AG100: VV | AH100: 0
AG101: SPU
A102: Díl: | B102: 96 | C102: Bourání konstrukcí | G102: =SUMIF(AG103:AG106,"<>NOR",G103:G106) -> 0 | I102: =SUM(I103:I106) -> 0 | K102: =SUM(K103:K106) -> 0 | M102: =SUM(M103:M106) -> 0 | O102: =SUM(O103:O106) -> 0 | Q102: =SUM(Q103:Q106) -> 0.19 | V102: =SUM(V103:V106) -> 3.24 | AG102: DIL
...
