Workbook
Name CelkemDPHVypocet: Stavba!$H$47
Name CenaCelkem: Stavba!$G$29
Name CenaCelkemBezDPH: Stavba!$G$28
Name CenaCelkemVypocet: Stavba!$I$47
Name cisloobjektu: Stavba!$D$3
Name CisloRozpoctu: '[1]Krycí list'!$C$2
Name CisloStavby: Stavba!$D$2
Name cislostavby: '[1]Krycí list'!$A$7
Name CisloStavebnihoRozpoctu: Stavba!$D$4
Name dadresa: Stavba!$D$12:$G$12
Name DIČ: Stavba!$I$12
Name dmisto: Stavba!$E$13:$G$13
Name DPHSni: Stavba!$G$24
Name DPHZakl: Stavba!$G$26
Name dpsc: Stavba!$D$13
Name IČO: Stavba!$I$11
Name Mena: Stavba!$J$29
Name MistoStavby: Stavba!$D$4
Name nazevobjektu: Stavba!$E$3
Name NazevRozpoctu: '[1]Krycí list'!$D$2
Name NazevStavby: Stavba!$E$2
Name nazevstavby: '[1]Krycí list'!$C$7
Name NazevStavebnihoRozpoctu: Stavba!$E$4
Name oadresa: Stavba!$D$6
Name Objednatel: Stavba!$D$5
Name Objekt: Stavba!$B$38
Name odic: Stavba!$I$6
Name oico: Stavba!$I$5
Name omisto: Stavba!$E$7
Name onazev: Stavba!$D$6
Name opsc: Stavba!$D$7
Name padresa: Stavba!$D$9
Name pdic: Stavba!$I$9
Name pico: Stavba!$I$8
Name pmisto: Stavba!$E$10
Name PocetMJ: #REF!
Name PoptavkaID: Stavba!$A$1
Name pPSC: Stavba!$D$10
Name Projektant: Stavba!$D$8
Name SazbaDPH1: Stavba!$E$23
Name SazbaDPH1: '[1]Krycí list'!$C$30
Name SazbaDPH2: Stavba!$E$25
Name SazbaDPH2: '[1]Krycí list'!$C$32
Name SloupecCC: #REF!
Name SloupecCisloPol: #REF!
Name SloupecJC: #REF!
Name SloupecMJ: #REF!
Name SloupecMnozstvi: #REF!
Name SloupecNazPol: #REF!
Name SloupecPC: #REF!
Name Vypracoval: Stavba!$D$14
Name ZakladDPHSni: Stavba!$G$23
Name ZakladDPHSniVypocet: Stavba!$F$47
Name ZakladDPHZakl: Stavba!$G$25
Name ZakladDPHZaklVypocet: Stavba!$G$47
Name ZaObjednatele: Stavba!$G$34
Name Zaokrouhleni: Stavba!$G$27
Name ZaZhotovitele: Stavba!$D$34
Name Zhotovitel: Stavba!$D$11:$G$11

Sheet Pokyny pro vyplnění
A1: Pokyny pro vyplnění
A2: Ve všech listech tohoto souboru můžete měnit pouze buňky s modrým pozadím. Jedná se o tyto údaje : - údaje o firmě - jednotkové ceny položek zadané na maximálně dvě desetinná místa

Sheet Stavba
A1: #RTSROZP# | B1: Soupis stavebních prací, dodávek a služeb
B2: Stavba: | D2: 24016 | E2: Zpomalovací polštář na místní komunikaci v ul. Čtvrtě, Holasice
B5: Zadavatel | D5: Obec Holasice | H5: IČO: | I5: 00488143
D6: Václavská 29 | H6: DIČ: | I6: CZ00488143
D7: 66461 | E7: Holasice
B8: Projektant: | D8: FRAZPET s.r.o. | H8: IČO: | I8: 08826854
D9: Úvoz 493/29 | H9: DIČ:
D10: 60200 | E10: Brno-Staré Brno
B11: Zhotovitel: | H11: IČO:
H12: DIČ:
B14: Vypracoval: | D14: Petr Zelinka
B15: Rozpis ceny | E15: Dodávka | G15: Montáž | I15: Celkem
A16: HSV | B16: HSV | E16: =SUMIF(F69:F78,A16,G69:G78)+SUMIF(F69:F78,"PSU",G69:G78) -> 0 | G16: =SUMIF(F69:F78,A16,H69:H78)+SUMIF(F69:F78,"PSU",H69:H78) -> 0 | I16: =SUMIF(F69:F78,A16,I69:I78)+SUMIF(F69:F78,"PSU",I69:I78) -> 0
A17: PSV | B17: PSV | E17: =SUMIF(F69:F78,A17,G69:G78) -> 0 | G17: =SUMIF(F69:F78,A17,H69:H78) -> 0 | I17: =SUMIF(F69:F78,A17,I69:I78) -> 0
A18: MON | B18: MON | E18: =SUMIF(F69:F78,A18,G69:G78) -> 0 | G18: =SUMIF(F69:F78,A18,H69:H78) -> 0 | I18: =SUMIF(F69:F78,A18,I69:I78) -> 0
A19: VN | B19: Vedlejší náklady | E19: =SUMIF(F69:F78,A19,G69:G78) -> 0 | G19: =SUMIF(F69:F78,A19,H69:H78) -> 0 | I19: =SUMIF(F69:F78,A19,I69:I78) -> 0
A20: ON | B20: Ostatní náklady | E20: =SUMIF(F69:F78,A20,G69:G78) -> 0 | G20: =SUMIF(F69:F78,A20,H69:H78) -> 0 | I20: =SUMIF(F69:F78,A20,I69:I78) -> 0
B21: Celkem | E21: =SUM(E16:F20) -> 0 | G21: =SUM(G16:H20) -> 0 | I21: =SUM(I16:J20) -> 0
B22: Rekapitulace daní
A23: =ZakladDPHSni*SazbaDPH1/100 -> 0 | B23: Základ pro sníženou DPH | E23: 12 | F23: % | G23: =ZakladDPHSniVypocet -> 0 | J23: =Mena -> CZK
A24: =(A23-INT(A23))*100 -> 0 | B24: Snížená DPH | E24: =SazbaDPH1 -> 12 | F24: % | G24: =A23 -> 0 | J24: =Mena -> CZK
A25: =ZakladDPHZakl*SazbaDPH2/100 -> 0 | B25: Základ pro základní DPH | E25: 21 | F25: % | G25: =ZakladDPHZaklVypocet -> 0 | J25: =Mena -> CZK
A26: =(A25-INT(A25))*100 -> 0 | B26: Základní DPH | E26: =SazbaDPH2 -> 21 | F26: % | G26: =A25 -> 0 | J26: =Mena -> CZK
A27: =ZakladDPHSni+DPHSni+ZakladDPHZakl+DPHZakl -> 0 | B27: Zaokrouhlení | G27: =CenaCelkem-(ZakladDPHSni+DPHSni+ZakladDPHZakl+DPHZakl) -> 0 | J27: =Mena -> CZK
B28: Cena celkem bez DPH | G28: =ZakladDPHSniVypocet+ZakladDPHZaklVypocet -> 0 | J28: =Mena -> CZK
A29: =(A27-INT(A27))*100 -> 0 | B29: Cena celkem s DPH | G29: =A27 -> 0 | J29: CZK
C32: v | F32: dne
D35: Za zhotovitele | H35: Za objednatele
B37: Rekapitulace dílčích částí
A38: #CASTI>> | B38: Číslo | C38: Název | F38: =B23 -> Základ pro sníženou DPH | G38: =B25 -> Základ pro základní DPH | H38: DPH celkem | I38: Cena celkem | J38: %
A39: 1 | B39: Stavba | F39: ='VN, ON ON01 Naklady'!AE58+'SO01 SO0101 Pol'!AE68+'SO01 SO0102 Pol'!AE100+'SO01 SO0103 Pol'!AE128 -> 0 | G39: ='VN, ON ON01 Naklady'!AF58+'SO01 SO0101 Pol'!AF68+'SO01 SO0102 Pol'!AF100+'SO01 SO0103 Pol'!AF128 -> 0 | H39: =(F39*SazbaDPH1/100)+(G39*SazbaDPH2/100) -> 0 | I39: =F39+G39+H39 -> 0 | J39: =IF(CenaCelkemVypocet=0,"",I39/CenaCelkemVypocet*100)
A40: 2 | C40: Ostatní a vedlejší náklady | F40: ='VN, ON ON01 Naklady'!AE58 -> 0 | G40: ='VN, ON ON01 Naklady'!AF58 -> 0 | H40: =(F40*SazbaDPH1/100)+(G40*SazbaDPH2/100) -> 0 | I40: =F40+G40+H40 -> 0 | J40: =IF(CenaCelkemVypocet=0,"",I40/CenaCelkemVypocet*100)
A41: 3 | B41: ON01 | C41: Vedlejší a ostatní náklady | F41: ='VN, ON ON01 Naklady'!AE58 -> 0 | G41: ='VN, ON ON01 Naklady'!AF58 -> 0 | H41: =(F41*SazbaDPH1/100)+(G41*SazbaDPH2/100) -> 0 | I41: =F41+G41+H41 -> 0 | J41: =IF(CenaCelkemVypocet=0,"",I41/CenaCelkemVypocet*100)
A42: 2 | C42: Stavební objekt | H42: =(F42*SazbaDPH1/100)+(G42*SazbaDPH2/100) -> 0
A43: 2 | B43: SO01 | C43: Zpomalovací polštář vč. doplnění obruby | F43: ='SO01 SO0101 Pol'!AE68+'SO01 SO0102 Pol'!AE100+'SO01 SO0103 Pol'!AE128 -> 0 | G43: ='SO01 SO0101 Pol'!AF68+'SO01 SO0102 Pol'!AF100+'SO01 SO0103 Pol'!AF128 -> 0 | H43: =(F43*SazbaDPH1/100)+(G43*SazbaDPH2/100) -> 0 | I43: =F43+G43+H43 -> 0 | J43: =IF(CenaCelkemVypocet=0,"",I43/CenaCelkemVypocet*100)
A44: 3 | B44: SO0101 | C44: Bourací práce | F44: ='SO01 SO0101 Pol'!AE68 -> 0 | G44: ='SO01 SO0101 Pol'!AF68 -> 0 | H44: =(F44*SazbaDPH1/100)+(G44*SazbaDPH2/100) -> 0 | I44: =F44+G44+H44 -> 0 | J44: =IF(CenaCelkemVypocet=0,"",I44/CenaCelkemVypocet*100)
A45: 3 | B45: SO0102 | C45: Nový stav | F45: ='SO01 SO0102 Pol'!AE100 -> 0 | G45: ='SO01 SO0102 Pol'!AF100 -> 0 | H45: =(F45*SazbaDPH1/100)+(G45*SazbaDPH2/100) -> 0 | I45: =F45+G45+H45 -> 0 | J45: =IF(CenaCelkemVypocet=0,"",I45/CenaCelkemVypocet*100)
A46: 3 | B46: SO0103 | C46: Dočasná panelová komunikace_objízdná trasa | F46: ='SO01 SO0103 Pol'!AE128 -> 0 | G46: ='SO01 SO0103 Pol'!AF128 -> 0 | H46: =(F46*SazbaDPH1/100)+(G46*SazbaDPH2/100) -> 0 | I46: =F46+G46+H46 -> 0 | J46: =IF(CenaCelkemVypocet=0,"",I46/CenaCelkemVypocet*100)
B47: Celkem za stavbu | F47: =SUMIF(A39:A46,"=1",F39:F46) -> 0 | G47: =SUMIF(A39:A46,"=1",G39:G46) -> 0 | H47: =SUMIF(A39:A46,"=1",H39:H46) -> 0 | I47: =SUMIF(A39:A46,"=1",I39:I46) -> 0 | J47: =SUMIF(A39:A46,"=1",J39:J46) -> 0
A49: #POPS | B49: Popis stavby: 24016 - Zpomalovací polštář na místní komunikaci v ul. Čtvrtě, Holasice
...

Sheet VzorPolozky
A1: Položkový rozpočet
A2: S:
A3: O:
A4: R:

Sheet VN, ON ON01 Naklady
A1: Soupis vedlejších a ostatních nákladů | AG1: #TypZaznamu#
A2: S: | B2: 24016 | C2: Zpomalovací polštář na místní komunikaci v ul. Čtvrtě, Holasice | AG2: STA
A3: O: | B3: VN, ON | C3: Vedlejší a ostatní náklady | AC3: NAK | AG3: OBJ
A4: R: | B4: ON01 | C4: Vedlejší a ostatní náklady | AG4: ROZ
A6: P.č. | B6: Číslo položky | C6: Název položky | D6: MJ | E6: Množství | F6: Cena / MJ | G6: Celkem | H6: Dodávka | I6: Dodávka celk. | J6: Montáž | K6: Montáž celk. | L6: DPH | M6: Cena s DPH | N6: Hmotnost / MJ | O6: Hmotnost celk.(t) | P6: Dem. hmotnost / MJ | Q6: Dem. hmotnost celk.(t) | R6: Ceník | S6: Cen. soustava / platnost | T6: Cenová úroveň | U6: Nhod / MJ | V6: Nhod celk. | W6: Dodavatel | X6: Typ položky | Y6: Stav položky
A8: Díl: | B8: VN | C8: Vedlejší náklady | G8: =SUMIF(AG9:AG27,"<>NOR",G9:G27) -> 0 | I8: =SUM(I9:I27) -> 0 | K8: =SUM(K9:K27) -> 0 | M8: =SUM(M9:M27) -> 0 | O8: =SUM(O9:O27) -> 0 | Q8: =SUM(Q9:Q27) -> 0 | V8: =SUM(V9:V27) -> 0 | AG8: DIL
A9: 1 | B9: 005111021R | C9: Vytyčení inženýrských sítí | D9: Soubor | E9: 5 | F9: =H9+J9 -> 0 | G9: =ROUND(E9*F9,2) -> 0 | I9: =ROUND(E9*H9,2) -> 0 | K9: =ROUND(E9*J9,2) -> 0 | L9: 21 | M9: =G9*(1+L9/100) -> 0 | N9: 0 | O9: =ROUND(E9*N9,2) -> 0 | P9: 0 | Q9: =ROUND(E9*P9,2) -> 0 | S9: RTS 24/ II | T9: Indiv | U9: 0 | V9: =ROUND(E9*U9,2) -> 0 | X9: VRN | Y9: Běžná | AG9: POL99_8
C10: Zaměření a vytýčení stávajících inženýrských sítí v místě stavby z hlediska jejich ochrany při provádění stavby. | AG10: POP | BA10: =C10 -> Zaměření a vytýčení stávajících inženýrských sítí v místě stavby z hlediska jejich ochrany při provádění stavby.
C11: v celém řešeném území : | AG11: VV | AH11: 0
C12: EGD : 1 | E12: 1 | AG12: VV | AH12: 0
C13: CETIN : 1 | E13: 1 | AG13: VV | AH13: 0
C14: VAS a.s. : 1 | E14: 1 | AG14: VV | AH14: 0
C15: GASNET : 1 | E15: 1 | AG15: VV | AH15: 0
C16: VO : 1 | E16: 1 | AG16: VV | AH16: 0
AG17: SPU
A18: 2 | B18: 005121010R | C18: Vybudování zařízení staveniště | D18: Soubor | E18: 1 | F18: =H18+J18 -> 0 | G18: =ROUND(E18*F18,2) -> 0 | I18: =ROUND(E18*H18,2) -> 0 | K18: =ROUND(E18*J18,2) -> 0 | L18: 21 | M18: =G18*(1+L18/100) -> 0 | N18: 0 | O18: =ROUND(E18*N18,2) -> 0 | P18: 0 | Q18: =ROUND(E18*P18,2) -> 0 | S18: RTS 24/ II | T18: Indiv | U18: 0 | V18: =ROUND(E18*U18,2) -> 0 | X18: VRN | Y18: Běžná | AG18: POL99_8
C19: Náklady spojené se zřízením přípojek energií k objektům zařízení staveniště, vybudování případných měřících odběrných míst a zřízení, případná příprava území pro objekty zařízení staveniště a vlastní vybudování objektů zařízení staveniště. | AG19: POP | BA19: =C19 -> Náklady spojené se zřízením přípojek energií k objektům zařízení staveniště, vybudování případných měřících odběrných míst a zřízení, případná příprava území pro objekty zařízení staveniště a vlastní vybudování objektů zařízení staveniště.
AG20: SPU
A21: 3 | B21: 005121020R | C21: Provoz zařízení staveniště | D21: soubor | E21: 1 | F21: =H21+J21 -> 0 | G21: =ROUND(E21*F21,2) -> 0 | I21: =ROUND(E21*H21,2) -> 0 | K21: =ROUND(E21*J21,2) -> 0 | L21: 21 | M21: =G21*(1+L21/100) -> 0 | N21: 0 | O21: =ROUND(E21*N21,2) -> 0 | P21: 0 | Q21: =ROUND(E21*P21,2) -> 0 | S21: RTS 24/ II | T21: Indiv | U21: 0 | V21: =ROUND(E21*U21,2) -> 0 | X21: VRN | Y21: Běžná | AG21: POL99_8
C22: Náklady na vybavení objektů zařízení staveniště, ostraha staveniště, náklady na energie spotřebované dodavatelem v rámci provozu zařízení staveniště, náklady na potřebný úklid v prostorách zařízení staveniště, náklady na nutnou údržbu a opravy na objektech zařízení staveniště a na přípojkách energií. | AG22: POP | BA22: =C22 -> Náklady na vybavení objektů zařízení staveniště, ostraha staveniště, náklady na energie spotřebované dodavatelem v rámci provozu zařízení staveniště, náklady na potřebný úklid v prostorách zařízení staveniště, náklady na nutnou údržbu a opravy na objektech zařízení staveniště a na přípojkách energií.
C23: po celou dobu výstavby : 1 | E23: 1 | AG23: VV | AH23: 0
AG24: SPU
A25: 4 | B25: 005121030R | C25: Odstranění zařízení staveniště | D25: Soubor | E25: 1 | F25: =H25+J25 -> 0 | G25: =ROUND(E25*F25,2) -> 0 | I25: =ROUND(E25*H25,2) -> 0 | K25: =ROUND(E25*J25,2) -> 0 | L25: 21 | M25: =G25*(1+L25/100) -> 0 | N25: 0 | O25: =ROUND(E25*N25,2) -> 0 | P25: 0 | Q25: =ROUND(E25*P25,2) -> 0 | S25: RTS 24/ II | T25: Indiv | U25: 0 | V25: =ROUND(E25*U25,2) -> 0 | X25: VRN | Y25: Běžná | AG25: POL99_8
C26: Odstranění objektů zařízení staveniště včetně přípojek energií a jejich odvoz. Položka zahrnuje i náklady na úpravu povrchů po odstranění zařízení staveniště a úklid ploch, na kterých bylo zařízení staveniště provozováno. | AG26: POP | BA26: =C26 -> Odstranění objektů zařízení staveniště včetně přípojek energií a jejich odvoz. Položka zahrnuje i náklady na úpravu povrchů po odstranění zařízení staveniště a úklid ploch, na kterých bylo zařízení staveniště provozováno.
AG27: SPU
A28: Díl: | B28: ON | C28: Ostatní náklady | G28: =SUMIF(AG29:AG56,"<>NOR",G29:G56) -> 0 | I28: =SUM(I29:I56) -> 0 | K28: =SUM(K29:K56) -> 0 | M28: =SUM(M29:M56) -> 0 | O28: =SUM(O29:O56) -> 0 | Q28: =SUM(Q29:Q56) -> 0 | V28: =SUM(V29:V56) -> 0 | AG28: DIL
A29: 5 | B29: 00511 R | C29: Geodetické práce | D29: Soubor | E29: 1 | F29: =H29+J29 -> 0 | G29: =ROUND(E29*F29,2) -> 0 | I29: =ROUND(E29*H29,2) -> 0 | K29: =ROUND(E29*J29,2) -> 0 | L29: 21 | M29: =G29*(1+L29/100) -> 0 | N29: 0 | O29: =ROUND(E29*N29,2) -> 0 | P29: 0 | Q29: =ROUND(E29*P29,2) -> 0 | S29: RTS 24/ II | T29: Indiv | U29: 0 | V29: =ROUND(E29*U29,2) -> 0 | X29: VRN | Y29: Běžná | AG29: POL99_8
C30: vytýčení stavby v terénu, zejména sloupy aj : 1 | E30: 1 | AG30: VV | AH30: 0
AG31: SPU
A32: 6 | B32: 005211010R | C32: Předání a převzetí staveniště | D32: Soubor | E32: 1 | F32: =H32+J32 -> 0 | G32: =ROUND(E32*F32,2) -> 0 | I32: =ROUND(E32*H32,2) -> 0 | K32: =ROUND(E32*J32,2) -> 0 | L32: 21 | M32: =G32*(1+L32/100) -> 0 | N32: 0 | O32: =ROUND(E32*N32,2) -> 0 | P32: 0 | Q32: =ROUND(E32*P32,2) -> 0 | S32: RTS 24/ II | T32: Indiv | U32: 0 | V32: =ROUND(E32*U32,2) -> 0 | X32: VRN | Y32: Běžná | AG32: POL99_8
C33: Náklady spojené s účastí zhotovitele na předání a převzetí staveniště. | AG33: POP
AG34: SPU
A35: 7 | B35: 005211020R | C35: Ochrana stávaj. inženýrských sítí na staveništi | D35: Soubor | E35: 1 | F35: =H35+J35 -> 0 | G35: =ROUND(E35*F35,2) -> 0 | I35: =ROUND(E35*H35,2) -> 0 | K35: =ROUND(E35*J35,2) -> 0 | L35: 21 | M35: =G35*(1+L35/100) -> 0 | N35: 0 | O35: =ROUND(E35*N35,2) -> 0 | P35: 0 | Q35: =ROUND(E35*P35,2) -> 0 | S35: RTS 24/ II | T35: Indiv | U35: 0 | V35: =ROUND(E35*U35,2) -> 0 | X35: VRN | Y35: Běžná | AG35: POL99_8
C36: Náklady na přezkoumání podkladů objednatele o stavu inženýrských sítí probíhajících staveništěm nebo dotčenými stavbou i mimo území staveniště, kontrola vytýčení jejich skutečné trasy a provedení ochranných opatření pro zabezpečení stávajících inženýrských sítí. | AG36: POP | BA36: =C36 -> Náklady na přezkoumání podkladů objednatele o stavu inženýrských sítí probíhajících staveništěm nebo dotčenými stavbou i mimo území staveniště, kontrola vytýčení jejich skutečné trasy a provedení ochranných opatření pro zabezpečení stávajících inženýrských sítí.
AG37: SPU
A38: 8 | B38: 005211030R | C38: Dočasná dopravní opatření | D38: Soubor | E38: 1 | F38: =H38+J38 -> 0 | G38: =ROUND(E38*F38,2) -> 0 | I38: =ROUND(E38*H38,2) -> 0 | K38: =ROUND(E38*J38,2) -> 0 | L38: 21 | M38: =G38*(1+L38/100) -> 0 | N38: 0 | O38: =ROUND(E38*N38,2) -> 0 | P38: 0 | Q38: =ROUND(E38*P38,2) -> 0 | S38: RTS 24/ II | T38: Indiv | U38: 0 | V38: =ROUND(E38*U38,2) -> 0 | X38: VRN | Y38: Běžná | AG38: POL99_8
C39: Náklady na vyhotovení návrhu dočasného dopravního značení, jeho projednání s dotčenými orgány a organizacemi, dodání dopravních značek a světelné signalizace, jejich rozmístění a přemísťování a jejich údržba v průběhu výstavby včetně následného odstranění po ukončení stavebních prací. | AG39: POP | BA39: =C39 -> Náklady na vyhotovení návrhu dočasného dopravního značení, jeho projednání s dotčenými orgány a organizacemi, dodání dopravních značek a světelné signalizace, jejich rozmístění a přemísťování a jejich údržba v průběhu výstavby včetně následného odstranění po ukončení stavebních prací.
C40: přechodná úprava provozu, návrh, odsouhlasení PČR, ZUK, osazení dopravního značení aj : 1,00 | E40: 1 | AG40: VV | AH40: 0
AG41: SPU
A42: 9 | B42: 005211080R | C42: Bezpečnostní a hygienická opatření na staveništi | D42: soubor | E42: 1 | F42: =H42+J42 -> 0 | G42: =ROUND(E42*F42,2) -> 0 | I42: =ROUND(E42*H42,2) -> 0 | K42: =ROUND(E42*J42,2) -> 0 | L42: 21 | M42: =G42*(1+L42/100) -> 0 | N42: 0 | O42: =ROUND(E42*N42,2) -> 0 | P42: 0 | Q42: =ROUND(E42*P42,2) -> 0 | S42: RTS 24/ II | T42: Indiv | U42: 0 | V42: =ROUND(E42*U42,2) -> 0 | X42: VRN | Y42: Běžná | AG42: POL99_8
...

Sheet SO01 SO0101 Pol
A1: Položkový soupis prací a dodávek | AG1: #TypZaznamu#
A2: S: | B2: 24016 | C2: Zpomalovací polštář na místní komunikaci v ul. Čtvrtě, Holasice | AG2: STA
A3: O: | B3: SO01 | C3: Zpomalovací polštář vč. doplnění obruby | AC3: STA | AG3: OBJ
A4: R: | B4: SO0101 | C4: Bourací práce | AG4: ROZ
A6: P.č. | B6: Číslo položky | C6: Název položky | D6: MJ | E6: Množství | F6: Cena / MJ | G6: Celkem | H6: Dodávka | I6: Dodávka celk. | J6: Montáž | K6: Montáž celk. | L6: DPH | M6: Cena s DPH | N6: Hmotnost / MJ | O6: Hmotnost celk.(t) | P6: Dem. hmotnost / MJ | Q6: Dem. hmotnost celk.(t) | R6: Ceník | S6: Cen. soustava / platnost | T6: Cenová úroveň | U6: Nhod / MJ | V6: Nhod celk. | W6: Dodavatel | X6: Typ položky | Y6: Stav položky
A8: Díl: | B8: 1 | C8: Zemní práce | G8: =SUMIF(AG9:AG40,"<>NOR",G9:G40) -> 0 | I8: =SUM(I9:I40) -> 0 | K8: =SUM(K9:K40) -> 0 | M8: =SUM(M9:M40) -> 0 | O8: =SUM(O9:O40) -> 0 | Q8: =SUM(Q9:Q40) -> 20.61 | V8: =SUM(V9:V40) -> 42.84 | AG8: DIL
A9: 1 | B9: 113108310R00 | C9: Odstranění podkladů nebo krytů živičných, v ploše jednotlivě do 50 m2, tloušťka vrstvy 100 mm | D9: m2 | E9: 28.2 | F9: =H9+J9 -> 0 | G9: =ROUND(E9*F9,2) -> 0 | I9: =ROUND(E9*H9,2) -> 0 | K9: =ROUND(E9*J9,2) -> 0 | L9: 21 | M9: =G9*(1+L9/100) -> 0 | N9: 0 | O9: =ROUND(E9*N9,2) -> 0 | P9: 0.22 | Q9: =ROUND(E9*P9,2) -> 6.2 | R9: 822-1 | S9: RTS 24/ II | T9: RTS 24/ I | U9: 0.38 | V9: =ROUND(E9*U9,2) -> 10.72 | X9: Práce | Y9: Běžná | AG9: POL1_
C10: řezání živice pro zpomalovací polštář : 6,00*4,50 | E10: 27 | AG10: VV | AH10: 0
C11: řezání živice pro osazení silníční obruby : 12,00*0,10 | E11: 1.2 | AG11: VV | AH11: 0
AG12: SPU
A13: 2 | B13: 113111120R00 | C13: Odstranění podkladů nebo krytů z kameniva zpevněného cementem, v ploše jednotlivě do 50 m2, tloušťka vrstvy 200 mm | D13: m2 | E13: 28.2 | F13: =H13+J13 -> 0 | G13: =ROUND(E13*F13,2) -> 0 | I13: =ROUND(E13*H13,2) -> 0 | K13: =ROUND(E13*J13,2) -> 0 | L13: 21 | M13: =G13*(1+L13/100) -> 0 | N13: 0 | O13: =ROUND(E13*N13,2) -> 0 | P13: 0.51086 | Q13: =ROUND(E13*P13,2) -> 14.41 | R13: 822-1 | S13: RTS 24/ II | T13: RTS 24/ I | U13: 0.64 | V13: =ROUND(E13*U13,2) -> 18.05 | X13: Práce | Y13: Běžná | AG13: POL1_
C14: Odkaz na mn. položky pořadí 1 : 28,20000 | E14: 28.2 | AG14: VV | AH14: 5
AG15: SPU
A16: 3 | B16: 139601102R00 | C16: Ruční výkop jam, rýh a šachet v hornině 3 | D16: m3 | E16: 3.15 | F16: =H16+J16 -> 0 | G16: =ROUND(E16*F16,2) -> 0 | I16: =ROUND(E16*H16,2) -> 0 | K16: =ROUND(E16*J16,2) -> 0 | L16: 21 | M16: =G16*(1+L16/100) -> 0 | N16: 0 | O16: =ROUND(E16*N16,2) -> 0 | P16: 0 | Q16: =ROUND(E16*P16,2) -> 0 | R16: 800-1 | S16: RTS 24/ II | T16: RTS 24/ I | U16: 3.53 | V16: =ROUND(E16*U16,2) -> 11.12 | X16: Práce | Y16: Běžná | AG16: POL1_
C17: s přehozením na vzdálenost do 5 m nebo s naložením na ruční dopravní prostředek | AG17: SPI
C18: výkop rýhy pro osazení silniční obruby, pás 12,00m, šíře 0,75, hloubka 0,35 m : 12,00*0,75*0,35 | E18: 3.15 | AG18: VV | AH18: 0
C19: část zeminy ponecháno pro ponechání k zásypům : | AG19: VV | AH19: 0
AG20: SPU
A21: 4 | B21: 162301102R00 | C21: Vodorovné přemístění výkopku z horniny 1 až 4, na vzdálenost přes 500 do 1 000 m | D21: m3 | E21: 1.47 | F21: =H21+J21 -> 0 | G21: =ROUND(E21*F21,2) -> 0 | I21: =ROUND(E21*H21,2) -> 0 | K21: =ROUND(E21*J21,2) -> 0 | L21: 21 | M21: =G21*(1+L21/100) -> 0 | N21: 0 | O21: =ROUND(E21*N21,2) -> 0 | P21: 0 | Q21: =ROUND(E21*P21,2) -> 0 | R21: 800-1 | S21: RTS 24/ II | T21: RTS 24/ I | U21: 0.01 | V21: =ROUND(E21*U21,2) -> 0.01 | X21: Práce | Y21: Běžná | AG21: POL1_
C22: po suchu, bez naložení výkopku, avšak se složením bez rozhrnutí, zpáteční cesta vozidla. | AG22: SPI
C23: výkop rýhy pro osazení silniční obruby, pás 12,00m, šíře 0,75, hloubka 0,35 m : 12,00*0,75*0,35 | E23: 3.15 | AG23: VV | AH23: 0
C24: část zeminy ponecháno pro ponechání k zásypům : -1*(12,00*0,40*0,35) | E24: -1.68 | AG24: VV | AH24: 0
AG25: SPU
A26: 5 | B26: 162701109R00 | C26: Vodorovné přemístění výkopku příplatek k ceně za každých dalších i započatých 1 000 m přes 10 000 m z horniny 1 až 4 | D26: m3 | E26: 17.64 | F26: =H26+J26 -> 0 | G26: =ROUND(E26*F26,2) -> 0 | I26: =ROUND(E26*H26,2) -> 0 | K26: =ROUND(E26*J26,2) -> 0 | L26: 21 | M26: =G26*(1+L26/100) -> 0 | N26: 0 | O26: =ROUND(E26*N26,2) -> 0 | P26: 0 | Q26: =ROUND(E26*P26,2) -> 0 | R26: 800-1 | S26: RTS 24/ II | T26: RTS 24/ I | U26: 0 | V26: =ROUND(E26*U26,2) -> 0 | X26: Práce | Y26: Běžná | AG26: POL1_
C27: po suchu, bez naložení výkopku, avšak se složením bez rozhrnutí, zpáteční cesta vozidla. | AG27: SPI
C28: odvoz na skládku THERMOSERVIS Chrlice celkem 13 km, dopočet 12ti km : 1,47*12 | E28: 17.64 | AG28: VV | AH28: 0
AG29: SPU
A30: 6 | B30: 167101201R00 | C30: Nakládání, skládání, překládání neulehlého výkopku nakládání, skládání, překládání neulehléno výkopku nebo zeminy - ručně z horniny 1 až 4 | D30: m3 | E30: 1.47 | F30: =H30+J30 -> 0 | G30: =ROUND(E30*F30,2) -> 0 | I30: =ROUND(E30*H30,2) -> 0 | K30: =ROUND(E30*J30,2) -> 0 | L30: 21 | M30: =G30*(1+L30/100) -> 0 | N30: 0 | O30: =ROUND(E30*N30,2) -> 0 | P30: 0 | Q30: =ROUND(E30*P30,2) -> 0 | R30: 800-1 | S30: RTS 24/ II | T30: RTS 24/ I | U30: 1.938 | V30: =ROUND(E30*U30,2) -> 2.85 | X30: Práce | Y30: Běžná | AG30: POL1_
C31: Odkaz na mn. položky pořadí 4 : 1,47000 | E31: 1.47 | AG31: VV | AH31: 5
AG32: SPU
A33: 7 | B33: 171201101R00 | C33: Uložení sypaniny do násypů nezhutněných | D33: m3 | E33: 3.15 | F33: =H33+J33 -> 0 | G33: =ROUND(E33*F33,2) -> 0 | I33: =ROUND(E33*H33,2) -> 0 | K33: =ROUND(E33*J33,2) -> 0 | L33: 21 | M33: =G33*(1+L33/100) -> 0 | N33: 0 | O33: =ROUND(E33*N33,2) -> 0 | P33: 0 | Q33: =ROUND(E33*P33,2) -> 0 | R33: 800-1 | S33: RTS 24/ II | T33: RTS 24/ I | U33: 0.03 | V33: =ROUND(E33*U33,2) -> 0.09 | X33: Práce | Y33: Běžná | AG33: POL1_
C34: Uložení sypaniny do násypů nebo na skládku s rozprostřením sypaniny ve vrstvách a s hrubým urovnáním. | AG34: POP | BA34: =C34 -> Uložení sypaniny do násypů nebo na skládku s rozprostřením sypaniny ve vrstvách a s hrubým urovnáním.
C35: Odkaz na mn. položky pořadí 3 : 3,15000 | E35: 3.15 | AG35: VV | AH35: 5
AG36: SPU
A37: 8 | B37: 199000002R00 | C37: Poplatky za skládku horniny 1- 4, skupina 17 05 04 z Katalogu odpadů | D37: m3 | E37: 1.47 | F37: =H37+J37 -> 0 | G37: =ROUND(E37*F37,2) -> 0 | I37: =ROUND(E37*H37,2) -> 0 | K37: =ROUND(E37*J37,2) -> 0 | L37: 21 | M37: =G37*(1+L37/100) -> 0 | N37: 0 | O37: =ROUND(E37*N37,2) -> 0 | P37: 0 | Q37: =ROUND(E37*P37,2) -> 0 | R37: 800-1 | S37: RTS 24/ II | T37: RTS 24/ I | U37: 0 | V37: =ROUND(E37*U37,2) -> 0 | X37: Práce | Y37: Běžná | AG37: POL1_
C38: Cena dle Pískovny Černovice. www.piskovna-cernovice.cz | AG38: POP
C39: Odkaz na mn. položky pořadí 4 : 1,47000 | E39: 1.47 | AG39: VV | AH39: 5
AG40: SPU
A41: Díl: | B41: 91 | C41: Doplňující práce na komunikaci | G41: =SUMIF(AG42:AG46,"<>NOR",G42:G46) -> 0 | I41: =SUM(I42:I46) -> 0 | K41: =SUM(K42:K46) -> 0 | M41: =SUM(M42:M46) -> 0 | O41: =SUM(O42:O46) -> 0 | Q41: =SUM(Q42:Q46) -> 0 | V41: =SUM(V42:V46) -> 1.98 | AG41: DIL
A42: 9 | B42: 919735113R00 | C42: Řezání stávajících krytů nebo podkladů živičných, hloubky přes 100 do 150 mm | D42: m | E42: 33 | F42: =H42+J42 -> 0 | G42: =ROUND(E42*F42,2) -> 0 | I42: =ROUND(E42*H42,2) -> 0 | K42: =ROUND(E42*J42,2) -> 0 | L42: 21 | M42: =G42*(1+L42/100) -> 0 | N42: 0 | O42: =ROUND(E42*N42,2) -> 0 | P42: 0 | Q42: =ROUND(E42*P42,2) -> 0 | R42: 822-1 | S42: RTS 24/ II | T42: RTS 24/ I | U42: 0.06 | V42: =ROUND(E42*U42,2) -> 1.98 | X42: Práce | Y42: Běžná | AG42: POL1_
...

Sheet SO01 SO0102 Pol
A1: Položkový soupis prací a dodávek | AG1: #TypZaznamu#
A2: S: | B2: 24016 | C2: Zpomalovací polštář na místní komunikaci v ul. Čtvrtě, Holasice | AG2: STA
A3: O: | B3: SO01 | C3: Zpomalovací polštář vč. doplnění obruby | AC3: STA | AG3: OBJ
A4: R: | B4: SO0102 | C4: Nový stav | AG4: ROZ
A6: P.č. | B6: Číslo položky | C6: Název položky | D6: MJ | E6: Množství | F6: Cena / MJ | G6: Celkem | H6: Dodávka | I6: Dodávka celk. | J6: Montáž | K6: Montáž celk. | L6: DPH | M6: Cena s DPH | N6: Hmotnost / MJ | O6: Hmotnost celk.(t) | P6: Dem. hmotnost / MJ | Q6: Dem. hmotnost celk.(t) | R6: Ceník | S6: Cen. soustava / platnost | T6: Cenová úroveň | U6: Nhod / MJ | V6: Nhod celk. | W6: Dodavatel | X6: Typ položky | Y6: Stav položky
A8: Díl: | B8: 1 | C8: Zemní práce | G8: =SUMIF(AG9:AG21,"<>NOR",G9:G21) -> 0 | I8: =SUM(I9:I21) -> 0 | K8: =SUM(K9:K21) -> 0 | M8: =SUM(M9:M21) -> 0 | O8: =SUM(O9:O21) -> 0 | Q8: =SUM(Q9:Q21) -> 0 | V8: =SUM(V9:V21) -> 1.14 | AG8: DIL
A9: 1 | B9: 174101101R00 | C9: Zásyp sypaninou se zhutněním jam, šachet, rýh nebo kolem objektů v těchto vykopávkách | D9: m3 | E9: 1.68 | F9: =H9+J9 -> 0 | G9: =ROUND(E9*F9,2) -> 0 | I9: =ROUND(E9*H9,2) -> 0 | K9: =ROUND(E9*J9,2) -> 0 | L9: 21 | M9: =G9*(1+L9/100) -> 0 | N9: 0 | O9: =ROUND(E9*N9,2) -> 0 | P9: 0 | Q9: =ROUND(E9*P9,2) -> 0 | R9: 800-1 | S9: RTS 24/ II | T9: RTS 24/ I | U9: 0.2 | V9: =ROUND(E9*U9,2) -> 0.34 | X9: Práce | Y9: Běžná | AG9: POL1_
C10: z jakékoliv horniny s uložením výkopku po vrstvách, | AG10: SPI
C11: včetně strojního přemístění materiálu pro zásyp ze vzdálenosti do 10 m od okraje zásypu | AG11: POP
C12: zpětné zásypy podél obrub : 12,00*0,40*0,35 | E12: 1.68 | AG12: VV | AH12: 0
AG13: SPU
A14: 2 | B14: 181101102R00 | C14: Úprava pláně v zářezech v hornině 1 až 4, se zhutněním | D14: m2 | E14: 9 | F14: =H14+J14 -> 0 | G14: =ROUND(E14*F14,2) -> 0 | I14: =ROUND(E14*H14,2) -> 0 | K14: =ROUND(E14*J14,2) -> 0 | L14: 21 | M14: =G14*(1+L14/100) -> 0 | N14: 0 | O14: =ROUND(E14*N14,2) -> 0 | P14: 0 | Q14: =ROUND(E14*P14,2) -> 0 | R14: 800-1 | S14: RTS 24/ II | T14: RTS 24/ I | U14: 0.02 | V14: =ROUND(E14*U14,2) -> 0.18 | X14: Práce | Y14: Běžná | AG14: POL1_
C15: vyrovnáním výškových rozdílů, ploch vodorovných a ploch do sklonu 1 : 5. | AG15: SPI
C16: dno výkopu : 0,75*12,00 | E16: 9 | AG16: VV | AH16: 0
AG17: SPU
A18: 3 | B18: 182101101R00 | C18: Svahování v zářezech v hornině 1 až 4 | D18: m2 | E18: 4.8 | F18: =H18+J18 -> 0 | G18: =ROUND(E18*F18,2) -> 0 | I18: =ROUND(E18*H18,2) -> 0 | K18: =ROUND(E18*J18,2) -> 0 | L18: 21 | M18: =G18*(1+L18/100) -> 0 | N18: 0 | O18: =ROUND(E18*N18,2) -> 0 | P18: 0 | Q18: =ROUND(E18*P18,2) -> 0 | R18: 800-1 | S18: RTS 24/ II | T18: RTS 24/ I | U18: 0.13 | V18: =ROUND(E18*U18,2) -> 0.62 | X18: Práce | Y18: Běžná | AG18: POL1_
C19: trvalých svahů do projektovaných profilů s potřebným přemístěním výkopku při svahování v zářezech, | AG19: SPI
C20: svah jámy pro osazení obruby : 12,00*0,40 | E20: 4.8 | AG20: VV | AH20: 0
AG21: SPU
A22: Díl: | B22: 18 | C22: Povrchové úpravy terénu | G22: =SUMIF(AG23:AG43,"<>NOR",G23:G43) -> 0 | I22: =SUM(I23:I43) -> 0 | K22: =SUM(K23:K43) -> 0 | M22: =SUM(M23:M43) -> 0 | O22: =SUM(O23:O43) -> 0 | Q22: =SUM(Q23:Q43) -> 0 | V22: =SUM(V23:V43) -> 2.96 | AG22: DIL
A23: 4 | B23: 180402111R00 | C23: Založení trávníku parkový trávník, výsevem, v rovině nebo na svahu do 1:5 | D23: m2 | E23: 6 | F23: =H23+J23 -> 0 | G23: =ROUND(E23*F23,2) -> 0 | I23: =ROUND(E23*H23,2) -> 0 | K23: =ROUND(E23*J23,2) -> 0 | L23: 21 | M23: =G23*(1+L23/100) -> 0 | N23: 0 | O23: =ROUND(E23*N23,2) -> 0 | P23: 0 | Q23: =ROUND(E23*P23,2) -> 0 | R23: 823-1 | S23: RTS 24/ II | T23: RTS 24/ I | U23: 0.06 | V23: =ROUND(E23*U23,2) -> 0.36 | X23: Práce | Y23: Běžná | AG23: POL1_
C24: na půdě předem připravené s pokosením, naložením, odvozem odpadu do 20 km a se složením, | AG24: SPI
C25: doplňovaný pás podél nově založeného obrubníku : 12,00*0,50 | E25: 6 | AG25: VV | AH25: 0
AG26: SPU
A27: 5 | B27: 181301101R00 | C27: Rozprostření a urovnání ornice v rovině v souvislé ploše do 500 m2, tloušťka vrstvy do 100 mm | D27: m2 | E27: 6 | F27: =H27+J27 -> 0 | G27: =ROUND(E27*F27,2) -> 0 | I27: =ROUND(E27*H27,2) -> 0 | K27: =ROUND(E27*J27,2) -> 0 | L27: 21 | M27: =G27*(1+L27/100) -> 0 | N27: 0 | O27: =ROUND(E27*N27,2) -> 0 | P27: 0 | Q27: =ROUND(E27*P27,2) -> 0 | R27: 800-1 | S27: RTS 24/ II | T27: RTS 24/ I | U27: 0.13 | V27: =ROUND(E27*U27,2) -> 0.78 | X27: Práce | Y27: Běžná | AG27: POL1_
C28: s případným nutným přemístěním hromad nebo dočasných skládek na místo potřeby ze vzdálenosti do 30 m, v rovině nebo ve svahu do 1 : 5, | AG28: SPI | BA28: =C28 -> s případným nutným přemístěním hromad nebo dočasných skládek na místo potřeby ze vzdálenosti do 30 m, v rovině nebo ve svahu do 1 : 5,
C29: Odkaz na mn. položky pořadí 4 : 6,00000 | E29: 6 | AG29: VV | AH29: 5
AG30: SPU
A31: 6 | B31: 185803111R00 | C31: Ošetření trávníku v rovině nebo na svahu do 1:5 | D31: m2 | E31: 6 | F31: =H31+J31 -> 0 | G31: =ROUND(E31*F31,2) -> 0 | I31: =ROUND(E31*H31,2) -> 0 | K31: =ROUND(E31*J31,2) -> 0 | L31: 21 | M31: =G31*(1+L31/100) -> 0 | N31: 0 | O31: =ROUND(E31*N31,2) -> 0 | P31: 0 | Q31: =ROUND(E31*P31,2) -> 0 | R31: 823-1 | S31: RTS 24/ II | T31: RTS 24/ I | U31: 0.01 | V31: =ROUND(E31*U31,2) -> 0.06 | X31: Práce | Y31: Běžná | AG31: POL1_
C32: bez ohledu na způsob založení, tj. pokosení se shrabáním, naložením shrabků na dopravní prostředek s odvezením do 20 km a se složením, | AG32: SPI | BA32: =C32 -> bez ohledu na způsob založení, tj. pokosení se shrabáním, naložením shrabků na dopravní prostředek s odvezením do 20 km a se složením,
C33: Odkaz na mn. položky pořadí 4 : 6,00000 | E33: 6 | AG33: VV | AH33: 5
AG34: SPU
A35: 7 | B35: 185851111R00 | C35: Dovoz vody pro zálivku rostlin dovoz vody pro zálivku rostlin na vzdálenost do 6000 m | D35: m3 | E35: 2 | F35: =H35+J35 -> 0 | G35: =ROUND(E35*F35,2) -> 0 | I35: =ROUND(E35*H35,2) -> 0 | K35: =ROUND(E35*J35,2) -> 0 | L35: 21 | M35: =G35*(1+L35/100) -> 0 | N35: 0 | O35: =ROUND(E35*N35,2) -> 0 | P35: 0 | Q35: =ROUND(E35*P35,2) -> 0 | R35: 823-1 | S35: RTS 24/ II | T35: RTS 24/ I | U35: 0.88 | V35: =ROUND(E35*U35,2) -> 1.76 | X35: Práce | Y35: Běžná | AG35: POL1_
C36: 2,00 | E36: 2 | AG36: VV | AH36: 0
AG37: SPU
A38: 8 | B38: 100002 | C38: Chemické odplevel půdy před založ trávníku postřikem | D38: m2 | E38: 6 | F38: =H38+J38 -> 0 | G38: =ROUND(E38*F38,2) -> 0 | I38: =ROUND(E38*H38,2) -> 0 | K38: =ROUND(E38*J38,2) -> 0 | L38: 21 | M38: =G38*(1+L38/100) -> 0 | N38: 0 | O38: =ROUND(E38*N38,2) -> 0 | P38: 0 | Q38: =ROUND(E38*P38,2) -> 0 | S38: Vlastní | T38: Indiv | U38: 0 | V38: =ROUND(E38*U38,2) -> 0 | X38: Práce | Y38: Běžná | AG38: POL1_
C39: Odkaz na mn. položky pořadí 4 : 6,00000 | E39: 6 | AG39: VV | AH39: 5
AG40: SPU
A41: 9 | B41: 00572460R | C41: směs travní technická | D41: kg | E41: 0.6 | F41: =H41+J41 -> 0 | G41: =ROUND(E41*F41,2) -> 0 | I41: =ROUND(E41*H41,2) -> 0 | K41: =ROUND(E41*J41,2) -> 0 | L41: 21 | M41: =G41*(1+L41/100) -> 0 | N41: 0.001 | O41: =ROUND(E41*N41,2) -> 0 | P41: 0 | Q41: =ROUND(E41*P41,2) -> 0 | R41: SPCM | S41: RTS 24/ II | T41: RTS 24/ I | U41: 0 | V41: =ROUND(E41*U41,2) -> 0 | X41: Specifikace | Y41: Běžná | AG41: POL3_
C42: množství 0,10 kg/m2 : 0,10*6 | E42: 0.6 | AG42: VV | AH42: 0
...

Sheet SO01 SO0103 Pol
A1: Položkový soupis prací a dodávek | AG1: #TypZaznamu#
A2: S: | B2: 24016 | C2: Zpomalovací polštář na místní komunikaci v ul. Čtvrtě, Holasice | AG2: STA
A3: O: | B3: SO01 | C3: Zpomalovací polštář vč. doplnění obruby | AC3: STA | AG3: OBJ
A4: R: | B4: SO0103 | C4: Dočasná panelová komunikace_objízdná trasa | AG4: ROZ
A6: P.č. | B6: Číslo položky | C6: Název položky | D6: MJ | E6: Množství | F6: Cena / MJ | G6: Celkem | H6: Dodávka | I6: Dodávka celk. | J6: Montáž | K6: Montáž celk. | L6: DPH | M6: Cena s DPH | N6: Hmotnost / MJ | O6: Hmotnost celk.(t) | P6: Dem. hmotnost / MJ | Q6: Dem. hmotnost celk.(t) | R6: Ceník | S6: Cen. soustava / platnost | T6: Cenová úroveň | U6: Nhod / MJ | V6: Nhod celk. | W6: Dodavatel | X6: Typ položky | Y6: Stav položky
A8: Díl: | B8: 1 | C8: Zemní práce | G8: =SUMIF(AG9:AG42,"<>NOR",G9:G42) -> 0 | I8: =SUM(I9:I42) -> 0 | K8: =SUM(K9:K42) -> 0 | M8: =SUM(M9:M42) -> 0 | O8: =SUM(O9:O42) -> 0 | Q8: =SUM(Q9:Q42) -> 177.2 | V8: =SUM(V9:V42) -> 76 | AG8: DIL
A9: 1 | B9: 113107625R00 | C9: Odstranění podkladů nebo krytů z kameniva hrubého drceného, v ploše jednotlivě nad 50 m2, tloušťka vrstvy 250 mm | D9: m2 | E9: 206 | F9: =H9+J9 -> 0 | G9: =ROUND(E9*F9,2) -> 0 | I9: =ROUND(E9*H9,2) -> 0 | K9: =ROUND(E9*J9,2) -> 0 | L9: 21 | M9: =G9*(1+L9/100) -> 0 | N9: 0 | O9: =ROUND(E9*N9,2) -> 0 | P9: 0.55 | Q9: =ROUND(E9*P9,2) -> 113.3 | R9: 822-1 | S9: RTS 24/ II | T9: RTS 24/ II | U9: 0.09 | V9: =ROUND(E9*U9,2) -> 18.54 | X9: Práce | Y9: Běžná | AG9: POL1_
C10: Odkaz na mn. položky pořadí 13 : 206,00000 | E10: 206 | AG10: VV | AH10: 5
AG11: SPU
A12: 2 | B12: 113151111R00 | C12: Rozebrání zpevněných ploch rozebrání ploch ze silničních panelů | D12: m2 | E12: 180 | F12: =H12+J12 -> 0 | G12: =ROUND(E12*F12,2) -> 0 | I12: =ROUND(E12*H12,2) -> 0 | K12: =ROUND(E12*J12,2) -> 0 | L12: 21 | M12: =G12*(1+L12/100) -> 0 | N12: 0 | O12: =ROUND(E12*N12,2) -> 0 | P12: 0.355 | Q12: =ROUND(E12*P12,2) -> 63.9 | R12: 800-2 | S12: RTS 24/ II | T12: RTS 24/ II | U12: 0.06 | V12: =ROUND(E12*U12,2) -> 10.8 | X12: Práce | Y12: Běžná | AG12: POL1_
C13: s přemístěním na skládku na vzdálenost do 20 m nebo s naložením na dopravní prostředek, | AG13: SPI
C14: Odkaz na mn. položky pořadí 15 : 180,00000 | E14: 180 | AG14: VV | AH14: 5
AG15: SPU
A16: 3 | B16: 121101102R00 | C16: Sejmutí ornice s přemístěním na vzdálenost přes 50 do 100 m | D16: m3 | E16: 30.9 | F16: =H16+J16 -> 0 | G16: =ROUND(E16*F16,2) -> 0 | I16: =ROUND(E16*H16,2) -> 0 | K16: =ROUND(E16*J16,2) -> 0 | L16: 21 | M16: =G16*(1+L16/100) -> 0 | N16: 0 | O16: =ROUND(E16*N16,2) -> 0 | P16: 0 | Q16: =ROUND(E16*P16,2) -> 0 | R16: 800-1 | S16: RTS 24/ II | T16: RTS 24/ II | U16: 0.03 | V16: =ROUND(E16*U16,2) -> 0.93 | X16: Práce | Y16: Běžná | AG16: POL1_
C17: nebo lesní půdy, s vodorovným přemístěním na hromady v místě upotřebení nebo na dočasné či trvalé skládky se složením | AG17: SPI | BA17: =C17 -> nebo lesní půdy, s vodorovným přemístěním na hromady v místě upotřebení nebo na dočasné či trvalé skládky se složením
C18: plocha pro silniční panely, zaměřeno CAD, celkem těženo 40 cm, ornice 15 cm : 206,00*0,15 | E18: 30.9 | AG18: VV | AH18: 0
AG19: SPU
A20: 4 | B20: 131201111R00 | C20: Hloubení nezapažených jam a zářezů do 100 m3, v hornině 3, hloubení strojně | D20: m3 | E20: 51.5 | F20: =H20+J20 -> 0 | G20: =ROUND(E20*F20,2) -> 0 | I20: =ROUND(E20*H20,2) -> 0 | K20: =ROUND(E20*J20,2) -> 0 | L20: 21 | M20: =G20*(1+L20/100) -> 0 | N20: 0 | O20: =ROUND(E20*N20,2) -> 0 | P20: 0 | Q20: =ROUND(E20*P20,2) -> 0 | R20: 800-1 | S20: RTS 24/ II | T20: RTS 24/ II | U20: 0.12 | V20: =ROUND(E20*U20,2) -> 6.18 | X20: Práce | Y20: Běžná | AG20: POL1_
C21: kromě zářezů se šikmými stěnami pro podzemní vedení, s urovnáním dna do předepsaného profilu a spádu, s případným nutným přemístěním ve výkopišti a dále buď s přemístěním výkopku na přilehlém terénu na vzdálenost do 3 m od okraje jámy nebo s naložením na dopravní prostředek, | AG21: SPI | BA21: =C21 -> kromě zářezů se šikmými stěnami pro podzemní vedení, s urovnáním dna do předepsaného profilu a spádu, s případným nutným přemístěním ve výkopišti a dále buď s přemístěním výkopku na přilehlém terénu na vzdálenost do 3 m od okraje jámy nebo s naložením na dopravní prostředek,
C22: plocha pro silniční panely, zaměřeno CAD, celkem těženo 40 cm, ornice 15 cm, zemina 25 cm : 206,00*0,25 | E22: 51.5 | AG22: VV | AH22: 0
AG23: SPU
A24: 5 | B24: 131201119R00 | C24: Hloubení nezapažených jam a zářezů příplatek za lepivost, v hornině 3, | D24: m3 | E24: 51.5 | F24: =H24+J24 -> 0 | G24: =ROUND(E24*F24,2) -> 0 | I24: =ROUND(E24*H24,2) -> 0 | K24: =ROUND(E24*J24,2) -> 0 | L24: 21 | M24: =G24*(1+L24/100) -> 0 | N24: 0 | O24: =ROUND(E24*N24,2) -> 0 | P24: 0 | Q24: =ROUND(E24*P24,2) -> 0 | R24: 800-1 | S24: RTS 24/ II | T24: RTS 24/ II | U24: 0.04 | V24: =ROUND(E24*U24,2) -> 2.06 | X24: Práce | Y24: Běžná | AG24: POL1_
C25: kromě zářezů se šikmými stěnami pro podzemní vedení, s urovnáním dna do předepsaného profilu a spádu, s případným nutným přemístěním ve výkopišti a dále buď s přemístěním výkopku na přilehlém terénu na vzdálenost do 3 m od okraje jámy nebo s naložením na dopravní prostředek, | AG25: SPI | BA25: =C25 -> kromě zářezů se šikmými stěnami pro podzemní vedení, s urovnáním dna do předepsaného profilu a spádu, s případným nutným přemístěním ve výkopišti a dále buď s přemístěním výkopku na přilehlém terénu na vzdálenost do 3 m od okraje jámy nebo s naložením na dopravní prostředek,
C26: Odkaz na mn. položky pořadí 4 : 51,50000 | E26: 51.5 | AG26: VV | AH26: 5
AG27: SPU
A28: 6 | B28: 171201101R00 | C28: Uložení sypaniny do násypů nezhutněných | D28: m3 | E28: 82.4 | F28: =H28+J28 -> 0 | G28: =ROUND(E28*F28,2) -> 0 | I28: =ROUND(E28*H28,2) -> 0 | K28: =ROUND(E28*J28,2) -> 0 | L28: 21 | M28: =G28*(1+L28/100) -> 0 | N28: 0 | O28: =ROUND(E28*N28,2) -> 0 | P28: 0 | Q28: =ROUND(E28*P28,2) -> 0 | R28: 800-1 | S28: RTS 24/ II | T28: RTS 24/ II | U28: 0.03 | V28: =ROUND(E28*U28,2) -> 2.47 | X28: Práce | Y28: Běžná | AG28: POL1_
C29: Uložení sypaniny do násypů nebo na skládku s rozprostřením sypaniny ve vrstvách a s hrubým urovnáním. | AG29: POP | BA29: =C29 -> Uložení sypaniny do násypů nebo na skládku s rozprostřením sypaniny ve vrstvách a s hrubým urovnáním.
C30: mezideponie ornice a zeminy : | AG30: VV | AH30: 0
C31: Odkaz na mn. položky pořadí 3 : 30,90000 | E31: 30.9 | AG31: VV | AH31: 5
C32: Odkaz na mn. položky pořadí 4 : 51,50000 | E32: 51.5 | AG32: VV | AH32: 5
AG33: SPU
A34: 7 | B34: 181101102R00 | C34: Úprava pláně v zářezech v hornině 1 až 4, se zhutněním | D34: m2 | E34: 206 | F34: =H34+J34 -> 0 | G34: =ROUND(E34*F34,2) -> 0 | I34: =ROUND(E34*H34,2) -> 0 | K34: =ROUND(E34*J34,2) -> 0 | L34: 21 | M34: =G34*(1+L34/100) -> 0 | N34: 0 | O34: =ROUND(E34*N34,2) -> 0 | P34: 0 | Q34: =ROUND(E34*P34,2) -> 0 | R34: 800-1 | S34: RTS 24/ II | T34: RTS 24/ II | U34: 0.02 | V34: =ROUND(E34*U34,2) -> 4.12 | X34: Práce | Y34: Běžná | AG34: POL1_
C35: vyrovnáním výškových rozdílů, ploch vodorovných a ploch do sklonu 1 : 5. | AG35: SPI
C36: plocha pro silniční panely, zaměřeno CAD : 206,00 | E36: 206 | AG36: VV | AH36: 0
AG37: SPU
A38: 8 | B38: 182001131R00 | C38: Plošná úprava terénu při nerovnostech terénu přes 150 do 200 mm, v rovině nebo na svahu do 1:5 | D38: m2 | E38: 206 | F38: =H38+J38 -> 0 | G38: =ROUND(E38*F38,2) -> 0 | I38: =ROUND(E38*H38,2) -> 0 | K38: =ROUND(E38*J38,2) -> 0 | L38: 21 | M38: =G38*(1+L38/100) -> 0 | N38: 0 | O38: =ROUND(E38*N38,2) -> 0 | P38: 0 | Q38: =ROUND(E38*P38,2) -> 0 | R38: 823-1 | S38: RTS 24/ II | T38: RTS 24/ II | U38: 0.15 | V38: =ROUND(E38*U38,2) -> 30.9 | X38: Práce | Y38: Běžná | AG38: POL1_
C39: s urovnáním povrchu, bez doplnění ornice, v hornině 1 až 4, | AG39: SPI
C40: zpětné navrstvení mezideponované zeminy a ornice : | AG40: VV | AH40: 0
C41: Odkaz na mn. položky pořadí 14 : 206,00000 | E41: 206 | AG41: VV | AH41: 5
AG42: SPU
...
